{"text_format":"1","workbook":"xlsx","n_sheets":4,"sheets":["Accueil","Evaluation","Barèmes & Options","Présentation des profils"],"not_rendered":{"charts":0,"images":1,"macros":1,"external_links":0,"defined_names":395,"comments":1,"pivot_tables":0},"unopened":[],"bounds":{"document_bytes":16777216,"sheet_cells":100000,"rows_first":2000,"rows_last":500,"rows_between":2000,"halvings":0,"cell_chars":16384,"cell_head_chars":4096},"cells_cut":0,"cells_raw":0,"read":"whole","date_system":"1900"}

{"sheet":"Accueil","index":0,"n_rows":0,"n_cols":0,"rows_kept":0,"cut":false,"hidden":false,"merged":[]}

{"sheet":"Evaluation","index":1,"n_rows":101,"n_cols":39,"rows_kept":101,"cut":false,"hidden":false,"merged":[[0,0,0,30]]}
["Course de demi-fond CAP-BEP  N3 - 2018"]
[]
["Nom","Prénom","Sexe F ou M","Classe","Profil choisi","500-1","Profil si régulation","500-2","500-2","Points echauffement","Temps Total","profil choisi","500-1","500-2","500-3","c2-c1","c3-c2","c3-c1","respect c1-c2=","respect c1-c2+","respect c1-c2-","respect C2-C3=","respect C2-C3+","respect C2-C3-","Respect Profile 9","points respect","Respect C1","Respect C2","points profil","Points perf","Note",null,null,null,null,null,"Sexe"]
[null,null,null,null,null,null,null,null,null,null,{"$f":"IF(AND(O4<>\"\",N4<>\"\",M4<>\"\"),(INT(((INT($M4)*60)+(($M4-INT($M4))*100)+(INT($N4)*60)+(($N4-INT($N4))*100)+(INT($O4)*60)+(($O4-INT($O4))*100))/60)+MOD(((INT($M4)*60)+(($M4-INT($M4))*100)+(INT($N4)*60)+(($N4-INT($N4))*100)+(INT($O4)*60)+(($O4-INT($O4))*100)),60)/100)*100,\"\")","v":""},{"$f":"IF(AND(E4=\"\",G4=\"\"),\"\",IF(G4=\"\",E4,G4))","v":""},{"$f":"IF(F4<>\"\",INT(F4/100)+((F4/100-INT(F4/100))),\"\")","v":""},{"$f":"IF(H4<>\"\",INT(H4/100)+((H4/100-INT(H4/100))),\"\")","v":""},{"$f":"IF(I4<>\"\",INT(I4/100)+((I4/100-INT(I4/100))),\"\")","v":""},{"$f":"ROUND((INT(N4)*60)+((N4-INT(N4))*100)-((INT(M4)*60)+((M4-INT(M4))*100)),0)","v":{"$error":"#VALUE!"}},{"$f":"ROUND((INT(O4)*60)+((O4-INT(O4))*100)-((INT(N4)*60)+((N4-INT(N4))*100)),0)","v":{"$error":"#VALUE!"}},{"$f":"ROUND((INT(O4)*60)+((O4-INT(O4))*100)-((INT(M4)*60)+((M4-INT(M4))*100)),0)","v":{"$error":"#VALUE!"}},{"$f":"IF(AND(N4<>\"\",M4<>\"\"),IF(OR(L4=1,L4=3,L4=4),IF(ABS(P4)<=3.5,1,0)),\"\")","v":""},{"$f":"IF(AND(N4<>\"\",M4<>\"\"),IF(OR(L4=5,L4=7),IF(P4>0,1,0)),\"\")","v":""},{"$f":"IF(AND(N4<>\"\",M4<>\"\"),IF(OR(L4=2,L4=6,L4=8),IF(P4<0,1,0)),\"\")","v":""},{"$f":"IF(AND(N4<>\"\",O4<>\"\"),IF(OR(L4=1,L4=5,L4=6),IF(ABS(Q4)<=3.5,1,0)),\"\")","v":""},{"$f":"IF(AND(N4<>\"\",O4<>\"\"),IF(OR(L4=4,L4=8),IF(Q4>0,1,0)),\"\")","v":""},{"$f":"IF(AND(N4<>\"\",O4<>\"\"),IF(OR(L4=2,L4=3,L4=7),IF(Q4<0,1,0)),\"\")","v":""},{"$f":"IF(SUM(S4:X4)=2,IF(L4=2,IF(L4=2,IF(R4-'Barèmes & Options'!H$2<-1,0,1)),\"\"),0)","v":0},{"$f":"IF(OR(L4=2,L4=9),SUM(S4:X4)-Y4,SUM(S4:X4))","v":0},{"$f":"IF(OR(S4=1,T4=1,U4=1),TRUE,FALSE)","v":false},{"$f":"IF(OR(V4=1,W4=1,X4=1),TRUE,FALSE)","v":false},{"$f":"IF(L4<>\"\",IF(AND(L4>=1,L4<=8,L4=ABS(L4)),IF(AND(L4<=9,L4>=1),IF(AND(Z4=1,G4<>\"\"),1,IF(AND(Z4=1,G4=\"\"),1.5,IF(AND(Z4=2,G4<>\"\"),2,IF(AND(Z4=2,G4=\"\"),3,0)))),\"\"),\"Err. Profil\"),\"\")","v":""},{"$f":"IF(AND(O4<>\"\",N4<>\"\",M4<>\"\"),IF($C4=\"\",\"\",IF($C4=\"F\",VLOOKUP(ROUND($K4,0)/100,BARF,2),VLOOKUP(ROUND($K4,0)/100,BARG,2))),\"\")","v":""},{"$f":"IF(OR(J4=\"\",AD4=\"\",AC4=\"\"),\"\",IF(OR(J4<0,J4>3),\"Err ech.\",SUM(J4,AD4,AC4)))","v":""},null,"Moyenne F. :",{"$f":"IF(ISERROR(AL4),\"\",AL4)","v":""},null,null,{"$f":"IF(C4<>\"f\",\"m\",\"f\")","v":"m"},{"$f":"AVERAGEIF(AK4:AK101,\"f\",AE4:AE101)","v":{"$error":"#DIV/0!"}},"filles"]
[null,null,null,null,null,null,null,null,null,null,"","","","","",{"$error":"#VALUE!"},{"$error":"#VALUE!"},{"$error":"#VALUE!"},"","","","","","",{"$f":"IF(SUM(S5:X5)=2,IF(L5=2,IF(L5=2,IF(R5-'Barèmes & Options'!H$2<-1,0,1)),\"\"),0)","v":0},0,false,false,{"$f":"IF(L5<>\"\",IF(AND(L5>=1,L5<=8,L5=ABS(L5)),IF(AND(L5<=9,L5>=1),IF(AND(Z5=1,G5<>\"\"),1,IF(AND(Z5=1,G5=\"\"),1.5,IF(AND(Z5=2,G5<>\"\"),2,IF(AND(Z5=2,G5=\"\"),3,0)))),\"\"),\"Err. Profil\"),\"\")","v":""},"","",null,"moyenne G. :",{"$f":"IF(ISERROR(AL5),\"\",AL5)","v":""},null,null,"m",{"$f":"AVERAGEIF(AK4:AK101,\"m\",AE4:AE101)","v":{"$error":"#DIV/0!"}},"garçons"]
[null,null,null,null,null,null,null,null,null,null,"","","","","",{"$error":"#VALUE!"},{"$error":"#VALUE!"},{"$error":"#VALUE!"},"","","","","","",{"$f":"IF(SUM(S6:X6)=2,IF(L6=2,IF(L6=2,IF(R6-'Barèmes & Options'!H$2<-1,0,1)),\"\"),0)","v":0},0,false,false,"","","",null,"Moyenne :",{"$f":"IF(ISERROR(AL6),\"\",AL6)","v":""},null,null,"m",{"$f":"AVERAGE(AE4:AE101)","v":{"$error":"#DIV/0!"}},"géné"]
[null,null,null,null,null,null,null,null,null,null,"","","","","",{"$error":"#VALUE!"},{"$error":"#VALUE!"},{"$error":"#VALUE!"},"","","","","","",{"$f":"IF(SUM(S7:X7)=2,IF(L7=2,IF(L7=2,IF(R7-'Barèmes & Options'!H$2<-1,0,1)),\"\"),0)","v":0},0,false,false,"","","",null,"Note max :",{"$f":"IF(COUNT(AE4:AE101)>0,MAX(AE4:AE101),\"\")","v":""},null,null,"m"]
[null,null,null,null,null,null,null,null,null,null,"","","","","",{"$error":"#VALUE!"},{"$error":"#VALUE!"},{"$error":"#VALUE!"},"","","","","","",{"$f":"IF(SUM(S8:X8)=2,IF(L8=2,IF(L8=2,IF(R8-'Barèmes & Options'!H$2<-1,0,1)),\"\"),0)","v":0},0,false,false,"","","",null,"Note min :",{"$f":"IF(COUNT(AE4:AE101)>0,MIN(AE4:AE101),\"\")","v":""},null,null,"m"]
[null,null,null,null,null,null,null,null,null,null,"","","","","",{"$error":"#VALUE!"},{"$error":"#VALUE!"},{"$error":"#VALUE!"},"","","","","","",{"$f":"IF(SUM(S9:X9)=2,IF(L9=2,IF(L9=2,IF(R9-'Barèmes & Options'!H$2<-1,0,1)),\"\"),0)","v":0},0,false,false,"","","",null,null,null,null,null,"m"]
[null,null,null,null,null,null,null,null,null,null,"","","","","",{"$error":"#VALUE!"},{"$error":"#VALUE!"},{"$error":"#VALUE!"},"","","","","","",{"$f":"IF(SUM(S10:X10)=2,IF(L10=2,IF(L10=2,IF(R10-'Barèmes & Options'!H$2<-1,0,1)),\"\"),0)","v":0},0,false,false,"","","",null,"Date :",null,null,null,"m"]
[null,null,null,null,null,null,null,null,null,null,"","","","","",{"$error":"#VALUE!"},{"$error":"#VALUE!"},{"$error":"#VALUE!"},"","","","","","",{"$f":"IF(SUM(S11:X11)=2,IF(L11=2,IF(L11=2,IF(R11-'Barèmes & Options'!H$2<-1,0,1)),\"\"),0)","v":0},0,false,false,"","","",null,null,null,null,null,"m"]
[null,null,null,null,null,null,null,null,null,null,"","","","","",{"$error":"#VALUE!"},{"$error":"#VALUE!"},{"$error":"#VALUE!"},"","","","","","",{"$f":"IF(SUM(S12:X12)=2,IF(L12=2,IF(L12=2,IF(R12-'Barèmes & Options'!H$2<-1,0,1)),\"\"),0)","v":0},0,false,false,"","","",null,null,null,null,null,"m"]
[null,null,null,null,null,null,null,null,null,null,"","","","","",{"$error":"#VALUE!"},{"$error":"#VALUE!"},{"$error":"#VALUE!"},"","","","","","",{"$f":"IF(SUM(S13:X13)=2,IF(L13=2,IF(L13=2,IF(R13-'Barèmes & Options'!H$2<-1,0,1)),\"\"),0)","v":0},0,false,false,"","","",null,null,null,null,null,"m"]
[null,null,null,null,null,null,null,null,null,null,"","","","","",{"$error":"#VALUE!"},{"$error":"#VALUE!"},{"$error":"#VALUE!"},"","","","","","",{"$f":"IF(SUM(S14:X14)=2,IF(L14=2,IF(L14=2,IF(R14-'Barèmes & Options'!H$2<-1,0,1)),\"\"),0)","v":0},0,false,false,"","","",null,null,null,null,null,"m"]
[null,null,null,null,null,null,null,null,null,null,"","","","","",{"$error":"#VALUE!"},{"$error":"#VALUE!"},{"$error":"#VALUE!"},"","","","","","",{"$f":"IF(SUM(S15:X15)=2,IF(L15=2,IF(L15=2,IF(R15-'Barèmes & Options'!H$2<-1,0,1)),\"\"),0)","v":0},0,false,false,"","","",null,null,null,null,null,"m"]
[null,null,null,null,null,null,null,null,null,null,"","","","","",{"$error":"#VALUE!"},{"$error":"#VALUE!"},{"$error":"#VALUE!"},"","","","","","",{"$f":"IF(SUM(S16:X16)=2,IF(L16=2,IF(L16=2,IF(R16-'Barèmes & Options'!H$2<-1,0,1)),\"\"),0)","v":0},0,false,false,"","","",null,null,null,null,null,"m"]
[null,null,null,null,null,null,null,null,null,null,"","","","","",{"$error":"#VALUE!"},{"$error":"#VALUE!"},{"$error":"#VALUE!"},"","","","","","",{"$f":"IF(SUM(S17:X17)=2,IF(L17=2,IF(L17=2,IF(R17-'Barèmes & Options'!H$2<-1,0,1)),\"\"),0)","v":0},0,false,false,"","","",null,null,null,null,null,"m"]
[null,null,null,null,null,null,null,null,null,null,"","","","","",{"$error":"#VALUE!"},{"$error":"#VALUE!"},{"$error":"#VALUE!"},"","","","","","",{"$f":"IF(SUM(S18:X18)=2,IF(L18=2,IF(L18=2,IF(R18-'Barèmes & Options'!H$2<-1,0,1)),\"\"),0)","v":0},0,false,false,"","","",null,null,null,null,null,"m"]
[null,null,null,null,null,null,null,null,null,null,"","","","","",{"$error":"#VALUE!"},{"$error":"#VALUE!"},{"$error":"#VALUE!"},"","","","","","",{"$f":"IF(SUM(S19:X19)=2,IF(L19=2,IF(L19=2,IF(R19-'Barèmes & Options'!H$2<-1,0,1)),\"\"),0)","v":0},0,false,false,"","","",null,null,null,null,null,"m"]
[null,null,null,null,null,null,null,null,null,null,"","","","","",{"$error":"#VALUE!"},{"$error":"#VALUE!"},{"$error":"#VALUE!"},"","","","","","",{"$f":"IF(SUM(S20:X20)=2,IF(L20=2,IF(L20=2,IF(R20-'Barèmes & Options'!H$2<-1,0,1)),\"\"),0)","v":0},0,false,false,"","","",null,null,null,null,null,"m"]
[null,null,null,null,null,null,null,null,null,null,"","","","","",{"$error":"#VALUE!"},{"$error":"#VALUE!"},{"$error":"#VALUE!"},"","","","","","",{"$f":"IF(SUM(S21:X21)=2,IF(L21=2,IF(L21=2,IF(R21-'Barèmes & Options'!H$2<-1,0,1)),\"\"),0)","v":0},0,false,false,"","","",null,null,null,null,null,"m"]
[null,null,null,null,null,null,null,null,null,null,"","","","","",{"$error":"#VALUE!"},{"$error":"#VALUE!"},{"$error":"#VALUE!"},"","","","","","",{"$f":"IF(SUM(S22:X22)=2,IF(L22=2,IF(L22=2,IF(R22-'Barèmes & Options'!H$2<-1,0,1)),\"\"),0)","v":0},0,false,false,"","","",null,null,null,null,null,"m"]
[null,null,null,null,null,null,null,null,null,null,"","","","","",{"$error":"#VALUE!"},{"$error":"#VALUE!"},{"$error":"#VALUE!"},"","","","","","",{"$f":"IF(SUM(S23:X23)=2,IF(L23=2,IF(L23=2,IF(R23-'Barèmes & Options'!H$2<-1,0,1)),\"\"),0)","v":0},0,false,false,"","","",null,null,null,null,null,"m"]
[null,null,null,null,null,null,null,null,null,null,"","","","","",{"$error":"#VALUE!"},{"$error":"#VALUE!"},{"$error":"#VALUE!"},"","","","","","",{"$f":"IF(SUM(S24:X24)=2,IF(L24=2,IF(L24=2,IF(R24-'Barèmes & Options'!H$2<-1,0,1)),\"\"),0)","v":0},0,false,false,"","","",null,null,null,null,null,"m"]
[null,null,null,null,null,null,null,null,null,null,"","","","","",{"$error":"#VALUE!"},{"$error":"#VALUE!"},{"$error":"#VALUE!"},"","","","","","",{"$f":"IF(SUM(S25:X25)=2,IF(L25=2,IF(L25=2,IF(R25-'Barèmes & Options'!H$2<-1,0,1)),\"\"),0)","v":0},0,false,false,"","","",null,null,null,null,null,"m"]
[null,null,null,null,null,null,null,null,null,null,"","","","","",{"$error":"#VALUE!"},{"$error":"#VALUE!"},{"$error":"#VALUE!"},"","","","","","",{"$f":"IF(SUM(S26:X26)=2,IF(L26=2,IF(L26=2,IF(R26-'Barèmes & Options'!H$2<-1,0,1)),\"\"),0)","v":0},0,false,false,"","","",null,null,null,null,null,"m"]
[null,null,null,null,null,null,null,null,null,null,"","","","","",{"$error":"#VALUE!"},{"$error":"#VALUE!"},{"$error":"#VALUE!"},"","","","","","",{"$f":"IF(SUM(S27:X27)=2,IF(L27=2,IF(L27=2,IF(R27-'Barèmes & Options'!H$2<-1,0,1)),\"\"),0)","v":0},0,false,false,"","","",null,null,null,null,null,"m"]
[null,null,null,null,null,null,null,null,null,null,"","","","","",{"$error":"#VALUE!"},{"$error":"#VALUE!"},{"$error":"#VALUE!"},"","","","","","",{"$f":"IF(SUM(S28:X28)=2,IF(L28=2,IF(L28=2,IF(R28-'Barèmes & Options'!H$2<-1,0,1)),\"\"),0)","v":0},0,false,false,"","","",null,null,null,null,null,"m"]
[null,null,null,null,null,null,null,null,null,null,"","","","","",{"$error":"#VALUE!"},{"$error":"#VALUE!"},{"$error":"#VALUE!"},"","","","","","",{"$f":"IF(SUM(S29:X29)=2,IF(L29=2,IF(L29=2,IF(R29-'Barèmes & Options'!H$2<-1,0,1)),\"\"),0)","v":0},0,false,false,"","","",null,null,null,null,null,"m"]
[null,null,null,null,null,null,null,null,null,null,"","","","","",{"$error":"#VALUE!"},{"$error":"#VALUE!"},{"$error":"#VALUE!"},"","","","","","",{"$f":"IF(SUM(S30:X30)=2,IF(L30=2,IF(L30=2,IF(R30-'Barèmes & Options'!H$2<-1,0,1)),\"\"),0)","v":0},0,false,false,"","","",null,null,null,null,null,"m"]
[null,null,null,null,null,null,null,null,null,null,"","","","","",{"$error":"#VALUE!"},{"$error":"#VALUE!"},{"$error":"#VALUE!"},"","","","","","",{"$f":"IF(SUM(S31:X31)=2,IF(L31=2,IF(L31=2,IF(R31-'Barèmes & Options'!H$2<-1,0,1)),\"\"),0)","v":0},0,false,false,"","","",null,null,null,null,null,"m"]
[null,null,null,null,null,null,null,null,null,null,"","","","","",{"$error":"#VALUE!"},{"$error":"#VALUE!"},{"$error":"#VALUE!"},"","","","","","",{"$f":"IF(SUM(S32:X32)=2,IF(L32=2,IF(L32=2,IF(R32-'Barèmes & Options'!H$2<-1,0,1)),\"\"),0)","v":0},0,false,false,"","","",null,null,null,null,null,"m"]
[null,null,null,null,null,null,null,null,null,null,"","","","","",{"$error":"#VALUE!"},{"$error":"#VALUE!"},{"$error":"#VALUE!"},"","","","","","",{"$f":"IF(SUM(S33:X33)=2,IF(L33=2,IF(L33=2,IF(R33-'Barèmes & Options'!H$2<-1,0,1)),\"\"),0)","v":0},0,false,false,"","","",null,null,null,null,null,"m"]
[null,null,null,null,null,null,null,null,null,null,"","","","","",{"$error":"#VALUE!"},{"$error":"#VALUE!"},{"$error":"#VALUE!"},"","","","","","",{"$f":"IF(SUM(S34:X34)=2,IF(L34=2,IF(L34=2,IF(R34-'Barèmes & Options'!H$2<-1,0,1)),\"\"),0)","v":0},0,false,false,"","","",null,null,null,null,null,"m"]
[null,null,null,null,null,null,null,null,null,null,"","","","","",{"$error":"#VALUE!"},{"$error":"#VALUE!"},{"$error":"#VALUE!"},"","","","","","",{"$f":"IF(SUM(S35:X35)=2,IF(L35=2,IF(L35=2,IF(R35-'Barèmes & Options'!H$2<-1,0,1)),\"\"),0)","v":0},0,false,false,"","","",null,null,null,null,null,"m"]
[null,null,null,null,null,null,null,null,null,null,{"$f":"IF(AND(O36<>\"\",N36<>\"\",M36<>\"\"),(INT(((INT($M36)*60)+(($M36-INT($M36))*100)+(INT($N36)*60)+(($N36-INT($N36))*100)+(INT($O36)*60)+(($O36-INT($O36))*100))/60)+MOD(((INT($M36)*60)+(($M36-INT($M36))*100)+(INT($N36)*60)+(($N36-INT($N36))*100)+(INT($O36)*60)+(($O36-INT($O36))*100)),60)/100)*100,\"\")","v":""},{"$f":"IF(AND(E36=\"\",G36=\"\"),\"\",IF(G36=\"\",E36,G36))","v":""},{"$f":"IF(F36<>\"\",INT(F36/100)+((F36/100-INT(F36/100))),\"\")","v":""},{"$f":"IF(H36<>\"\",INT(H36/100)+((H36/100-INT(H36/100))),\"\")","v":""},{"$f":"IF(I36<>\"\",INT(I36/100)+((I36/100-INT(I36/100))),\"\")","v":""},{"$f":"ROUND((INT(N36)*60)+((N36-INT(N36))*100)-((INT(M36)*60)+((M36-INT(M36))*100)),0)","v":{"$error":"#VALUE!"}},{"$f":"ROUND((INT(O36)*60)+((O36-INT(O36))*100)-((INT(N36)*60)+((N36-INT(N36))*100)),0)","v":{"$error":"#VALUE!"}},{"$f":"ROUND((INT(O36)*60)+((O36-INT(O36))*100)-((INT(M36)*60)+((M36-INT(M36))*100)),0)","v":{"$error":"#VALUE!"}},{"$f":"IF(AND(N36<>\"\",M36<>\"\"),IF(OR(L36=1,L36=3,L36=4),IF(ABS(P36)<=3.5,1,0)),\"\")","v":""},{"$f":"IF(AND(N36<>\"\",M36<>\"\"),IF(OR(L36=5,L36=7),IF(P36>0,1,0)),\"\")","v":""},{"$f":"IF(AND(N36<>\"\",M36<>\"\"),IF(OR(L36=2,L36=6,L36=8),IF(P36<0,1,0)),\"\")","v":""},{"$f":"IF(AND(N36<>\"\",O36<>\"\"),IF(OR(L36=1,L36=5,L36=6),IF(ABS(Q36)<=3.5,1,0)),\"\")","v":""},{"$f":"IF(AND(N36<>\"\",O36<>\"\"),IF(OR(L36=4,L36=8),IF(Q36>0,1,0)),\"\")","v":""},{"$f":"IF(AND(N36<>\"\",O36<>\"\"),IF(OR(L36=2,L36=3,L36=7),IF(Q36<0,1,0)),\"\")","v":""},{"$f":"IF(SUM(S36:X36)=2,IF(L36=2,IF(L36=2,IF(R36-'Barèmes & Options'!H$2<-1,0,1)),\"\"),0)","v":0},{"$f":"IF(OR(L36=2,L36=9),SUM(S36:X36)-Y36,SUM(S36:X36))","v":0},false,false,"",{"$f":"IF(AND(O36<>\"\",N36<>\"\",M36<>\"\"),IF($C36=\"\",\"\",IF($C36=\"F\",VLOOKUP(ROUND($K36,0)/100,BARF,2),VLOOKUP(ROUND($K36,0)/100,BARG,2))),\"\")","v":""},{"$f":"IF(OR(J36=\"\",AD36=\"\",AC36=\"\"),\"\",IF(OR(J36<0,J36>3),\"Err ech.\",SUM(J36,AD36,AC36)))","v":""},null,null,null,null,null,{"$f":"IF(C36<>\"f\",\"m\",\"f\")","v":"m"}]
[null,null,null,null,null,null,null,null,null,null,"","","","","",{"$error":"#VALUE!"},{"$error":"#VALUE!"},{"$error":"#VALUE!"},"","","","","","",{"$f":"IF(SUM(S37:X37)=2,IF(L37=2,IF(L37=2,IF(R37-'Barèmes & Options'!H$2<-1,0,1)),\"\"),0)","v":0},0,false,false,"","","",null,null,null,null,null,"m"]
[null,null,null,null,null,null,null,null,null,null,"","","","","",{"$error":"#VALUE!"},{"$error":"#VALUE!"},{"$error":"#VALUE!"},"","","","","","",{"$f":"IF(SUM(S38:X38)=2,IF(L38=2,IF(L38=2,IF(R38-'Barèmes & Options'!H$2<-1,0,1)),\"\"),0)","v":0},0,false,false,"","","",null,null,null,null,null,"m"]
[null,null,null,null,null,null,null,null,null,null,"","","","","",{"$error":"#VALUE!"},{"$error":"#VALUE!"},{"$error":"#VALUE!"},"","","","","","",{"$f":"IF(SUM(S39:X39)=2,IF(L39=2,IF(L39=2,IF(R39-'Barèmes & Options'!H$2<-1,0,1)),\"\"),0)","v":0},0,false,false,"","","",null,null,null,null,null,"m"]
[null,null,null,null,null,null,null,null,null,null,"","","","","",{"$error":"#VALUE!"},{"$error":"#VALUE!"},{"$error":"#VALUE!"},"","","","","","",{"$f":"IF(SUM(S40:X40)=2,IF(L40=2,IF(L40=2,IF(R40-'Barèmes & Options'!H$2<-1,0,1)),\"\"),0)","v":0},0,false,false,"","","",null,null,null,null,null,"m"]
[null,null,null,null,null,null,null,null,null,null,"","","","","",{"$error":"#VALUE!"},{"$error":"#VALUE!"},{"$error":"#VALUE!"},"","","","","","",{"$f":"IF(SUM(S41:X41)=2,IF(L41=2,IF(L41=2,IF(R41-'Barèmes & Options'!H$2<-1,0,1)),\"\"),0)","v":0},0,false,false,"","","",null,null,null,null,null,"m"]
[null,null,null,null,null,null,null,null,null,null,"","","","","",{"$error":"#VALUE!"},{"$error":"#VALUE!"},{"$error":"#VALUE!"},"","","","","","",{"$f":"IF(SUM(S42:X42)=2,IF(L42=2,IF(L42=2,IF(R42-'Barèmes & Options'!H$2<-1,0,1)),\"\"),0)","v":0},0,false,false,"","","",null,null,null,null,null,"m"]
[null,null,null,null,null,null,null,null,null,null,"","","","","",{"$error":"#VALUE!"},{"$error":"#VALUE!"},{"$error":"#VALUE!"},"","","","","","",{"$f":"IF(SUM(S43:X43)=2,IF(L43=2,IF(L43=2,IF(R43-'Barèmes & Options'!H$2<-1,0,1)),\"\"),0)","v":0},0,false,false,"","","",null,null,null,null,null,"m"]
[null,null,null,null,null,null,null,null,null,null,"","","","","",{"$error":"#VALUE!"},{"$error":"#VALUE!"},{"$error":"#VALUE!"},"","","","","","",{"$f":"IF(SUM(S44:X44)=2,IF(L44=2,IF(L44=2,IF(R44-'Barèmes & Options'!H$2<-1,0,1)),\"\"),0)","v":0},0,false,false,"","","",null,null,null,null,null,"m"]
[null,null,null,null,null,null,null,null,null,null,"","","","","",{"$error":"#VALUE!"},{"$error":"#VALUE!"},{"$error":"#VALUE!"},"","","","","","",{"$f":"IF(SUM(S45:X45)=2,IF(L45=2,IF(L45=2,IF(R45-'Barèmes & Options'!H$2<-1,0,1)),\"\"),0)","v":0},0,false,false,"","","",null,null,null,null,null,"m"]
[null,null,null,null,null,null,null,null,null,null,"","","","","",{"$error":"#VALUE!"},{"$error":"#VALUE!"},{"$error":"#VALUE!"},"","","","","","",{"$f":"IF(SUM(S46:X46)=2,IF(L46=2,IF(L46=2,IF(R46-'Barèmes & Options'!H$2<-1,0,1)),\"\"),0)","v":0},0,false,false,"","","",null,null,null,null,null,"m"]
[null,null,null,null,null,null,null,null,null,null,"","","","","",{"$error":"#VALUE!"},{"$error":"#VALUE!"},{"$error":"#VALUE!"},"","","","","","",{"$f":"IF(SUM(S47:X47)=2,IF(L47=2,IF(L47=2,IF(R47-'Barèmes & Options'!H$2<-1,0,1)),\"\"),0)","v":0},0,false,false,"","","",null,null,null,null,null,"m"]
[null,null,null,null,null,null,null,null,null,null,"","","","","",{"$error":"#VALUE!"},{"$error":"#VALUE!"},{"$error":"#VALUE!"},"","","","","","",{"$f":"IF(SUM(S48:X48)=2,IF(L48=2,IF(L48=2,IF(R48-'Barèmes & Options'!H$2<-1,0,1)),\"\"),0)","v":0},0,false,false,"","","",null,null,null,null,null,"m"]
[null,null,null,null,null,null,null,null,null,null,"","","","","",{"$error":"#VALUE!"},{"$error":"#VALUE!"},{"$error":"#VALUE!"},"","","","","","",{"$f":"IF(SUM(S49:X49)=2,IF(L49=2,IF(L49=2,IF(R49-'Barèmes & Options'!H$2<-1,0,1)),\"\"),0)","v":0},0,false,false,"","","",null,null,null,null,null,"m"]
[null,null,null,null,null,null,null,null,null,null,"","","","","",{"$error":"#VALUE!"},{"$error":"#VALUE!"},{"$error":"#VALUE!"},"","","","","","",{"$f":"IF(SUM(S50:X50)=2,IF(L50=2,IF(L50=2,IF(R50-'Barèmes & Options'!H$2<-1,0,1)),\"\"),0)","v":0},0,false,false,"","","",null,null,null,null,null,"m"]
[null,null,null,null,null,null,null,null,null,null,"","","","","",{"$error":"#VALUE!"},{"$error":"#VALUE!"},{"$error":"#VALUE!"},"","","","","","",{"$f":"IF(SUM(S51:X51)=2,IF(L51=2,IF(L51=2,IF(R51-'Barèmes & Options'!H$2<-1,0,1)),\"\"),0)","v":0},0,false,false,"","","",null,null,null,null,null,"m"]
[null,null,null,null,null,null,null,null,null,null,"","","","","",{"$error":"#VALUE!"},{"$error":"#VALUE!"},{"$error":"#VALUE!"},"","","","","","",{"$f":"IF(SUM(S52:X52)=2,IF(L52=2,IF(L52=2,IF(R52-'Barèmes & Options'!H$2<-1,0,1)),\"\"),0)","v":0},0,false,false,"","","",null,null,null,null,null,"m"]
[null,null,null,null,null,null,null,null,null,null,"","","","","",{"$error":"#VALUE!"},{"$error":"#VALUE!"},{"$error":"#VALUE!"},"","","","","","",{"$f":"IF(SUM(S53:X53)=2,IF(L53=2,IF(L53=2,IF(R53-'Barèmes & Options'!H$2<-1,0,1)),\"\"),0)","v":0},0,false,false,"","","",null,null,null,null,null,"m"]
[null,null,null,null,null,null,null,null,null,null,"","","","","",{"$error":"#VALUE!"},{"$error":"#VALUE!"},{"$error":"#VALUE!"},"","","","","","",{"$f":"IF(SUM(S54:X54)=2,IF(L54=2,IF(L54=2,IF(R54-'Barèmes & Options'!H$2<-1,0,1)),\"\"),0)","v":0},0,false,false,"","","",null,null,null,null,null,"m"]
[null,null,null,null,null,null,null,null,null,null,"","","","","",{"$error":"#VALUE!"},{"$error":"#VALUE!"},{"$error":"#VALUE!"},"","","","","","",{"$f":"IF(SUM(S55:X55)=2,IF(L55=2,IF(L55=2,IF(R55-'Barèmes & Options'!H$2<-1,0,1)),\"\"),0)","v":0},0,false,false,"","","",null,null,null,null,null,"m"]
[null,null,null,null,null,null,null,null,null,null,"","","","","",{"$error":"#VALUE!"},{"$error":"#VALUE!"},{"$error":"#VALUE!"},"","","","","","",{"$f":"IF(SUM(S56:X56)=2,IF(L56=2,IF(L56=2,IF(R56-'Barèmes & Options'!H$2<-1,0,1)),\"\"),0)","v":0},0,false,false,"","","",null,null,null,null,null,"m"]
[null,null,null,null,null,null,null,null,null,null,"","","","","",{"$error":"#VALUE!"},{"$error":"#VALUE!"},{"$error":"#VALUE!"},"","","","","","",{"$f":"IF(SUM(S57:X57)=2,IF(L57=2,IF(L57=2,IF(R57-'Barèmes & Options'!H$2<-1,0,1)),\"\"),0)","v":0},0,false,false,"","","",null,null,null,null,null,"m"]
[null,null,null,null,null,null,null,null,null,null,"","","","","",{"$error":"#VALUE!"},{"$error":"#VALUE!"},{"$error":"#VALUE!"},"","","","","","",{"$f":"IF(SUM(S58:X58)=2,IF(L58=2,IF(L58=2,IF(R58-'Barèmes & Options'!H$2<-1,0,1)),\"\"),0)","v":0},0,false,false,"","","",null,null,null,null,null,"m"]
[null,null,null,null,null,null,null,null,null,null,"","","","","",{"$error":"#VALUE!"},{"$error":"#VALUE!"},{"$error":"#VALUE!"},"","","","","","",{"$f":"IF(SUM(S59:X59)=2,IF(L59=2,IF(L59=2,IF(R59-'Barèmes & Options'!H$2<-1,0,1)),\"\"),0)","v":0},0,false,false,"","","",null,null,null,null,null,"m"]
[null,null,null,null,null,null,null,null,null,null,"","","","","",{"$error":"#VALUE!"},{"$error":"#VALUE!"},{"$error":"#VALUE!"},"","","","","","",{"$f":"IF(SUM(S60:X60)=2,IF(L60=2,IF(L60=2,IF(R60-'Barèmes & Options'!H$2<-1,0,1)),\"\"),0)","v":0},0,false,false,"","","",null,null,null,null,null,"m"]
[null,null,null,null,null,null,null,null,null,null,"","","","","",{"$error":"#VALUE!"},{"$error":"#VALUE!"},{"$error":"#VALUE!"},"","","","","","",{"$f":"IF(SUM(S61:X61)=2,IF(L61=2,IF(L61=2,IF(R61-'Barèmes & Options'!H$2<-1,0,1)),\"\"),0)","v":0},0,false,false,"","","",null,null,null,null,null,"m"]
[null,null,null,null,null,null,null,null,null,null,"","","","","",{"$error":"#VALUE!"},{"$error":"#VALUE!"},{"$error":"#VALUE!"},"","","","","","",{"$f":"IF(SUM(S62:X62)=2,IF(L62=2,IF(L62=2,IF(R62-'Barèmes & Options'!H$2<-1,0,1)),\"\"),0)","v":0},0,false,false,"","","",null,null,null,null,null,"m"]
[null,null,null,null,null,null,null,null,null,null,"","","","","",{"$error":"#VALUE!"},{"$error":"#VALUE!"},{"$error":"#VALUE!"},"","","","","","",{"$f":"IF(SUM(S63:X63)=2,IF(L63=2,IF(L63=2,IF(R63-'Barèmes & Options'!H$2<-1,0,1)),\"\"),0)","v":0},0,false,false,"","","",null,null,null,null,null,"m"]
[null,null,null,null,null,null,null,null,null,null,"","","","","",{"$error":"#VALUE!"},{"$error":"#VALUE!"},{"$error":"#VALUE!"},"","","","","","",{"$f":"IF(SUM(S64:X64)=2,IF(L64=2,IF(L64=2,IF(R64-'Barèmes & Options'!H$2<-1,0,1)),\"\"),0)","v":0},0,false,false,"","","",null,null,null,null,null,"m"]
[null,null,null,null,null,null,null,null,null,null,"","","","","",{"$error":"#VALUE!"},{"$error":"#VALUE!"},{"$error":"#VALUE!"},"","","","","","",{"$f":"IF(SUM(S65:X65)=2,IF(L65=2,IF(L65=2,IF(R65-'Barèmes & Options'!H$2<-1,0,1)),\"\"),0)","v":0},0,false,false,"","","",null,null,null,null,null,"m"]
[null,null,null,null,null,null,null,null,null,null,"","","","","",{"$error":"#VALUE!"},{"$error":"#VALUE!"},{"$error":"#VALUE!"},"","","","","","",{"$f":"IF(SUM(S66:X66)=2,IF(L66=2,IF(L66=2,IF(R66-'Barèmes & Options'!H$2<-1,0,1)),\"\"),0)","v":0},0,false,false,"","","",null,null,null,null,null,"m"]
[null,null,null,null,null,null,null,null,null,null,"","","","","",{"$error":"#VALUE!"},{"$error":"#VALUE!"},{"$error":"#VALUE!"},"","","","","","",{"$f":"IF(SUM(S67:X67)=2,IF(L67=2,IF(L67=2,IF(R67-'Barèmes & Options'!H$2<-1,0,1)),\"\"),0)","v":0},0,false,false,"","","",null,null,null,null,null,"m"]
[null,null,null,null,null,null,null,null,null,null,{"$f":"IF(AND(O68<>\"\",N68<>\"\",M68<>\"\"),(INT(((INT($M68)*60)+(($M68-INT($M68))*100)+(INT($N68)*60)+(($N68-INT($N68))*100)+(INT($O68)*60)+(($O68-INT($O68))*100))/60)+MOD(((INT($M68)*60)+(($M68-INT($M68))*100)+(INT($N68)*60)+(($N68-INT($N68))*100)+(INT($O68)*60)+(($O68-INT($O68))*100)),60)/100)*100,\"\")","v":""},{"$f":"IF(AND(E68=\"\",G68=\"\"),\"\",IF(G68=\"\",E68,G68))","v":""},{"$f":"IF(F68<>\"\",INT(F68/100)+((F68/100-INT(F68/100))),\"\")","v":""},{"$f":"IF(H68<>\"\",INT(H68/100)+((H68/100-INT(H68/100))),\"\")","v":""},{"$f":"IF(I68<>\"\",INT(I68/100)+((I68/100-INT(I68/100))),\"\")","v":""},{"$f":"ROUND((INT(N68)*60)+((N68-INT(N68))*100)-((INT(M68)*60)+((M68-INT(M68))*100)),0)","v":{"$error":"#VALUE!"}},{"$f":"ROUND((INT(O68)*60)+((O68-INT(O68))*100)-((INT(N68)*60)+((N68-INT(N68))*100)),0)","v":{"$error":"#VALUE!"}},{"$f":"ROUND((INT(O68)*60)+((O68-INT(O68))*100)-((INT(M68)*60)+((M68-INT(M68))*100)),0)","v":{"$error":"#VALUE!"}},{"$f":"IF(AND(N68<>\"\",M68<>\"\"),IF(OR(L68=1,L68=3,L68=4),IF(ABS(P68)<=3.5,1,0)),\"\")","v":""},{"$f":"IF(AND(N68<>\"\",M68<>\"\"),IF(OR(L68=5,L68=7),IF(P68>0,1,0)),\"\")","v":""},{"$f":"IF(AND(N68<>\"\",M68<>\"\"),IF(OR(L68=2,L68=6,L68=8),IF(P68<0,1,0)),\"\")","v":""},{"$f":"IF(AND(N68<>\"\",O68<>\"\"),IF(OR(L68=1,L68=5,L68=6),IF(ABS(Q68)<=3.5,1,0)),\"\")","v":""},{"$f":"IF(AND(N68<>\"\",O68<>\"\"),IF(OR(L68=4,L68=8),IF(Q68>0,1,0)),\"\")","v":""},{"$f":"IF(AND(N68<>\"\",O68<>\"\"),IF(OR(L68=2,L68=3,L68=7),IF(Q68<0,1,0)),\"\")","v":""},{"$f":"IF(SUM(S68:X68)=2,IF(L68=2,IF(L68=2,IF(R68-'Barèmes & Options'!H$2<-1,0,1)),\"\"),0)","v":0},{"$f":"IF(OR(L68=2,L68=9),SUM(S68:X68)-Y68,SUM(S68:X68))","v":0},{"$f":"IF(OR(S68=1,T68=1,U68=1),TRUE,FALSE)","v":false},{"$f":"IF(OR(V68=1,W68=1,X68=1),TRUE,FALSE)","v":false},"",{"$f":"IF(AND(O68<>\"\",N68<>\"\",M68<>\"\"),IF($C68=\"\",\"\",IF($C68=\"F\",VLOOKUP(ROUND($K68,0)/100,BARF,2),VLOOKUP(ROUND($K68,0)/100,BARG,2))),\"\")","v":""},{"$f":"IF(OR(J68=\"\",AD68=\"\",AC68=\"\"),\"\",IF(OR(J68<0,J68>3),\"Err ech.\",SUM(J68,AD68,AC68)))","v":""},null,null,null,null,null,{"$f":"IF(C68<>\"f\",\"m\",\"f\")","v":"m"}]
[null,null,null,null,null,null,null,null,null,null,"","","","","",{"$error":"#VALUE!"},{"$error":"#VALUE!"},{"$error":"#VALUE!"},"","","","","","",{"$f":"IF(SUM(S69:X69)=2,IF(L69=2,IF(L69=2,IF(R69-'Barèmes & Options'!H$2<-1,0,1)),\"\"),0)","v":0},0,false,false,{"$f":"IF(L69<>\"\",IF(AND(L69>=1,L69<=8,L69=ABS(L69)),IF(AND(L69<=9,L69>=1),IF(AND(Z69=1,G69<>\"\"),1,IF(AND(Z69=1,G69=\"\"),1.5,IF(AND(Z69=2,G69<>\"\"),2,IF(AND(Z69=2,G69=\"\"),3,0)))),\"\"),\"Err. Profil\"),\"\")","v":""},"","",null,null,null,null,null,"m"]
[null,null,null,null,null,null,null,null,null,null,"","","","","",{"$error":"#VALUE!"},{"$error":"#VALUE!"},{"$error":"#VALUE!"},"","","","","","",{"$f":"IF(SUM(S70:X70)=2,IF(L70=2,IF(L70=2,IF(R70-'Barèmes & Options'!H$2<-1,0,1)),\"\"),0)","v":0},0,false,false,"","","",null,null,null,null,null,"m"]
[null,null,null,null,null,null,null,null,null,null,"","","","","",{"$error":"#VALUE!"},{"$error":"#VALUE!"},{"$error":"#VALUE!"},"","","","","","",{"$f":"IF(SUM(S71:X71)=2,IF(L71=2,IF(L71=2,IF(R71-'Barèmes & Options'!H$2<-1,0,1)),\"\"),0)","v":0},0,false,false,"","","",null,null,null,null,null,"m"]
[null,null,null,null,null,null,null,null,null,null,"","","","","",{"$error":"#VALUE!"},{"$error":"#VALUE!"},{"$error":"#VALUE!"},"","","","","","",{"$f":"IF(SUM(S72:X72)=2,IF(L72=2,IF(L72=2,IF(R72-'Barèmes & Options'!H$2<-1,0,1)),\"\"),0)","v":0},0,false,false,"","","",null,null,null,null,null,"m"]
[null,null,null,null,null,null,null,null,null,null,"","","","","",{"$error":"#VALUE!"},{"$error":"#VALUE!"},{"$error":"#VALUE!"},"","","","","","",{"$f":"IF(SUM(S73:X73)=2,IF(L73=2,IF(L73=2,IF(R73-'Barèmes & Options'!H$2<-1,0,1)),\"\"),0)","v":0},0,false,false,"","","",null,null,null,null,null,"m"]
[null,null,null,null,null,null,null,null,null,null,"","","","","",{"$error":"#VALUE!"},{"$error":"#VALUE!"},{"$error":"#VALUE!"},"","","","","","",{"$f":"IF(SUM(S74:X74)=2,IF(L74=2,IF(L74=2,IF(R74-'Barèmes & Options'!H$2<-1,0,1)),\"\"),0)","v":0},0,false,false,"","","",null,null,null,null,null,"m"]
[null,null,null,null,null,null,null,null,null,null,"","","","","",{"$error":"#VALUE!"},{"$error":"#VALUE!"},{"$error":"#VALUE!"},"","","","","","",{"$f":"IF(SUM(S75:X75)=2,IF(L75=2,IF(L75=2,IF(R75-'Barèmes & Options'!H$2<-1,0,1)),\"\"),0)","v":0},0,false,false,"","","",null,null,null,null,null,"m"]
[null,null,null,null,null,null,null,null,null,null,"","","","","",{"$error":"#VALUE!"},{"$error":"#VALUE!"},{"$error":"#VALUE!"},"","","","","","",{"$f":"IF(SUM(S76:X76)=2,IF(L76=2,IF(L76=2,IF(R76-'Barèmes & Options'!H$2<-1,0,1)),\"\"),0)","v":0},0,false,false,"","","",null,null,null,null,null,"m"]
[null,null,null,null,null,null,null,null,null,null,"","","","","",{"$error":"#VALUE!"},{"$error":"#VALUE!"},{"$error":"#VALUE!"},"","","","","","",{"$f":"IF(SUM(S77:X77)=2,IF(L77=2,IF(L77=2,IF(R77-'Barèmes & Options'!H$2<-1,0,1)),\"\"),0)","v":0},0,false,false,"","","",null,null,null,null,null,"m"]
[null,null,null,null,null,null,null,null,null,null,"","","","","",{"$error":"#VALUE!"},{"$error":"#VALUE!"},{"$error":"#VALUE!"},"","","","","","",{"$f":"IF(SUM(S78:X78)=2,IF(L78=2,IF(L78=2,IF(R78-'Barèmes & Options'!H$2<-1,0,1)),\"\"),0)","v":0},0,false,false,"","","",null,null,null,null,null,"m"]
[null,null,null,null,null,null,null,null,null,null,"","","","","",{"$error":"#VALUE!"},{"$error":"#VALUE!"},{"$error":"#VALUE!"},"","","","","","",{"$f":"IF(SUM(S79:X79)=2,IF(L79=2,IF(L79=2,IF(R79-'Barèmes & Options'!H$2<-1,0,1)),\"\"),0)","v":0},0,false,false,"","","",null,null,null,null,null,"m"]
[null,null,null,null,null,null,null,null,null,null,"","","","","",{"$error":"#VALUE!"},{"$error":"#VALUE!"},{"$error":"#VALUE!"},"","","","","","",{"$f":"IF(SUM(S80:X80)=2,IF(L80=2,IF(L80=2,IF(R80-'Barèmes & Options'!H$2<-1,0,1)),\"\"),0)","v":0},0,false,false,"","","",null,null,null,null,null,"m"]
[null,null,null,null,null,null,null,null,null,null,"","","","","",{"$error":"#VALUE!"},{"$error":"#VALUE!"},{"$error":"#VALUE!"},"","","","","","",{"$f":"IF(SUM(S81:X81)=2,IF(L81=2,IF(L81=2,IF(R81-'Barèmes & Options'!H$2<-1,0,1)),\"\"),0)","v":0},0,false,false,"","","",null,null,null,null,null,"m"]
[null,null,null,null,null,null,null,null,null,null,"","","","","",{"$error":"#VALUE!"},{"$error":"#VALUE!"},{"$error":"#VALUE!"},"","","","","","",{"$f":"IF(SUM(S82:X82)=2,IF(L82=2,IF(L82=2,IF(R82-'Barèmes & Options'!H$2<-1,0,1)),\"\"),0)","v":0},0,false,false,"","","",null,null,null,null,null,"m"]
[null,null,null,null,null,null,null,null,null,null,"","","","","",{"$error":"#VALUE!"},{"$error":"#VALUE!"},{"$error":"#VALUE!"},"","","","","","",{"$f":"IF(SUM(S83:X83)=2,IF(L83=2,IF(L83=2,IF(R83-'Barèmes & Options'!H$2<-1,0,1)),\"\"),0)","v":0},0,false,false,"","","",null,null,null,null,null,"m"]
[null,null,null,null,null,null,null,null,null,null,"","","","","",{"$error":"#VALUE!"},{"$error":"#VALUE!"},{"$error":"#VALUE!"},"","","","","","",{"$f":"IF(SUM(S84:X84)=2,IF(L84=2,IF(L84=2,IF(R84-'Barèmes & Options'!H$2<-1,0,1)),\"\"),0)","v":0},0,false,false,"","","",null,null,null,null,null,"m"]
[null,null,null,null,null,null,null,null,null,null,"","","","","",{"$error":"#VALUE!"},{"$error":"#VALUE!"},{"$error":"#VALUE!"},"","","","","","",{"$f":"IF(SUM(S85:X85)=2,IF(L85=2,IF(L85=2,IF(R85-'Barèmes & Options'!H$2<-1,0,1)),\"\"),0)","v":0},0,false,false,"","","",null,null,null,null,null,"m"]
[null,null,null,null,null,null,null,null,null,null,"","","","","",{"$error":"#VALUE!"},{"$error":"#VALUE!"},{"$error":"#VALUE!"},"","","","","","",{"$f":"IF(SUM(S86:X86)=2,IF(L86=2,IF(L86=2,IF(R86-'Barèmes & Options'!H$2<-1,0,1)),\"\"),0)","v":0},0,false,false,"","","",null,null,null,null,null,"m"]
[null,null,null,null,null,null,null,null,null,null,"","","","","",{"$error":"#VALUE!"},{"$error":"#VALUE!"},{"$error":"#VALUE!"},"","","","","","",{"$f":"IF(SUM(S87:X87)=2,IF(L87=2,IF(L87=2,IF(R87-'Barèmes & Options'!H$2<-1,0,1)),\"\"),0)","v":0},0,false,false,"","","",null,null,null,null,null,"m"]
[null,null,null,null,null,null,null,null,null,null,"","","","","",{"$error":"#VALUE!"},{"$error":"#VALUE!"},{"$error":"#VALUE!"},"","","","","","",{"$f":"IF(SUM(S88:X88)=2,IF(L88=2,IF(L88=2,IF(R88-'Barèmes & Options'!H$2<-1,0,1)),\"\"),0)","v":0},0,false,false,"","","",null,null,null,null,null,"m"]
[null,null,null,null,null,null,null,null,null,null,"","","","","",{"$error":"#VALUE!"},{"$error":"#VALUE!"},{"$error":"#VALUE!"},"","","","","","",{"$f":"IF(SUM(S89:X89)=2,IF(L89=2,IF(L89=2,IF(R89-'Barèmes & Options'!H$2<-1,0,1)),\"\"),0)","v":0},0,false,false,"","","",null,null,null,null,null,"m"]
[null,null,null,null,null,null,null,null,null,null,"","","","","",{"$error":"#VALUE!"},{"$error":"#VALUE!"},{"$error":"#VALUE!"},"","","","","","",{"$f":"IF(SUM(S90:X90)=2,IF(L90=2,IF(L90=2,IF(R90-'Barèmes & Options'!H$2<-1,0,1)),\"\"),0)","v":0},0,false,false,"","","",null,null,null,null,null,"m"]
[null,null,null,null,null,null,null,null,null,null,"","","","","",{"$error":"#VALUE!"},{"$error":"#VALUE!"},{"$error":"#VALUE!"},"","","","","","",{"$f":"IF(SUM(S91:X91)=2,IF(L91=2,IF(L91=2,IF(R91-'Barèmes & Options'!H$2<-1,0,1)),\"\"),0)","v":0},0,false,false,"","","",null,null,null,null,null,"m"]
[null,null,null,null,null,null,null,null,null,null,"","","","","",{"$error":"#VALUE!"},{"$error":"#VALUE!"},{"$error":"#VALUE!"},"","","","","","",{"$f":"IF(SUM(S92:X92)=2,IF(L92=2,IF(L92=2,IF(R92-'Barèmes & Options'!H$2<-1,0,1)),\"\"),0)","v":0},0,false,false,"","","",null,null,null,null,null,"m"]
[null,null,null,null,null,null,null,null,null,null,"","","","","",{"$error":"#VALUE!"},{"$error":"#VALUE!"},{"$error":"#VALUE!"},"","","","","","",{"$f":"IF(SUM(S93:X93)=2,IF(L93=2,IF(L93=2,IF(R93-'Barèmes & Options'!H$2<-1,0,1)),\"\"),0)","v":0},0,false,false,"","","",null,null,null,null,null,"m"]
[null,null,null,null,null,null,null,null,null,null,"","","","","",{"$error":"#VALUE!"},{"$error":"#VALUE!"},{"$error":"#VALUE!"},"","","","","","",{"$f":"IF(SUM(S94:X94)=2,IF(L94=2,IF(L94=2,IF(R94-'Barèmes & Options'!H$2<-1,0,1)),\"\"),0)","v":0},0,false,false,"","","",null,null,null,null,null,"m"]
[null,null,null,null,null,null,null,null,null,null,"","","","","",{"$error":"#VALUE!"},{"$error":"#VALUE!"},{"$error":"#VALUE!"},"","","","","","",{"$f":"IF(SUM(S95:X95)=2,IF(L95=2,IF(L95=2,IF(R95-'Barèmes & Options'!H$2<-1,0,1)),\"\"),0)","v":0},0,false,false,"","","",null,null,null,null,null,"m"]
[null,null,null,null,null,null,null,null,null,null,"","","","","",{"$error":"#VALUE!"},{"$error":"#VALUE!"},{"$error":"#VALUE!"},"","","","","","",{"$f":"IF(SUM(S96:X96)=2,IF(L96=2,IF(L96=2,IF(R96-'Barèmes & Options'!H$2<-1,0,1)),\"\"),0)","v":0},0,false,false,"","","",null,null,null,null,null,"m"]
[null,null,null,null,null,null,null,null,null,null,"","","","","",{"$error":"#VALUE!"},{"$error":"#VALUE!"},{"$error":"#VALUE!"},"","","","","","",{"$f":"IF(SUM(S97:X97)=2,IF(L97=2,IF(L97=2,IF(R97-'Barèmes & Options'!H$2<-1,0,1)),\"\"),0)","v":0},0,false,false,"","","",null,null,null,null,null,"m"]
[null,null,null,null,null,null,null,null,null,null,"","","","","",{"$error":"#VALUE!"},{"$error":"#VALUE!"},{"$error":"#VALUE!"},"","","","","","",{"$f":"IF(SUM(S98:X98)=2,IF(L98=2,IF(L98=2,IF(R98-'Barèmes & Options'!H$2<-1,0,1)),\"\"),0)","v":0},0,false,false,"","","",null,null,null,null,null,"m"]
[null,null,null,null,null,null,null,null,null,null,"","","","","",{"$error":"#VALUE!"},{"$error":"#VALUE!"},{"$error":"#VALUE!"},"","","","","","",{"$f":"IF(SUM(S99:X99)=2,IF(L99=2,IF(L99=2,IF(R99-'Barèmes & Options'!H$2<-1,0,1)),\"\"),0)","v":0},0,false,false,"","","",null,null,null,null,null,"m"]
[null,null,null,null,null,null,null,null,null,null,"","","","","",{"$error":"#VALUE!"},{"$error":"#VALUE!"},{"$error":"#VALUE!"},"","","","","","",{"$f":"IF(SUM(S100:X100)=2,IF(L100=2,IF(L100=2,IF(R100-'Barèmes & Options'!H$2<-1,0,1)),\"\"),0)","v":0},{"$f":"IF(OR(L100=2,L100=9),SUM(S100:X100)-Y100,SUM(S100:X100))","v":0},false,false,"","",{"$f":"IF(OR(J100=\"\",AD100=\"\",AC100=\"\"),\"\",IF(OR(J100<0,J100>3),\"Err ech.\",SUM(J100,AD100,AC100)))","v":""},null,null,null,null,null,"m"]
[null,null,null,null,null,null,null,null,null,null,"","","","","",{"$error":"#VALUE!"},{"$error":"#VALUE!"},{"$error":"#VALUE!"},"","","","","","",{"$f":"IF(SUM(S101:X101)=2,IF(L101=2,IF(L101=2,IF(R101-'Barèmes & Options'!H$2<-1,0,1)),\"\"),0)","v":0},0,false,false,"","","",null,null,null,null,null,"m"]

{"sheet":"Barèmes & Options","index":2,"n_rows":141,"n_cols":13,"rows_kept":141,"cut":false,"hidden":false,"merged":[[0,0,0,2],[0,9,0,10],[0,11,0,12]]}
[null,null,null,null,null,null,null,null,null,"Barème Garçons",null,"Barème Filles"]
[null,null,null,null,null,null,null,null,null,"TPS G","Pts G","TPS F","PTS F"]
[null,null,null,null,null,null,null,null,null,3,14,3.3,14]
[null,null,null,null,null,null,null,null,null,4.4800000000000004,14,6.11,14]
[null,null,null,null,null,null,null,null,null,4.49,13.9,6.12,13.9]
[null,null,null,null,null,null,null,null,null,4.5,13.8,6.13,13.8]
[null,null,null,null,null,null,null,null,null,4.51,13.7,6.14,13.7]
[null,null,null,null,null,null,null,null,null,4.51,13.6,6.15,13.6]
[null,null,null,null,null,null,null,null,null,4.5199999999999996,13.5,6.16,13.5]
[null,null,null,null,null,null,null,null,null,4.53,13.4,6.17,13.4]
[null,null,null,null,null,null,null,null,null,4.54,13.3,6.18,13.3]
[null,null,null,null,null,null,null,null,null,4.55,13.2,6.19,13.2]
[null,null,null,null,null,null,null,null,null,4.55,13.1,6.2,13.1]
[null,null,null,null,null,null,null,null,null,4.5599999999999996,13,6.21,13]
[null,null,null,null,null,null,null,null,null,4.57,12.9,6.22,12.9]
[null,null,null,null,null,null,null,null,null,4.58,12.8,6.23,12.8]
[null,null,null,null,null,null,null,null,null,4.59,12.7,6.24,12.7]
[null,null,null,null,null,null,null,null,null,5,12.6,6.25,12.6]
[null,null,null,null,null,null,null,null,null,5.01,12.5,6.26,12.5]
[null,null,null,null,null,null,null,null,null,5.0199999999999996,12.4,6.27,12.4]
[null,null,null,null,null,null,null,null,null,5.03,12.3,6.28,12.3]
[null,null,null,null,null,null,null,null,null,5.04,12.2,6.29,12.2]
[null,null,null,null,null,null,null,null,null,5.04,12.1,6.3,12.1]
[null,null,null,null,null,null,null,null,null,5.05,12,6.31,12]
[null,null,null,null,null,null,null,null,null,5.0599999999999996,11.9,6.32,11.9]
[null,null,null,null,null,null,null,null,null,5.07,11.8,6.33,11.8]
[null,null,null,null,null,null,null,null,null,5.08,11.7,6.34,11.7]
[null,null,null,null,null,null,null,null,null,5.08,11.6,6.35,11.6]
[null,null,null,null,null,null,null,null,null,5.09,11.5,6.37,11.5]
[null,null,null,null,null,null,null,null,null,5.0999999999999996,11.4,6.38,11.4]
[null,null,null,null,null,null,null,null,null,5.1100000000000003,11.3,6.39,11.3]
[null,null,null,null,null,null,null,null,null,5.12,11.2,6.4,11.2]
[null,null,null,null,null,null,null,null,null,5.12,11.1,6.41,11.1]
[null,null,null,null,null,null,null,null,null,5.13,11,6.42,11]
[null,null,null,null,null,null,null,null,null,5.14,10.9,6.43,10.9]
[null,null,null,null,null,null,null,null,null,5.15,10.8,6.44,10.8]
[null,null,null,null,null,null,null,null,null,5.16,10.7,6.45,10.7]
[null,null,null,null,null,null,null,null,null,5.16,10.6,6.46,10.6]
[null,null,null,null,null,null,null,null,null,5.17,10.5,6.47,10.5]
[null,null,null,null,null,null,null,null,null,5.19,10.4,6.49,10.4]
[null,null,null,null,null,null,null,null,null,5.21,10.3,6.52,10.3]
[null,null,null,null,null,null,null,null,null,5.23,10.199999999999999,6.53,10.199999999999999]
[null,null,null,null,null,null,null,null,null,5.24,10.1,6.5600000000000005,10.1]
[null,null,null,null,null,null,null,null,null,5.25,10,7,10]
[null,null,null,null,null,null,null,null,null,5.27,9.9000000000000092,7.03,9.9000000000000092]
[null,null,null,null,null,null,null,null,null,5.29,9.8000000000000096,7.05,9.8000000000000096]
[null,null,null,null,null,null,null,null,null,5.31,9.7000000000000206,7.07,9.7000000000000206]
[null,null,null,null,null,null,null,null,null,5.32,9.6000000000000192,7.09,9.6000000000000192]
[null,null,null,null,null,null,null,null,null,5.33,9.5000000000000195,7.12,9.5000000000000195]
[null,null,null,null,null,null,null,null,null,5.34,9.4000000000000199,7.13,9.4000000000000199]
[null,null,null,null,null,null,null,null,null,5.35,9.3000000000000203,7.16,9.3000000000000203]
[null,null,null,null,null,null,null,null,null,5.37,9.2000000000000206,7.19,9.2000000000000206]
[null,null,null,null,null,null,null,null,null,5.38,9.1000000000000192,7.21,9.1000000000000192]
[null,null,null,null,null,null,null,null,null,5.4,9.0000000000000195,7.25,9.0000000000000195]
[null,null,null,null,null,null,null,null,null,5.42,8.9000000000000199,7.28,8.9000000000000199]
[null,null,null,null,null,null,null,null,null,5.44,8.8000000000000203,7.31,8.8000000000000203]
[null,null,null,null,null,null,null,null,null,5.46,8.7000000000000206,7.33,8.7000000000000206]
[null,null,null,null,null,null,null,null,null,5.47,8.6000000000000192,7.35,8.6000000000000192]
[null,null,null,null,null,null,null,null,null,5.48,8.5000000000000195,7.37,8.5000000000000195]
[null,null,null,null,null,null,null,null,null,5.49,8.4000000000000199,7.4,8.4000000000000199]
[null,null,null,null,null,null,null,null,null,5.51,8.3000000000000203,7.43,8.3000000000000203]
[null,null,null,null,null,null,null,null,null,5.52,8.2000000000000206,7.45,8.2000000000000206]
[null,null,null,null,null,null,null,null,null,5.53,8.1000000000000192,7.48,8.1000000000000192]
[null,null,null,null,null,null,null,null,null,5.55,8.0000000000000195,7.5,8.0000000000000195]
[null,null,null,null,null,null,null,null,null,5.5600000000000005,7.9000000000000199,7.53,7.9000000000000199]
[null,null,null,null,null,null,null,null,null,5.57,7.8000000000000203,7.55,7.8000000000000203]
[null,null,null,null,null,null,null,null,null,5.59,7.7000000000000197,7.57,7.7000000000000197]
[null,null,null,null,null,null,null,null,null,6.01,7.6000000000000201,8,7.6000000000000201]
[null,null,null,null,null,null,null,null,null,6.03,7.5000000000000204,8.02,7.5000000000000204]
[null,null,null,null,null,null,null,null,null,6.05,7.4000000000000199,8.0500000000000007,7.4000000000000199]
[null,null,null,null,null,null,null,null,null,6.06,7.3000000000000203,8.08,7.3000000000000203]
[null,null,null,null,null,null,null,null,null,6.07,7.2000000000000197,8.11,7.2000000000000197]
[null,null,null,null,null,null,null,null,null,6.08,7.1000000000000201,8.1300000000000008,7.1000000000000201]
[null,null,null,null,null,null,null,null,null,6.1,7.0000000000000204,8.15,7.0000000000000204]
[null,null,null,null,null,null,null,null,null,6.12,6.9000000000000297,8.18,6.9000000000000297]
[null,null,null,null,null,null,null,null,null,6.14,6.80000000000003,8.2100000000000009,6.80000000000003]
[null,null,null,null,null,null,null,null,null,6.16,6.7000000000000304,8.24,6.7000000000000304]
[null,null,null,null,null,null,null,null,null,6.18,6.6000000000000298,8.27,6.6000000000000298]
[null,null,null,null,null,null,null,null,null,6.2,6.5000000000000302,8.32,6.5000000000000302]
[null,null,null,null,null,null,null,null,null,6.22,6.4000000000000297,8.36,6.4000000000000297]
[null,null,null,null,null,null,null,null,null,6.24,6.30000000000003,8.39,6.30000000000003]
[null,null,null,null,null,null,null,null,null,6.26,6.2000000000000304,8.42,6.2000000000000304]
[null,null,null,null,null,null,null,null,null,6.28,6.1000000000000298,8.4499999999999993,6.1000000000000298]
[null,null,null,null,null,null,null,null,null,6.3,6.0000000000000302,8.5,6.0000000000000302]
[null,null,null,null,null,null,null,null,null,6.32,5.9000000000000297,8.5299999999999994,5.9000000000000297]
[null,null,null,null,null,null,null,null,null,6.34,5.80000000000003,8.56,5.80000000000003]
[null,null,null,null,null,null,null,null,null,6.36,5.7000000000000304,8.59,5.7000000000000304]
[null,null,null,null,null,null,null,null,null,6.38,5.6000000000000298,9.02,5.6000000000000298]
[null,null,null,null,null,null,null,null,null,6.4,5.5000000000000302,9.08,5.5000000000000302]
[null,null,null,null,null,null,null,null,null,6.42,5.4000000000000297,9.1199999999999992,5.4000000000000297]
[null,null,null,null,null,null,null,null,null,6.44,5.30000000000003,9.16,5.30000000000003]
[null,null,null,null,null,null,null,null,null,6.46,5.2000000000000304,9.1999999999999993,5.2000000000000304]
[null,null,null,null,null,null,null,null,null,6.48,5.1000000000000298,9.23,5.1000000000000298]
[null,null,null,null,null,null,null,null,null,6.5,5.0000000000000302,9.26,5.0000000000000302]
[null,null,null,null,null,null,null,null,null,6.52,4.9000000000000297,9.3000000000000007,4.9000000000000297]
[null,null,null,null,null,null,null,null,null,6.54,4.80000000000003,9.34,4.80000000000003]
[null,null,null,null,null,null,null,null,null,6.5600000000000005,4.7000000000000304,9.3800000000000008,4.7000000000000304]
[null,null,null,null,null,null,null,null,null,6.58,4.6000000000000298,9.41,4.6000000000000298]
[null,null,null,null,null,null,null,null,null,7,4.5000000000000302,9.44,4.5000000000000302]
[null,null,null,null,null,null,null,null,null,7.02,4.4000000000000297,9.48,4.4000000000000297]
[null,null,null,null,null,null,null,null,null,7.04,4.30000000000003,9.52,4.30000000000003]
[null,null,null,null,null,null,null,null,null,7.06,4.2000000000000304,9.56,4.2000000000000304]
[null,null,null,null,null,null,null,null,null,7.08,4.1000000000000396,9.59,4.1000000000000396]
[null,null,null,null,null,null,null,null,null,7.1,4.00000000000004,10.02,4.00000000000004]
[null,null,null,null,null,null,null,null,null,7.12,3.9,10.06,3.9]
[null,null,null,null,null,null,null,null,null,7.14,3.8,10.1,3.8]
[null,null,null,null,null,null,null,null,null,7.16,3.7,10.14,3.7]
[null,null,null,null,null,null,null,null,null,7.18,3.6,10.17,3.6]
[null,null,null,null,null,null,null,null,null,7.2,3.5,10.199999999999999,3.5]
[null,null,null,null,null,null,null,null,null,7.24,3.4,10.24,3.4]
[null,null,null,null,null,null,null,null,null,7.28,3.3,10.28,3.3]
[null,null,null,null,null,null,null,null,null,7.32,3.2,10.32,3.2]
[null,null,null,null,null,null,null,null,null,7.36,3.1,10.36,3.1]
[null,null,null,null,null,null,null,null,null,7.4,3,10.4,3]
[null,null,null,null,null,null,null,null,null,7.44,2.9,10.44,2.9]
[null,null,null,null,null,null,null,null,null,7.48,2.8,10.48,2.8]
[null,null,null,null,null,null,null,null,null,7.52,2.7,10.52,2.7]
[null,null,null,null,null,null,null,null,null,7.5600000000000005,2.6,10.56,2.6]
[null,null,null,null,null,null,null,null,null,8,2.5,11,2.5]
[null,null,null,null,null,null,null,null,null,8.0399999999999991,2.4,11.04,2.4]
[null,null,null,null,null,null,null,null,null,8.08,2.2999999999999998,11.08,2.2999999999999998]
[null,null,null,null,null,null,null,null,null,8.1199999999999992,2.2000000000000002,11.12,2.2000000000000002]
[null,null,null,null,null,null,null,null,null,8.16,2.1,11.16,2.1]
[null,null,null,null,null,null,null,null,null,8.1999999999999993,2,11.2,2]
[null,null,null,null,null,null,null,null,null,8.24,1.9,11.24,1.9]
[null,null,null,null,null,null,null,null,null,8.2799999999999994,1.8,11.28,1.8]
[null,null,null,null,null,null,null,null,null,8.32,1.7,11.32,1.7]
[null,null,null,null,null,null,null,null,null,8.36,1.6,11.36,1.6]
[null,null,null,null,null,null,null,null,null,8.4,1.5,11.4,1.5]
[null,null,null,null,null,null,null,null,null,8.44,1.4,11.44,1.4]
[null,null,null,null,null,null,null,null,null,8.48,1.3,11.48,1.3]
[null,null,null,null,null,null,null,null,null,8.52,1.2,11.52,1.2]
[null,null,null,null,null,null,null,null,null,8.56,1.1000000000000001,11.56,1.1000000000000001]
[null,null,null,null,null,null,null,null,null,9,1,12,1]
[null,null,null,null,null,null,null,null,null,9.0399999999999991,0.9,12.04,0.9]
[null,null,null,null,null,null,null,null,null,9.08,0.80000000000000104,12.08,0.80000000000000104]
[null,null,null,null,null,null,null,null,null,9.1199999999999992,0.69999999999999896,12.12,0.69999999999999896]
[null,null,null,null,null,null,null,null,null,9.16,0.6,12.16,0.6]
[null,null,null,null,null,null,null,null,null,9.1999999999999993,0.5,12.2,0.5]
[null,null,null,null,null,null,null,null,null,9.2100000000000009,0,12.21,0]
[null,null,null,null,null,null,null,null,null,33.200000000000003,0,33.200000000000003,0]

{"sheet":"Présentation des profils","index":3,"n_rows":0,"n_cols":0,"rows_kept":0,"cut":false,"hidden":false,"merged":[]}