{"text_format":"1","workbook":"xlsx","n_sheets":7,"sheets":["ACCUEIL","Répartition AFL-Eléments-APSA","LIVRET Compétences","Synthèse Graphique","Programmation","Liste APSA","Listes"],"not_rendered":{"charts":18,"images":13,"macros":1,"external_links":0,"defined_names":34,"comments":0,"pivot_tables":0},"unopened":[],"bounds":{"document_bytes":16777216,"sheet_cells":100000,"rows_first":2000,"rows_last":500,"rows_between":2000,"halvings":0,"cell_chars":16384,"cell_head_chars":4096},"cells_cut":0,"cells_raw":0,"read":"whole","date_system":"1900"}

{"sheet":"ACCUEIL","index":0,"n_rows":2,"n_cols":2,"rows_kept":2,"cut":false,"hidden":false,"merged":[[1,1,1,14]]}
[]
[null,"OUTIL D'AIDE A L'ELABORATION DU PROJET EPS - LYCEE GENERAL"]

{"sheet":"Répartition AFL-Eléments-APSA","index":1,"n_rows":355,"n_cols":24,"rows_kept":355,"cut":false,"hidden":false,"merged":[[297,13,299,13],[297,14,299,14],[300,13,301,13],[300,14,301,14],[11,13,13,13],[11,14,13,14],[14,13,16,13],[14,14,16,14],[17,13,18,13],[17,14,18,14],[288,13,289,13],[288,14,289,14],[290,13,293,13],[290,14,293,14],[294,13,296,13],[294,14,296,14],[224,13,226,13],[224,14,226,14],[227,13,228,13],[227,14,228,14],[287,13,287,14],[154,13,155,13],[154,14,155,14],[84,13,85,13],[220,4,222,4],[214,13,214,14],[215,13,216,13],[215,14,216,14],[217,13,220,13],[217,14,220,14],[221,13,223,13],[221,14,223,14],[144,13,147,13],[144,14,147,14],[148,13,150,13],[148,14,150,14],[151,13,153,13],[151,14,153,14],[214,4,216,4],[217,4,219,4],[223,4,225,4],[84,14,85,14],[141,13,141,14],[142,13,143,13],[142,14,143,14],[74,13,77,13],[74,14,77,14],[78,13,80,13],[78,14,80,14],[214,1,285,1],[214,2,225,2],[233,2,285,2],[71,1,139,1],[71,2,78,2],[71,4,73,4],[74,4,75,4],[76,4,78,4],[79,2,84,2],[79,4,80,4],[81,4,82,4],[83,4,84,4],[85,2,139,2],[85,4,86,4],[87,4,88,4],[89,4,90,4],[3,1,3,4],[3,6,3,11],[4,3,4,4],[5,1,69,1],[5,2,13,2],[5,4,7,4],[8,4,10,4],[11,4,13,4],[14,2,20,2],[14,4,15,4],[16,4,17,4],[18,4,20,4],[21,2,69,2],[21,4,23,4],[24,4,69,4],[91,4,139,4],[141,1,212,1],[141,4,143,4],[144,4,146,4],[147,4,149,4],[150,4,151,4],[152,4,153,4],[154,4,156,4],[157,4,158,4],[159,4,161,4],[162,4,212,4],[141,2,146,2],[147,2,153,2],[154,2,158,2],[159,2,163,2],[226,2,232,2],[226,4,227,4],[228,4,230,4],[231,4,232,4],[233,4,234,4],[235,4,236,4],[237,4,285,4],[287,1,354,1],[287,2,297,2],[287,4,289,4],[290,4,292,4],[293,4,297,4],[298,2,306,2],[298,4,301,4],[302,4,303,4],[304,4,306,4],[307,2,354,2],[307,4,308,4],[309,4,311,4],[312,4,354,4],[5,13,6,13],[7,13,10,13],[7,14,10,14],[4,13,4,14],[5,14,6,14],[72,13,73,13],[72,14,73,14],[71,13,71,14],[81,13,83,13],[81,14,83,14]]}
[]
[]
[]
[null,"LES TEXTES - Liste des choix possibles d'AFL et EP dans chaque CA",null,null,null,null,"Programmation et répartition des APSA",null,null,null,null,null,null,"LES TEXTES - Objectifs généraux de l'EPS et ses invariants dans chaque CA "]
[null,"CA","AFL","EP",null,null,"APSA","Niv.","AFL","EP","OG EPS","invariants OG",null,"Objectifs généraux EPS",null,"invariants des OG dans chaque CA",null,"OG","Invariant","CA","AFL","EP","Niveau","APSA"]
[null,"CA1",{"$f":"Listes!C7","v":"AFL1 : S’engager pour produire une performance maximale à l’aide de techniques efficaces, en gérant les efforts musculaires et respiratoires nécessaires et en faisant le meilleur compromis entre l’accroissement de vitesse d’exécution et de précision"},"EP1",{"$f":"Listes!F7","v":"Accroître son efficience motrice par l’acquisition de techniques efficaces et la coordination des actions"},null,null,null,null,null,null,null,null,"OG1",{"$f":"Listes!$AR$7","v":"Développer sa motricité"},{"$f":"Listes!$AT$7","v":"APSA diversifiées"},null,{"$f":"IF(ISBLANK(K6),\"\",VLOOKUP(K6,Tableau8[],2,FALSE))","v":""},{"$f":"IF(ISBLANK(L6),\"\",L6)","v":""},{"$f":"IF(ISBLANK(G6),\"\",\"CA1\")","v":""},{"$f":"IF(ISBLANK(I6),\"\",VLOOKUP(I6,tableau1[],2,FALSE))","v":""},{"$f":"IF(ISBLANK(J6),\"\",VLOOKUP(J6,tableau2[],2,FALSE))","v":""},{"$f":"IF(ISBLANK(H6),\"\",H6)","v":""},{"$f":"IF(ISBLANK(G6),\"\",G6)","v":""}]
[null,null,null,null,null,null,null,null,null,null,null,null,null,null,null,{"$f":"Listes!$AT$8","v":"APSA approfondies"},null,{"$f":"IF(ISBLANK(K7),\"\",VLOOKUP(K7,Tableau8[],2,FALSE))","v":""},{"$f":"IF(ISBLANK(L7),\"\",L7)","v":""},{"$f":"IF(ISBLANK(G7),\"\",\"CA1\")","v":""},{"$f":"IF(ISBLANK(I7),\"\",VLOOKUP(I7,tableau1[],2,FALSE))","v":""},{"$f":"IF(ISBLANK(J7),\"\",VLOOKUP(J7,tableau2[],2,FALSE))","v":""},{"$f":"IF(ISBLANK(H7),\"\",H7)","v":""},{"$f":"IF(ISBLANK(G7),\"\",G7)","v":""}]
[null,null,null,null,null,null,null,null,null,null,null,null,null,"OG2",{"$f":"Listes!$AR$8","v":"Savoir se préparer et s'entraîner"},{"$f":"Listes!$AV$7","v":"Se connaître"},null,{"$f":"IF(ISBLANK(K8),\"\",VLOOKUP(K8,Tableau8[],2,FALSE))","v":""},"","",{"$f":"IF(ISBLANK(I8),\"\",VLOOKUP(I8,tableau1[],2,FALSE))","v":""},{"$f":"IF(ISBLANK(J8),\"\",VLOOKUP(J8,tableau2[],2,FALSE))","v":""},"",""]
[null,null,null,"EP2",{"$f":"Listes!F8","v":"Identifier et utiliser des principes mécaniques et ses ressentis (musculaires, respiratoires, émotionnels, psychologiques...) pour transformer efficacement sa motricité"},null,null,null,null,null,null,null,null,null,null,{"$f":"Listes!$AV$8","v":"Faire des choix"},null,{"$f":"IF(ISBLANK(K9),\"\",VLOOKUP(K9,Tableau8[],2,FALSE))","v":""},"","",{"$f":"IF(ISBLANK(I9),\"\",VLOOKUP(I9,tableau1[],2,FALSE))","v":""},{"$f":"IF(ISBLANK(J9),\"\",VLOOKUP(J9,tableau2[],2,FALSE))","v":""},"",""]
[null,null,null,null,null,null,null,null,null,null,null,null,null,null,null,{"$f":"Listes!$AV$9","v":"Se preparer"},null,{"$f":"IF(ISBLANK(K10),\"\",VLOOKUP(K10,Tableau8[],2,FALSE))","v":""},"","",{"$f":"IF(ISBLANK(I10),\"\",VLOOKUP(I10,tableau1[],2,FALSE))","v":""},{"$f":"IF(ISBLANK(J10),\"\",VLOOKUP(J10,tableau2[],2,FALSE))","v":""},"",""]
[null,null,null,null,null,null,null,null,null,null,null,null,null,null,null,{"$f":"Listes!$AV$10","v":"Conduire et réguler ses efforts"},null,{"$f":"IF(ISBLANK(K11),\"\",VLOOKUP(K11,Tableau8[],2,FALSE))","v":""},"","",{"$f":"IF(ISBLANK(I11),\"\",VLOOKUP(I11,tableau1[],2,FALSE))","v":""},{"$f":"IF(ISBLANK(J11),\"\",VLOOKUP(J11,tableau2[],2,FALSE))","v":""},"",""]
[null,null,null,"EP3",{"$f":"Listes!F9","v":"Reconnaître et interpréter des sensations corporelles, les relier avec des repères externes pour réguler son effort"},null,null,null,null,null,null,null,null,"OG3",{"$f":"Listes!$AR$9","v":"Exercer sa responsabilité individuelle au sein d'un collectif"},{"$f":"Listes!$AX$7","v":"Juge arbitre"},null,{"$f":"IF(ISBLANK(K12),\"\",VLOOKUP(K12,Tableau8[],2,FALSE))","v":""},"","",{"$f":"IF(ISBLANK(I12),\"\",VLOOKUP(I12,tableau1[],2,FALSE))","v":""},{"$f":"IF(ISBLANK(J12),\"\",VLOOKUP(J12,tableau2[],2,FALSE))","v":""},"",""]
[null,null,null,null,null,null,null,null,null,null,null,null,null,null,null,{"$f":"Listes!$AX$8","v":"Observateur, conseil, aide"},null,{"$f":"IF(ISBLANK(K13),\"\",VLOOKUP(K13,Tableau8[],2,FALSE))","v":""},"","",{"$f":"IF(ISBLANK(I13),\"\",VLOOKUP(I13,tableau1[],2,FALSE))","v":""},{"$f":"IF(ISBLANK(J13),\"\",VLOOKUP(J13,tableau2[],2,FALSE))","v":""},"",""]
[null,null,null,null,null,null,null,null,null,null,null,null,null,null,null,{"$f":"Listes!$AX$9","v":"Partenaire, adversaire"},null,{"$f":"IF(ISBLANK(K14),\"\",VLOOKUP(K14,Tableau8[],2,FALSE))","v":""},"","",{"$f":"IF(ISBLANK(I14),\"\",VLOOKUP(I14,tableau1[],2,FALSE))","v":""},{"$f":"IF(ISBLANK(J14),\"\",VLOOKUP(J14,tableau2[],2,FALSE))","v":""},"",""]
[null,null,{"$f":"Listes!C8","v":"AFL2 : S’entraîner, individuellement et collectivement, pour réaliser une performance"},"EP4",{"$f":"Listes!F10","v":"Se préparer à un effort spécifique, récupérer"},null,null,null,null,null,null,null,null,"OG4",{"$f":"Listes!$AR$10","v":"Construire durablement sa santé"},{"$f":"Listes!$AZ$7","v":"Construire une image positive de soi (progrès réalisé)"},null,{"$f":"IF(ISBLANK(K15),\"\",VLOOKUP(K15,Tableau8[],2,FALSE))","v":""},"","",{"$f":"IF(ISBLANK(I15),\"\",VLOOKUP(I15,tableau1[],2,FALSE))","v":""},{"$f":"IF(ISBLANK(J15),\"\",VLOOKUP(J15,tableau2[],2,FALSE))","v":""},"",""]
[null,null,null,null,null,null,null,null,null,null,null,null,null,null,null,{"$f":"Listes!$AZ$8","v":"Assurer sa sécurité ou celle des autres"},null,{"$f":"IF(ISBLANK(K16),\"\",VLOOKUP(K16,Tableau8[],2,FALSE))","v":""},"","",{"$f":"IF(ISBLANK(I16),\"\",VLOOKUP(I16,tableau1[],2,FALSE))","v":""},{"$f":"IF(ISBLANK(J16),\"\",VLOOKUP(J16,tableau2[],2,FALSE))","v":""},"",""]
[null,null,null,"EP5",{"$f":"Listes!F11","v":"Répéter et persévérer pour améliorer l’efficacité de ses actions"},null,null,null,null,null,null,null,null,null,null,{"$f":"Listes!$AZ$9","v":"Prendre du plaisir"},null,{"$f":"IF(ISBLANK(K17),\"\",VLOOKUP(K17,Tableau8[],2,FALSE))","v":""},"","",{"$f":"IF(ISBLANK(I17),\"\",VLOOKUP(I17,tableau1[],2,FALSE))","v":""},{"$f":"IF(ISBLANK(J17),\"\",VLOOKUP(J17,tableau2[],2,FALSE))","v":""},"",""]
[null,null,null,null,null,null,null,null,null,null,null,null,null,"OG5",{"$f":"Listes!$AR$11","v":"Accéder au patrimoine culturel"},{"$f":"Listes!$BB$7","v":"Se situer en tant que pratiquant"},null,{"$f":"IF(ISBLANK(K18),\"\",VLOOKUP(K18,Tableau8[],2,FALSE))","v":""},"","",{"$f":"IF(ISBLANK(I18),\"\",VLOOKUP(I18,tableau1[],2,FALSE))","v":""},{"$f":"IF(ISBLANK(J18),\"\",VLOOKUP(J18,tableau2[],2,FALSE))","v":""},"",""]
[null,null,null,"EP6",{"$f":"Listes!F12","v":"Utiliser différents supports d’observation et d’analyse pour apprécier des prestations"},null,null,null,null,null,null,null,null,null,null,{"$f":"Listes!$BB$8","v":"Se situer en tant que spectateur/critique"},null,{"$f":"IF(ISBLANK(K19),\"\",VLOOKUP(K19,Tableau8[],2,FALSE))","v":""},"","",{"$f":"IF(ISBLANK(I19),\"\",VLOOKUP(I19,tableau1[],2,FALSE))","v":""},{"$f":"IF(ISBLANK(J19),\"\",VLOOKUP(J19,tableau2[],2,FALSE))","v":""},"",""]
[null,null,null,null,null,null,null,null,null,null,null,null,null,null,null,null,null,{"$f":"IF(ISBLANK(K20),\"\",VLOOKUP(K20,Tableau8[],2,FALSE))","v":""},"","",{"$f":"IF(ISBLANK(I20),\"\",VLOOKUP(I20,tableau1[],2,FALSE))","v":""},{"$f":"IF(ISBLANK(J20),\"\",VLOOKUP(J20,tableau2[],2,FALSE))","v":""},"",""]
[null,null,null,null,null,null,null,null,null,null,null,null,null,null,null,null,null,{"$f":"IF(ISBLANK(K21),\"\",VLOOKUP(K21,Tableau8[],2,FALSE))","v":""},"","",{"$f":"IF(ISBLANK(I21),\"\",VLOOKUP(I21,tableau1[],2,FALSE))","v":""},{"$f":"IF(ISBLANK(J21),\"\",VLOOKUP(J21,tableau2[],2,FALSE))","v":""},"",""]
[null,null,{"$f":"Listes!C9","v":"AFL3 : Choisir et assumer les rôles qui permettent un fonctionnement collectif solidaire"},"EP7",{"$f":"Listes!F13","v":"Choisir, mettre en oeuvre et réguler un projet individuel et/ou collectif de performance"},null,null,null,null,null,null,null,null,null,null,null,null,{"$f":"IF(ISBLANK(K22),\"\",VLOOKUP(K22,Tableau8[],2,FALSE))","v":""},"","",{"$f":"IF(ISBLANK(I22),\"\",VLOOKUP(I22,tableau1[],2,FALSE))","v":""},{"$f":"IF(ISBLANK(J22),\"\",VLOOKUP(J22,tableau2[],2,FALSE))","v":""},"",""]
[null,null,null,null,null,null,null,null,null,null,null,null,null,null,null,null,null,{"$f":"IF(ISBLANK(K23),\"\",VLOOKUP(K23,Tableau8[],2,FALSE))","v":""},"","",{"$f":"IF(ISBLANK(I23),\"\",VLOOKUP(I23,tableau1[],2,FALSE))","v":""},{"$f":"IF(ISBLANK(J23),\"\",VLOOKUP(J23,tableau2[],2,FALSE))","v":""},"",""]
[null,null,null,null,null,null,null,null,null,null,null,null,null,null,null,null,null,{"$f":"IF(ISBLANK(K24),\"\",VLOOKUP(K24,Tableau8[],2,FALSE))","v":""},"","",{"$f":"IF(ISBLANK(I24),\"\",VLOOKUP(I24,tableau1[],2,FALSE))","v":""},{"$f":"IF(ISBLANK(J24),\"\",VLOOKUP(J24,tableau2[],2,FALSE))","v":""},"",""]
[null,null,null,"EP8",{"$f":"Listes!F14","v":"Assumer des rôles d’organisateur, de coach et d’entraîneur pour performer collectivement"},null,null,null,null,null,null,null,null,null,null,null,null,{"$f":"IF(ISBLANK(K25),\"\",VLOOKUP(K25,Tableau8[],2,FALSE))","v":""},"","",{"$f":"IF(ISBLANK(I25),\"\",VLOOKUP(I25,tableau1[],2,FALSE))","v":""},{"$f":"IF(ISBLANK(J25),\"\",VLOOKUP(J25,tableau2[],2,FALSE))","v":""},"",""]
[null,null,null,null,null,null,null,null,null,null,null,null,null,null,null,null,null,{"$f":"IF(ISBLANK(K26),\"\",VLOOKUP(K26,Tableau8[],2,FALSE))","v":""},"","",{"$f":"IF(ISBLANK(I26),\"\",VLOOKUP(I26,tableau1[],2,FALSE))","v":""},{"$f":"IF(ISBLANK(J26),\"\",VLOOKUP(J26,tableau2[],2,FALSE))","v":""},"",""]
[null,null,null,null,null,null,null,null,null,null,null,null,null,null,null,null,null,{"$f":"IF(ISBLANK(K27),\"\",VLOOKUP(K27,Tableau8[],2,FALSE))","v":""},"","",{"$f":"IF(ISBLANK(I27),\"\",VLOOKUP(I27,tableau1[],2,FALSE))","v":""},{"$f":"IF(ISBLANK(J27),\"\",VLOOKUP(J27,tableau2[],2,FALSE))","v":""},"",""]
[null,null,null,null,null,null,null,null,null,null,null,null,null,null,null,null,null,{"$f":"IF(ISBLANK(K28),\"\",VLOOKUP(K28,Tableau8[],2,FALSE))","v":""},"","",{"$f":"IF(ISBLANK(I28),\"\",VLOOKUP(I28,tableau1[],2,FALSE))","v":""},{"$f":"IF(ISBLANK(J28),\"\",VLOOKUP(J28,tableau2[],2,FALSE))","v":""},"",""]
[null,null,null,null,null,null,null,null,null,null,null,null,null,null,null,null,null,{"$f":"IF(ISBLANK(K29),\"\",VLOOKUP(K29,Tableau8[],2,FALSE))","v":""},"","",{"$f":"IF(ISBLANK(I29),\"\",VLOOKUP(I29,tableau1[],2,FALSE))","v":""},{"$f":"IF(ISBLANK(J29),\"\",VLOOKUP(J29,tableau2[],2,FALSE))","v":""},"",""]
[null,null,null,null,null,null,null,null,null,null,null,null,null,null,null,null,null,{"$f":"IF(ISBLANK(K30),\"\",VLOOKUP(K30,Tableau8[],2,FALSE))","v":""},"","",{"$f":"IF(ISBLANK(I30),\"\",VLOOKUP(I30,tableau1[],2,FALSE))","v":""},{"$f":"IF(ISBLANK(J30),\"\",VLOOKUP(J30,tableau2[],2,FALSE))","v":""},"",""]
[null,null,null,null,null,null,null,null,null,null,null,null,null,null,null,null,null,{"$f":"IF(ISBLANK(K31),\"\",VLOOKUP(K31,Tableau8[],2,FALSE))","v":""},"","",{"$f":"IF(ISBLANK(I31),\"\",VLOOKUP(I31,tableau1[],2,FALSE))","v":""},{"$f":"IF(ISBLANK(J31),\"\",VLOOKUP(J31,tableau2[],2,FALSE))","v":""},"",""]
[null,null,null,null,null,null,null,null,null,null,null,null,null,null,null,null,null,{"$f":"IF(ISBLANK(K32),\"\",VLOOKUP(K32,Tableau8[],2,FALSE))","v":""},"","",{"$f":"IF(ISBLANK(I32),\"\",VLOOKUP(I32,tableau1[],2,FALSE))","v":""},{"$f":"IF(ISBLANK(J32),\"\",VLOOKUP(J32,tableau2[],2,FALSE))","v":""},"",""]
[null,null,null,null,null,null,null,null,null,null,null,null,null,null,null,null,null,{"$f":"IF(ISBLANK(K33),\"\",VLOOKUP(K33,Tableau8[],2,FALSE))","v":""},"","",{"$f":"IF(ISBLANK(I33),\"\",VLOOKUP(I33,tableau1[],2,FALSE))","v":""},{"$f":"IF(ISBLANK(J33),\"\",VLOOKUP(J33,tableau2[],2,FALSE))","v":""},"",""]
[null,null,null,null,null,null,null,null,null,null,null,null,null,null,null,null,null,{"$f":"IF(ISBLANK(K34),\"\",VLOOKUP(K34,Tableau8[],2,FALSE))","v":""},"","",{"$f":"IF(ISBLANK(I34),\"\",VLOOKUP(I34,tableau1[],2,FALSE))","v":""},{"$f":"IF(ISBLANK(J34),\"\",VLOOKUP(J34,tableau2[],2,FALSE))","v":""},"",""]
[null,null,null,null,null,null,null,null,null,null,null,null,null,null,null,null,null,{"$f":"IF(ISBLANK(K35),\"\",VLOOKUP(K35,Tableau8[],2,FALSE))","v":""},"","",{"$f":"IF(ISBLANK(I35),\"\",VLOOKUP(I35,tableau1[],2,FALSE))","v":""},{"$f":"IF(ISBLANK(J35),\"\",VLOOKUP(J35,tableau2[],2,FALSE))","v":""},"",""]
[null,null,null,null,null,null,null,null,null,null,null,null,null,null,null,null,null,{"$f":"IF(ISBLANK(K36),\"\",VLOOKUP(K36,Tableau8[],2,FALSE))","v":""},"","",{"$f":"IF(ISBLANK(I36),\"\",VLOOKUP(I36,tableau1[],2,FALSE))","v":""},{"$f":"IF(ISBLANK(J36),\"\",VLOOKUP(J36,tableau2[],2,FALSE))","v":""},"",""]
[null,null,null,null,null,null,null,null,null,null,null,null,null,null,null,null,null,{"$f":"IF(ISBLANK(K37),\"\",VLOOKUP(K37,Tableau8[],2,FALSE))","v":""},"","",{"$f":"IF(ISBLANK(I37),\"\",VLOOKUP(I37,tableau1[],2,FALSE))","v":""},{"$f":"IF(ISBLANK(J37),\"\",VLOOKUP(J37,tableau2[],2,FALSE))","v":""},"",""]
[null,null,null,null,null,null,null,null,null,null,null,null,null,null,null,null,null,{"$f":"IF(ISBLANK(K38),\"\",VLOOKUP(K38,Tableau8[],2,FALSE))","v":""},"","",{"$f":"IF(ISBLANK(I38),\"\",VLOOKUP(I38,tableau1[],2,FALSE))","v":""},{"$f":"IF(ISBLANK(J38),\"\",VLOOKUP(J38,tableau2[],2,FALSE))","v":""},"",""]
[null,null,null,null,null,null,null,null,null,null,null,null,null,null,null,null,null,{"$f":"IF(ISBLANK(K39),\"\",VLOOKUP(K39,Tableau8[],2,FALSE))","v":""},"","",{"$f":"IF(ISBLANK(I39),\"\",VLOOKUP(I39,tableau1[],2,FALSE))","v":""},{"$f":"IF(ISBLANK(J39),\"\",VLOOKUP(J39,tableau2[],2,FALSE))","v":""},"",""]
[null,null,null,null,null,null,null,null,null,null,null,null,null,null,null,null,null,{"$f":"IF(ISBLANK(K40),\"\",VLOOKUP(K40,Tableau8[],2,FALSE))","v":""},"","",{"$f":"IF(ISBLANK(I40),\"\",VLOOKUP(I40,tableau1[],2,FALSE))","v":""},{"$f":"IF(ISBLANK(J40),\"\",VLOOKUP(J40,tableau2[],2,FALSE))","v":""},"",""]
[null,null,null,null,null,null,null,null,null,null,null,null,null,null,null,null,null,{"$f":"IF(ISBLANK(K41),\"\",VLOOKUP(K41,Tableau8[],2,FALSE))","v":""},"","",{"$f":"IF(ISBLANK(I41),\"\",VLOOKUP(I41,tableau1[],2,FALSE))","v":""},{"$f":"IF(ISBLANK(J41),\"\",VLOOKUP(J41,tableau2[],2,FALSE))","v":""},"",""]
[null,null,null,null,null,null,null,null,null,null,null,null,null,null,null,null,null,{"$f":"IF(ISBLANK(K42),\"\",VLOOKUP(K42,Tableau8[],2,FALSE))","v":""},"","",{"$f":"IF(ISBLANK(I42),\"\",VLOOKUP(I42,tableau1[],2,FALSE))","v":""},{"$f":"IF(ISBLANK(J42),\"\",VLOOKUP(J42,tableau2[],2,FALSE))","v":""},"",""]
[null,null,null,null,null,null,null,null,null,null,null,null,null,null,null,null,null,{"$f":"IF(ISBLANK(K43),\"\",VLOOKUP(K43,Tableau8[],2,FALSE))","v":""},"","",{"$f":"IF(ISBLANK(I43),\"\",VLOOKUP(I43,tableau1[],2,FALSE))","v":""},{"$f":"IF(ISBLANK(J43),\"\",VLOOKUP(J43,tableau2[],2,FALSE))","v":""},"",""]
[null,null,null,null,null,null,null,null,null,null,null,null,null,null,null,null,null,{"$f":"IF(ISBLANK(K44),\"\",VLOOKUP(K44,Tableau8[],2,FALSE))","v":""},"","",{"$f":"IF(ISBLANK(I44),\"\",VLOOKUP(I44,tableau1[],2,FALSE))","v":""},{"$f":"IF(ISBLANK(J44),\"\",VLOOKUP(J44,tableau2[],2,FALSE))","v":""},"",""]
[null,null,null,null,null,null,null,null,null,null,null,null,null,null,null,null,null,{"$f":"IF(ISBLANK(K45),\"\",VLOOKUP(K45,Tableau8[],2,FALSE))","v":""},"","",{"$f":"IF(ISBLANK(I45),\"\",VLOOKUP(I45,tableau1[],2,FALSE))","v":""},{"$f":"IF(ISBLANK(J45),\"\",VLOOKUP(J45,tableau2[],2,FALSE))","v":""},"",""]
[null,null,null,null,null,null,null,null,null,null,null,null,null,null,null,null,null,{"$f":"IF(ISBLANK(K46),\"\",VLOOKUP(K46,Tableau8[],2,FALSE))","v":""},"","",{"$f":"IF(ISBLANK(I46),\"\",VLOOKUP(I46,tableau1[],2,FALSE))","v":""},{"$f":"IF(ISBLANK(J46),\"\",VLOOKUP(J46,tableau2[],2,FALSE))","v":""},"",""]
[null,null,null,null,null,null,null,null,null,null,null,null,null,null,null,null,null,{"$f":"IF(ISBLANK(K47),\"\",VLOOKUP(K47,Tableau8[],2,FALSE))","v":""},"","",{"$f":"IF(ISBLANK(I47),\"\",VLOOKUP(I47,tableau1[],2,FALSE))","v":""},{"$f":"IF(ISBLANK(J47),\"\",VLOOKUP(J47,tableau2[],2,FALSE))","v":""},"",""]
[null,null,null,null,null,null,null,null,null,null,null,null,null,null,null,null,null,{"$f":"IF(ISBLANK(K48),\"\",VLOOKUP(K48,Tableau8[],2,FALSE))","v":""},"","",{"$f":"IF(ISBLANK(I48),\"\",VLOOKUP(I48,tableau1[],2,FALSE))","v":""},{"$f":"IF(ISBLANK(J48),\"\",VLOOKUP(J48,tableau2[],2,FALSE))","v":""},"",""]
[null,null,null,null,null,null,null,null,null,null,null,null,null,null,null,null,null,{"$f":"IF(ISBLANK(K49),\"\",VLOOKUP(K49,Tableau8[],2,FALSE))","v":""},"","",{"$f":"IF(ISBLANK(I49),\"\",VLOOKUP(I49,tableau1[],2,FALSE))","v":""},{"$f":"IF(ISBLANK(J49),\"\",VLOOKUP(J49,tableau2[],2,FALSE))","v":""},"",""]
[null,null,null,null,null,null,null,null,null,null,null,null,null,null,null,null,null,{"$f":"IF(ISBLANK(K50),\"\",VLOOKUP(K50,Tableau8[],2,FALSE))","v":""},"","",{"$f":"IF(ISBLANK(I50),\"\",VLOOKUP(I50,tableau1[],2,FALSE))","v":""},{"$f":"IF(ISBLANK(J50),\"\",VLOOKUP(J50,tableau2[],2,FALSE))","v":""},"",""]
[null,null,null,null,null,null,null,null,null,null,null,null,null,null,null,null,null,{"$f":"IF(ISBLANK(K51),\"\",VLOOKUP(K51,Tableau8[],2,FALSE))","v":""},"","",{"$f":"IF(ISBLANK(I51),\"\",VLOOKUP(I51,tableau1[],2,FALSE))","v":""},{"$f":"IF(ISBLANK(J51),\"\",VLOOKUP(J51,tableau2[],2,FALSE))","v":""},"",""]
[null,null,null,null,null,null,null,null,null,null,null,null,null,null,null,null,null,{"$f":"IF(ISBLANK(K52),\"\",VLOOKUP(K52,Tableau8[],2,FALSE))","v":""},"","",{"$f":"IF(ISBLANK(I52),\"\",VLOOKUP(I52,tableau1[],2,FALSE))","v":""},{"$f":"IF(ISBLANK(J52),\"\",VLOOKUP(J52,tableau2[],2,FALSE))","v":""},"",""]
[null,null,null,null,null,null,null,null,null,null,null,null,null,null,null,null,null,{"$f":"IF(ISBLANK(K53),\"\",VLOOKUP(K53,Tableau8[],2,FALSE))","v":""},"","",{"$f":"IF(ISBLANK(I53),\"\",VLOOKUP(I53,tableau1[],2,FALSE))","v":""},{"$f":"IF(ISBLANK(J53),\"\",VLOOKUP(J53,tableau2[],2,FALSE))","v":""},"",""]
[null,null,null,null,null,null,null,null,null,null,null,null,null,null,null,null,null,{"$f":"IF(ISBLANK(K54),\"\",VLOOKUP(K54,Tableau8[],2,FALSE))","v":""},"","",{"$f":"IF(ISBLANK(I54),\"\",VLOOKUP(I54,tableau1[],2,FALSE))","v":""},{"$f":"IF(ISBLANK(J54),\"\",VLOOKUP(J54,tableau2[],2,FALSE))","v":""},"",""]
[null,null,null,null,null,null,null,null,null,null,null,null,null,null,null,null,null,{"$f":"IF(ISBLANK(K55),\"\",VLOOKUP(K55,Tableau8[],2,FALSE))","v":""},"","",{"$f":"IF(ISBLANK(I55),\"\",VLOOKUP(I55,tableau1[],2,FALSE))","v":""},{"$f":"IF(ISBLANK(J55),\"\",VLOOKUP(J55,tableau2[],2,FALSE))","v":""},"",""]
[null,null,null,null,null,null,null,null,null,null,null,null,null,null,null,null,null,{"$f":"IF(ISBLANK(K56),\"\",VLOOKUP(K56,Tableau8[],2,FALSE))","v":""},"","",{"$f":"IF(ISBLANK(I56),\"\",VLOOKUP(I56,tableau1[],2,FALSE))","v":""},{"$f":"IF(ISBLANK(J56),\"\",VLOOKUP(J56,tableau2[],2,FALSE))","v":""},"",""]
[null,null,null,null,null,null,null,null,null,null,null,null,null,null,null,null,null,{"$f":"IF(ISBLANK(K57),\"\",VLOOKUP(K57,Tableau8[],2,FALSE))","v":""},"","",{"$f":"IF(ISBLANK(I57),\"\",VLOOKUP(I57,tableau1[],2,FALSE))","v":""},{"$f":"IF(ISBLANK(J57),\"\",VLOOKUP(J57,tableau2[],2,FALSE))","v":""},"",""]
[null,null,null,null,null,null,null,null,null,null,null,null,null,null,null,null,null,{"$f":"IF(ISBLANK(K58),\"\",VLOOKUP(K58,Tableau8[],2,FALSE))","v":""},"","",{"$f":"IF(ISBLANK(I58),\"\",VLOOKUP(I58,tableau1[],2,FALSE))","v":""},{"$f":"IF(ISBLANK(J58),\"\",VLOOKUP(J58,tableau2[],2,FALSE))","v":""},"",""]
[null,null,null,null,null,null,null,null,null,null,null,null,null,null,null,null,null,{"$f":"IF(ISBLANK(K59),\"\",VLOOKUP(K59,Tableau8[],2,FALSE))","v":""},"","",{"$f":"IF(ISBLANK(I59),\"\",VLOOKUP(I59,tableau1[],2,FALSE))","v":""},{"$f":"IF(ISBLANK(J59),\"\",VLOOKUP(J59,tableau2[],2,FALSE))","v":""},"",""]
[null,null,null,null,null,null,null,null,null,null,null,null,null,null,null,null,null,{"$f":"IF(ISBLANK(K60),\"\",VLOOKUP(K60,Tableau8[],2,FALSE))","v":""},"","",{"$f":"IF(ISBLANK(I60),\"\",VLOOKUP(I60,tableau1[],2,FALSE))","v":""},{"$f":"IF(ISBLANK(J60),\"\",VLOOKUP(J60,tableau2[],2,FALSE))","v":""},"",""]
[null,null,null,null,null,null,null,null,null,null,null,null,null,null,null,null,null,{"$f":"IF(ISBLANK(K61),\"\",VLOOKUP(K61,Tableau8[],2,FALSE))","v":""},"","",{"$f":"IF(ISBLANK(I61),\"\",VLOOKUP(I61,tableau1[],2,FALSE))","v":""},{"$f":"IF(ISBLANK(J61),\"\",VLOOKUP(J61,tableau2[],2,FALSE))","v":""},"",""]
[null,null,null,null,null,null,null,null,null,null,null,null,null,null,null,null,null,{"$f":"IF(ISBLANK(K62),\"\",VLOOKUP(K62,Tableau8[],2,FALSE))","v":""},"","",{"$f":"IF(ISBLANK(I62),\"\",VLOOKUP(I62,tableau1[],2,FALSE))","v":""},{"$f":"IF(ISBLANK(J62),\"\",VLOOKUP(J62,tableau2[],2,FALSE))","v":""},"",""]
[null,null,null,null,null,null,null,null,null,null,null,null,null,null,null,null,null,{"$f":"IF(ISBLANK(K63),\"\",VLOOKUP(K63,Tableau8[],2,FALSE))","v":""},"","",{"$f":"IF(ISBLANK(I63),\"\",VLOOKUP(I63,tableau1[],2,FALSE))","v":""},{"$f":"IF(ISBLANK(J63),\"\",VLOOKUP(J63,tableau2[],2,FALSE))","v":""},"",""]
[null,null,null,null,null,null,null,null,null,null,null,null,null,null,null,null,null,{"$f":"IF(ISBLANK(K64),\"\",VLOOKUP(K64,Tableau8[],2,FALSE))","v":""},"","",{"$f":"IF(ISBLANK(I64),\"\",VLOOKUP(I64,tableau1[],2,FALSE))","v":""},{"$f":"IF(ISBLANK(J64),\"\",VLOOKUP(J64,tableau2[],2,FALSE))","v":""},"",""]
[null,null,null,null,null,null,null,null,null,null,null,null,null,null,null,null,null,{"$f":"IF(ISBLANK(K65),\"\",VLOOKUP(K65,Tableau8[],2,FALSE))","v":""},"","",{"$f":"IF(ISBLANK(I65),\"\",VLOOKUP(I65,tableau1[],2,FALSE))","v":""},{"$f":"IF(ISBLANK(J65),\"\",VLOOKUP(J65,tableau2[],2,FALSE))","v":""},"",""]
[null,null,null,null,null,null,null,null,null,null,null,null,null,null,null,null,null,{"$f":"IF(ISBLANK(K66),\"\",VLOOKUP(K66,Tableau8[],2,FALSE))","v":""},"","",{"$f":"IF(ISBLANK(I66),\"\",VLOOKUP(I66,tableau1[],2,FALSE))","v":""},{"$f":"IF(ISBLANK(J66),\"\",VLOOKUP(J66,tableau2[],2,FALSE))","v":""},"",""]
[null,null,null,null,null,null,null,null,null,null,null,null,null,null,null,null,null,{"$f":"IF(ISBLANK(K67),\"\",VLOOKUP(K67,Tableau8[],2,FALSE))","v":""},"","",{"$f":"IF(ISBLANK(I67),\"\",VLOOKUP(I67,tableau1[],2,FALSE))","v":""},{"$f":"IF(ISBLANK(J67),\"\",VLOOKUP(J67,tableau2[],2,FALSE))","v":""},"",""]
[null,null,null,null,null,null,null,null,null,null,null,null,null,null,null,null,null,{"$f":"IF(ISBLANK(K68),\"\",VLOOKUP(K68,Tableau8[],2,FALSE))","v":""},"","",{"$f":"IF(ISBLANK(I68),\"\",VLOOKUP(I68,tableau1[],2,FALSE))","v":""},{"$f":"IF(ISBLANK(J68),\"\",VLOOKUP(J68,tableau2[],2,FALSE))","v":""},"",""]
[null,null,null,null,null,null,null,null,null,null,null,null,null,null,null,null,null,{"$f":"IF(ISBLANK(K69),\"\",VLOOKUP(K69,Tableau8[],2,FALSE))","v":""},"","",{"$f":"IF(ISBLANK(I69),\"\",VLOOKUP(I69,tableau1[],2,FALSE))","v":""},{"$f":"IF(ISBLANK(J69),\"\",VLOOKUP(J69,tableau2[],2,FALSE))","v":""},"",""]
[null,null,null,null,null,null,null,null,null,null,null,null,null,null,null,null,null,{"$f":"IF(ISBLANK(K70),\"\",VLOOKUP(K70,Tableau8[],2,FALSE))","v":""},"","",{"$f":"IF(ISBLANK(I70),\"\",VLOOKUP(I70,tableau1[],2,FALSE))","v":""},{"$f":"IF(ISBLANK(J70),\"\",VLOOKUP(J70,tableau2[],2,FALSE))","v":""},"",""]
[null,null,null,null,null,null,null,null,null,null,null,null,null,null,null,null,null,{"$f":"IF(ISBLANK(K71),\"\",VLOOKUP(K71,Tableau8[],2,FALSE))","v":""},{"$f":"IF(ISBLANK(L71),\"\",L71)","v":""},null,null,null,{"$f":"IF(ISBLANK(H71),\"\",H71)","v":""},{"$f":"IF(ISBLANK(G71),\"\",G71)","v":""}]
[null,"CA2",{"$f":"Listes!J7","v":"AFL1 : S’engager à l’aide d’une motricité spécifique pour réaliser en sécurité et à son meilleur niveau, un itinéraire dans un contexte incertain"},"EP1",{"$f":"Listes!M7","v":"Comprendre et mettre en oeuvre, seul et/ou à plusieurs, les principes et procédures d’une pratique qui garantit la sécurité de tous"},null,null,null,null,null,null,null,null,"Objectifs généraux EPS",null,"invariants des OG dans chaque CA",null,{"$f":"IF(ISBLANK(K72),\"\",VLOOKUP(K72,Tableau8[],2,FALSE))","v":""},"",{"$f":"IF(ISBLANK(G72),\"\",\"CA2\")","v":""},{"$f":"IF(ISBLANK(I72),\"\",VLOOKUP(I72,tableau6[],2,FALSE))","v":""},{"$f":"IF(ISBLANK(J72),\"\",VLOOKUP(J72,tableau7[],2,FALSE))","v":""},"",""]
[null,null,null,null,null,null,null,null,null,null,null,null,null,"OG1",{"$f":"Listes!$AR$7","v":"Développer sa motricité"},{"$f":"Listes!$AT$7","v":"APSA diversifiées"},null,{"$f":"IF(ISBLANK(K73),\"\",VLOOKUP(K73,Tableau8[],2,FALSE))","v":""},"",{"$f":"IF(ISBLANK(G73),\"\",\"CA2\")","v":""},{"$f":"IF(ISBLANK(I73),\"\",VLOOKUP(I73,tableau6[],2,FALSE))","v":""},{"$f":"IF(ISBLANK(J73),\"\",VLOOKUP(J73,tableau7[],2,FALSE))","v":""},"",""]
[null,null,null,null,null,null,null,null,null,null,null,null,null,null,null,{"$f":"Listes!$AT$8","v":"APSA approfondies"},null,{"$f":"IF(ISBLANK(K74),\"\",VLOOKUP(K74,Tableau8[],2,FALSE))","v":""},"","",{"$f":"IF(ISBLANK(I74),\"\",VLOOKUP(I74,tableau6[],2,FALSE))","v":""},{"$f":"IF(ISBLANK(J74),\"\",VLOOKUP(J74,tableau7[],2,FALSE))","v":""},"",""]
[null,null,null,"EP2",{"$f":"Listes!M8","v":"Développer des appuis adaptés à l’itinéraire choisi et utiliser les principes mécaniques d’une motricité efficace"},null,null,null,null,null,null,null,null,"OG2",{"$f":"Listes!$AR$8","v":"Savoir se préparer et s'entraîner"},{"$f":"Listes!$AV$7","v":"Se connaître"},null,{"$f":"IF(ISBLANK(K75),\"\",VLOOKUP(K75,Tableau8[],2,FALSE))","v":""},"","",{"$f":"IF(ISBLANK(I75),\"\",VLOOKUP(I75,tableau6[],2,FALSE))","v":""},{"$f":"IF(ISBLANK(J75),\"\",VLOOKUP(J75,tableau7[],2,FALSE))","v":""},"",""]
[null,null,null,null,null,null,null,null,null,null,null,null,null,null,null,{"$f":"Listes!$AV$8","v":"Faire des choix"},null,{"$f":"IF(ISBLANK(K76),\"\",VLOOKUP(K76,Tableau8[],2,FALSE))","v":""},"","",{"$f":"IF(ISBLANK(I76),\"\",VLOOKUP(I76,tableau6[],2,FALSE))","v":""},{"$f":"IF(ISBLANK(J76),\"\",VLOOKUP(J76,tableau7[],2,FALSE))","v":""},"",""]
[null,null,null,"EP3",{"$f":"Listes!M9","v":"Gérer ses efforts en fonction des contraintes du milieu et de ses ressentis (musculaires, respiratoires, émotionnels, psychologiques…) pour réaliser les déplacements"},null,null,null,null,null,null,null,null,null,null,{"$f":"Listes!$AV$9","v":"Se preparer"},null,{"$f":"IF(ISBLANK(K77),\"\",VLOOKUP(K77,Tableau8[],2,FALSE))","v":""},"","",{"$f":"IF(ISBLANK(I77),\"\",VLOOKUP(I77,tableau6[],2,FALSE))","v":""},{"$f":"IF(ISBLANK(J77),\"\",VLOOKUP(J77,tableau7[],2,FALSE))","v":""},"",""]
[null,null,null,null,null,null,null,null,null,null,null,null,null,null,null,{"$f":"Listes!$AV$10","v":"Conduire et réguler ses efforts"},null,{"$f":"IF(ISBLANK(K78),\"\",VLOOKUP(K78,Tableau8[],2,FALSE))","v":""},"","",{"$f":"IF(ISBLANK(I78),\"\",VLOOKUP(I78,tableau6[],2,FALSE))","v":""},{"$f":"IF(ISBLANK(J78),\"\",VLOOKUP(J78,tableau7[],2,FALSE))","v":""},"",""]
[null,null,null,null,null,null,null,null,null,null,null,null,null,"OG3",{"$f":"Listes!$AR$9","v":"Exercer sa responsabilité individuelle au sein d'un collectif"},{"$f":"Listes!$AX$7","v":"Juge arbitre"},null,{"$f":"IF(ISBLANK(K79),\"\",VLOOKUP(K79,Tableau8[],2,FALSE))","v":""},"","",{"$f":"IF(ISBLANK(I79),\"\",VLOOKUP(I79,tableau6[],2,FALSE))","v":""},{"$f":"IF(ISBLANK(J79),\"\",VLOOKUP(J79,tableau7[],2,FALSE))","v":""},"",""]
[null,null,{"$f":"Listes!J8","v":"AFL2 : S’entraîner individuellement et collectivement, pour se déplacer de manière efficiente et en toute sécurité"},"EP4",{"$f":"Listes!M10","v":"Maintenir un engagement physique tout en restant lucide dans ses choix"},null,null,null,null,null,null,null,null,null,null,{"$f":"Listes!$AX$8","v":"Observateur, conseil, aide"},null,{"$f":"IF(ISBLANK(K80),\"\",VLOOKUP(K80,Tableau8[],2,FALSE))","v":""},"","",{"$f":"IF(ISBLANK(I80),\"\",VLOOKUP(I80,tableau6[],2,FALSE))","v":""},{"$f":"IF(ISBLANK(J80),\"\",VLOOKUP(J80,tableau7[],2,FALSE))","v":""},"",""]
[null,null,null,null,null,null,null,null,null,null,null,null,null,null,null,{"$f":"Listes!$AX$9","v":"Partenaire, adversaire"},null,{"$f":"IF(ISBLANK(K81),\"\",VLOOKUP(K81,Tableau8[],2,FALSE))","v":""},"","",{"$f":"IF(ISBLANK(I81),\"\",VLOOKUP(I81,tableau6[],2,FALSE))","v":""},{"$f":"IF(ISBLANK(J81),\"\",VLOOKUP(J81,tableau7[],2,FALSE))","v":""},"",""]
[null,null,null,"EP5",{"$f":"Listes!M11","v":"Se préparer à un effort spécifique, récupérer"},null,null,null,null,null,null,null,null,"OG4",{"$f":"Listes!$AR$10","v":"Construire durablement sa santé"},{"$f":"Listes!$AZ$7","v":"Construire une image positive de soi (progrès réalisé)"},null,{"$f":"IF(ISBLANK(K82),\"\",VLOOKUP(K82,Tableau8[],2,FALSE))","v":""},"","",{"$f":"IF(ISBLANK(I82),\"\",VLOOKUP(I82,tableau6[],2,FALSE))","v":""},{"$f":"IF(ISBLANK(J82),\"\",VLOOKUP(J82,tableau7[],2,FALSE))","v":""},"",""]
[null,null,null,null,null,null,null,null,null,null,null,null,null,null,null,{"$f":"Listes!$AZ$8","v":"Assurer sa sécurité ou celle des autres"},null,{"$f":"IF(ISBLANK(K83),\"\",VLOOKUP(K83,Tableau8[],2,FALSE))","v":""},"","",{"$f":"IF(ISBLANK(I83),\"\",VLOOKUP(I83,tableau6[],2,FALSE))","v":""},{"$f":"IF(ISBLANK(J83),\"\",VLOOKUP(J83,tableau7[],2,FALSE))","v":""},"",""]
[null,null,null,"EP6",{"$f":"Listes!M12","v":"Choisir, mettre en oeuvre et réguler un projet de déplacement"},null,null,null,null,null,null,null,null,null,null,{"$f":"Listes!$AZ$9","v":"Prendre du plaisir"},null,{"$f":"IF(ISBLANK(K84),\"\",VLOOKUP(K84,Tableau8[],2,FALSE))","v":""},"","",{"$f":"IF(ISBLANK(I84),\"\",VLOOKUP(I84,tableau6[],2,FALSE))","v":""},{"$f":"IF(ISBLANK(J84),\"\",VLOOKUP(J84,tableau7[],2,FALSE))","v":""},"",""]
[null,null,null,null,null,null,null,null,null,null,null,null,null,"OG5",{"$f":"Listes!$AR$11","v":"Accéder au patrimoine culturel"},{"$f":"Listes!$BB$7","v":"Se situer en tant que pratiquant"},null,{"$f":"IF(ISBLANK(K85),\"\",VLOOKUP(K85,Tableau8[],2,FALSE))","v":""},"","",{"$f":"IF(ISBLANK(I85),\"\",VLOOKUP(I85,tableau6[],2,FALSE))","v":""},{"$f":"IF(ISBLANK(J85),\"\",VLOOKUP(J85,tableau7[],2,FALSE))","v":""},"",""]
[null,null,{"$f":"Listes!J9","v":"AFL3 : Coopérer pour réaliser un projet de déplacement, en toute sécurité"},"EP7",{"$f":"Listes!M13","v":"Utiliser différents supports d’observation et d’analyse pour apprécier des prestations"},null,null,null,null,null,null,null,null,null,null,{"$f":"Listes!$BB$8","v":"Se situer en tant que spectateur/critique"},null,{"$f":"IF(ISBLANK(K86),\"\",VLOOKUP(K86,Tableau8[],2,FALSE))","v":""},"","",{"$f":"IF(ISBLANK(I86),\"\",VLOOKUP(I86,tableau6[],2,FALSE))","v":""},{"$f":"IF(ISBLANK(J86),\"\",VLOOKUP(J86,tableau7[],2,FALSE))","v":""},"",""]
[null,null,null,null,null,null,null,null,null,null,null,null,null,null,null,null,null,{"$f":"IF(ISBLANK(K87),\"\",VLOOKUP(K87,Tableau8[],2,FALSE))","v":""},"","",{"$f":"IF(ISBLANK(I87),\"\",VLOOKUP(I87,tableau6[],2,FALSE))","v":""},{"$f":"IF(ISBLANK(J87),\"\",VLOOKUP(J87,tableau7[],2,FALSE))","v":""},"",""]
[null,null,null,"EP8",{"$f":"Listes!M14","v":"Répéter et persévérer pour améliorer l’efficacité de ses actions"},null,null,null,null,null,null,null,null,null,null,null,null,{"$f":"IF(ISBLANK(K88),\"\",VLOOKUP(K88,Tableau8[],2,FALSE))","v":""},"","",{"$f":"IF(ISBLANK(I88),\"\",VLOOKUP(I88,tableau6[],2,FALSE))","v":""},{"$f":"IF(ISBLANK(J88),\"\",VLOOKUP(J88,tableau7[],2,FALSE))","v":""},"",""]
[null,null,null,null,null,null,null,null,null,null,null,null,null,null,null,null,null,{"$f":"IF(ISBLANK(K89),\"\",VLOOKUP(K89,Tableau8[],2,FALSE))","v":""},"","",{"$f":"IF(ISBLANK(I89),\"\",VLOOKUP(I89,tableau6[],2,FALSE))","v":""},{"$f":"IF(ISBLANK(J89),\"\",VLOOKUP(J89,tableau7[],2,FALSE))","v":""},"",""]
[null,null,null,"EP9",{"$f":"Listes!M15","v":"S’entraider pour donner confiance"},null,null,null,null,null,null,null,null,null,null,null,null,{"$f":"IF(ISBLANK(K90),\"\",VLOOKUP(K90,Tableau8[],2,FALSE))","v":""},"","",{"$f":"IF(ISBLANK(I90),\"\",VLOOKUP(I90,tableau6[],2,FALSE))","v":""},{"$f":"IF(ISBLANK(J90),\"\",VLOOKUP(J90,tableau7[],2,FALSE))","v":""},"",""]
[null,null,null,null,null,null,null,null,null,null,null,null,null,null,null,null,null,{"$f":"IF(ISBLANK(K91),\"\",VLOOKUP(K91,Tableau8[],2,FALSE))","v":""},"","",{"$f":"IF(ISBLANK(I91),\"\",VLOOKUP(I91,tableau6[],2,FALSE))","v":""},{"$f":"IF(ISBLANK(J91),\"\",VLOOKUP(J91,tableau7[],2,FALSE))","v":""},"",""]
[null,null,null,"EP10",{"$f":"Listes!M16","v":"Sélectionner et prendre en compte les informations utiles pour définir son itinéraire"},null,null,null,null,null,null,null,null,null,null,null,null,{"$f":"IF(ISBLANK(K92),\"\",VLOOKUP(K92,Tableau8[],2,FALSE))","v":""},"","",{"$f":"IF(ISBLANK(I92),\"\",VLOOKUP(I92,tableau6[],2,FALSE))","v":""},{"$f":"IF(ISBLANK(J92),\"\",VLOOKUP(J92,tableau7[],2,FALSE))","v":""},"",""]
[null,null,null,null,null,null,null,null,null,null,null,null,null,null,null,null,null,{"$f":"IF(ISBLANK(K93),\"\",VLOOKUP(K93,Tableau8[],2,FALSE))","v":""},"","",{"$f":"IF(ISBLANK(I93),\"\",VLOOKUP(I93,tableau6[],2,FALSE))","v":""},{"$f":"IF(ISBLANK(J93),\"\",VLOOKUP(J93,tableau7[],2,FALSE))","v":""},"",""]
[null,null,null,null,null,null,null,null,null,null,null,null,null,null,null,null,null,{"$f":"IF(ISBLANK(K94),\"\",VLOOKUP(K94,Tableau8[],2,FALSE))","v":""},"","",{"$f":"IF(ISBLANK(I94),\"\",VLOOKUP(I94,tableau6[],2,FALSE))","v":""},{"$f":"IF(ISBLANK(J94),\"\",VLOOKUP(J94,tableau7[],2,FALSE))","v":""},"",""]
[null,null,null,null,null,null,null,null,null,null,null,null,null,null,null,null,null,{"$f":"IF(ISBLANK(K95),\"\",VLOOKUP(K95,Tableau8[],2,FALSE))","v":""},"","",{"$f":"IF(ISBLANK(I95),\"\",VLOOKUP(I95,tableau6[],2,FALSE))","v":""},{"$f":"IF(ISBLANK(J95),\"\",VLOOKUP(J95,tableau7[],2,FALSE))","v":""},"",""]
[null,null,null,null,null,null,null,null,null,null,null,null,null,null,null,null,null,{"$f":"IF(ISBLANK(K96),\"\",VLOOKUP(K96,Tableau8[],2,FALSE))","v":""},"","",{"$f":"IF(ISBLANK(I96),\"\",VLOOKUP(I96,tableau6[],2,FALSE))","v":""},{"$f":"IF(ISBLANK(J96),\"\",VLOOKUP(J96,tableau7[],2,FALSE))","v":""},"",""]
[null,null,null,null,null,null,null,null,null,null,null,null,null,null,null,null,null,{"$f":"IF(ISBLANK(K97),\"\",VLOOKUP(K97,Tableau8[],2,FALSE))","v":""},"","",{"$f":"IF(ISBLANK(I97),\"\",VLOOKUP(I97,tableau6[],2,FALSE))","v":""},{"$f":"IF(ISBLANK(J97),\"\",VLOOKUP(J97,tableau7[],2,FALSE))","v":""},"",""]
[null,null,null,null,null,null,null,null,null,null,null,null,null,null,null,null,null,{"$f":"IF(ISBLANK(K98),\"\",VLOOKUP(K98,Tableau8[],2,FALSE))","v":""},"","",{"$f":"IF(ISBLANK(I98),\"\",VLOOKUP(I98,tableau6[],2,FALSE))","v":""},{"$f":"IF(ISBLANK(J98),\"\",VLOOKUP(J98,tableau7[],2,FALSE))","v":""},"",""]
[null,null,null,null,null,null,null,null,null,null,null,null,null,null,null,null,null,{"$f":"IF(ISBLANK(K99),\"\",VLOOKUP(K99,Tableau8[],2,FALSE))","v":""},"","",{"$f":"IF(ISBLANK(I99),\"\",VLOOKUP(I99,tableau6[],2,FALSE))","v":""},{"$f":"IF(ISBLANK(J99),\"\",VLOOKUP(J99,tableau7[],2,FALSE))","v":""},"",""]
[null,null,null,null,null,null,null,null,null,null,null,null,null,null,null,null,null,{"$f":"IF(ISBLANK(K100),\"\",VLOOKUP(K100,Tableau8[],2,FALSE))","v":""},"","",{"$f":"IF(ISBLANK(I100),\"\",VLOOKUP(I100,tableau6[],2,FALSE))","v":""},{"$f":"IF(ISBLANK(J100),\"\",VLOOKUP(J100,tableau7[],2,FALSE))","v":""},"",""]
[null,null,null,null,null,null,null,null,null,null,null,null,null,null,null,null,null,{"$f":"IF(ISBLANK(K101),\"\",VLOOKUP(K101,Tableau8[],2,FALSE))","v":""},"","",{"$f":"IF(ISBLANK(I101),\"\",VLOOKUP(I101,tableau6[],2,FALSE))","v":""},{"$f":"IF(ISBLANK(J101),\"\",VLOOKUP(J101,tableau7[],2,FALSE))","v":""},"",""]
[null,null,null,null,null,null,null,null,null,null,null,null,null,null,null,null,null,{"$f":"IF(ISBLANK(K102),\"\",VLOOKUP(K102,Tableau8[],2,FALSE))","v":""},"","",{"$f":"IF(ISBLANK(I102),\"\",VLOOKUP(I102,tableau6[],2,FALSE))","v":""},{"$f":"IF(ISBLANK(J102),\"\",VLOOKUP(J102,tableau7[],2,FALSE))","v":""},"",""]
[null,null,null,null,null,null,null,null,null,null,null,null,null,null,null,null,null,{"$f":"IF(ISBLANK(K103),\"\",VLOOKUP(K103,Tableau8[],2,FALSE))","v":""},"","",{"$f":"IF(ISBLANK(I103),\"\",VLOOKUP(I103,tableau6[],2,FALSE))","v":""},{"$f":"IF(ISBLANK(J103),\"\",VLOOKUP(J103,tableau7[],2,FALSE))","v":""},"",""]
[null,null,null,null,null,null,null,null,null,null,null,null,null,null,null,null,null,{"$f":"IF(ISBLANK(K104),\"\",VLOOKUP(K104,Tableau8[],2,FALSE))","v":""},"","",{"$f":"IF(ISBLANK(I104),\"\",VLOOKUP(I104,tableau6[],2,FALSE))","v":""},{"$f":"IF(ISBLANK(J104),\"\",VLOOKUP(J104,tableau7[],2,FALSE))","v":""},"",""]
[null,null,null,null,null,null,null,null,null,null,null,null,null,null,null,null,null,{"$f":"IF(ISBLANK(K105),\"\",VLOOKUP(K105,Tableau8[],2,FALSE))","v":""},"","",{"$f":"IF(ISBLANK(I105),\"\",VLOOKUP(I105,tableau6[],2,FALSE))","v":""},{"$f":"IF(ISBLANK(J105),\"\",VLOOKUP(J105,tableau7[],2,FALSE))","v":""},"",""]
[null,null,null,null,null,null,null,null,null,null,null,null,null,null,null,null,null,{"$f":"IF(ISBLANK(K106),\"\",VLOOKUP(K106,Tableau8[],2,FALSE))","v":""},"","",{"$f":"IF(ISBLANK(I106),\"\",VLOOKUP(I106,tableau6[],2,FALSE))","v":""},{"$f":"IF(ISBLANK(J106),\"\",VLOOKUP(J106,tableau7[],2,FALSE))","v":""},"",""]
[null,null,null,null,null,null,null,null,null,null,null,null,null,null,null,null,null,{"$f":"IF(ISBLANK(K107),\"\",VLOOKUP(K107,Tableau8[],2,FALSE))","v":""},"","",{"$f":"IF(ISBLANK(I107),\"\",VLOOKUP(I107,tableau6[],2,FALSE))","v":""},{"$f":"IF(ISBLANK(J107),\"\",VLOOKUP(J107,tableau7[],2,FALSE))","v":""},"",""]
[null,null,null,null,null,null,null,null,null,null,null,null,null,null,null,null,null,{"$f":"IF(ISBLANK(K108),\"\",VLOOKUP(K108,Tableau8[],2,FALSE))","v":""},"","",{"$f":"IF(ISBLANK(I108),\"\",VLOOKUP(I108,tableau6[],2,FALSE))","v":""},{"$f":"IF(ISBLANK(J108),\"\",VLOOKUP(J108,tableau7[],2,FALSE))","v":""},"",""]
[null,null,null,null,null,null,null,null,null,null,null,null,null,null,null,null,null,{"$f":"IF(ISBLANK(K109),\"\",VLOOKUP(K109,Tableau8[],2,FALSE))","v":""},"","",{"$f":"IF(ISBLANK(I109),\"\",VLOOKUP(I109,tableau6[],2,FALSE))","v":""},{"$f":"IF(ISBLANK(J109),\"\",VLOOKUP(J109,tableau7[],2,FALSE))","v":""},"",""]
[null,null,null,null,null,null,null,null,null,null,null,null,null,null,null,null,null,{"$f":"IF(ISBLANK(K110),\"\",VLOOKUP(K110,Tableau8[],2,FALSE))","v":""},"","",{"$f":"IF(ISBLANK(I110),\"\",VLOOKUP(I110,tableau6[],2,FALSE))","v":""},{"$f":"IF(ISBLANK(J110),\"\",VLOOKUP(J110,tableau7[],2,FALSE))","v":""},"",""]
[null,null,null,null,null,null,null,null,null,null,null,null,null,null,null,null,null,{"$f":"IF(ISBLANK(K111),\"\",VLOOKUP(K111,Tableau8[],2,FALSE))","v":""},"","",{"$f":"IF(ISBLANK(I111),\"\",VLOOKUP(I111,tableau6[],2,FALSE))","v":""},{"$f":"IF(ISBLANK(J111),\"\",VLOOKUP(J111,tableau7[],2,FALSE))","v":""},"",""]
[null,null,null,null,null,null,null,null,null,null,null,null,null,null,null,null,null,{"$f":"IF(ISBLANK(K112),\"\",VLOOKUP(K112,Tableau8[],2,FALSE))","v":""},"","",{"$f":"IF(ISBLANK(I112),\"\",VLOOKUP(I112,tableau6[],2,FALSE))","v":""},{"$f":"IF(ISBLANK(J112),\"\",VLOOKUP(J112,tableau7[],2,FALSE))","v":""},"",""]
[null,null,null,null,null,null,null,null,null,null,null,null,null,null,null,null,null,{"$f":"IF(ISBLANK(K113),\"\",VLOOKUP(K113,Tableau8[],2,FALSE))","v":""},"","",{"$f":"IF(ISBLANK(I113),\"\",VLOOKUP(I113,tableau6[],2,FALSE))","v":""},{"$f":"IF(ISBLANK(J113),\"\",VLOOKUP(J113,tableau7[],2,FALSE))","v":""},"",""]
[null,null,null,null,null,null,null,null,null,null,null,null,null,null,null,null,null,{"$f":"IF(ISBLANK(K114),\"\",VLOOKUP(K114,Tableau8[],2,FALSE))","v":""},"","",{"$f":"IF(ISBLANK(I114),\"\",VLOOKUP(I114,tableau6[],2,FALSE))","v":""},{"$f":"IF(ISBLANK(J114),\"\",VLOOKUP(J114,tableau7[],2,FALSE))","v":""},"",""]
[null,null,null,null,null,null,null,null,null,null,null,null,null,null,null,null,null,{"$f":"IF(ISBLANK(K115),\"\",VLOOKUP(K115,Tableau8[],2,FALSE))","v":""},"","",{"$f":"IF(ISBLANK(I115),\"\",VLOOKUP(I115,tableau6[],2,FALSE))","v":""},{"$f":"IF(ISBLANK(J115),\"\",VLOOKUP(J115,tableau7[],2,FALSE))","v":""},"",""]
[null,null,null,null,null,null,null,null,null,null,null,null,null,null,null,null,null,{"$f":"IF(ISBLANK(K116),\"\",VLOOKUP(K116,Tableau8[],2,FALSE))","v":""},"","",{"$f":"IF(ISBLANK(I116),\"\",VLOOKUP(I116,tableau6[],2,FALSE))","v":""},{"$f":"IF(ISBLANK(J116),\"\",VLOOKUP(J116,tableau7[],2,FALSE))","v":""},"",""]
[null,null,null,null,null,null,null,null,null,null,null,null,null,null,null,null,null,{"$f":"IF(ISBLANK(K117),\"\",VLOOKUP(K117,Tableau8[],2,FALSE))","v":""},"","",{"$f":"IF(ISBLANK(I117),\"\",VLOOKUP(I117,tableau6[],2,FALSE))","v":""},{"$f":"IF(ISBLANK(J117),\"\",VLOOKUP(J117,tableau7[],2,FALSE))","v":""},"",""]
[null,null,null,null,null,null,null,null,null,null,null,null,null,null,null,null,null,{"$f":"IF(ISBLANK(K118),\"\",VLOOKUP(K118,Tableau8[],2,FALSE))","v":""},"","",{"$f":"IF(ISBLANK(I118),\"\",VLOOKUP(I118,tableau6[],2,FALSE))","v":""},{"$f":"IF(ISBLANK(J118),\"\",VLOOKUP(J118,tableau7[],2,FALSE))","v":""},"",""]
[null,null,null,null,null,null,null,null,null,null,null,null,null,null,null,null,null,{"$f":"IF(ISBLANK(K119),\"\",VLOOKUP(K119,Tableau8[],2,FALSE))","v":""},"","",{"$f":"IF(ISBLANK(I119),\"\",VLOOKUP(I119,tableau6[],2,FALSE))","v":""},{"$f":"IF(ISBLANK(J119),\"\",VLOOKUP(J119,tableau7[],2,FALSE))","v":""},"",""]
[null,null,null,null,null,null,null,null,null,null,null,null,null,null,null,null,null,{"$f":"IF(ISBLANK(K120),\"\",VLOOKUP(K120,Tableau8[],2,FALSE))","v":""},"","",{"$f":"IF(ISBLANK(I120),\"\",VLOOKUP(I120,tableau6[],2,FALSE))","v":""},{"$f":"IF(ISBLANK(J120),\"\",VLOOKUP(J120,tableau7[],2,FALSE))","v":""},"",""]
[null,null,null,null,null,null,null,null,null,null,null,null,null,null,null,null,null,{"$f":"IF(ISBLANK(K121),\"\",VLOOKUP(K121,Tableau8[],2,FALSE))","v":""},"","",{"$f":"IF(ISBLANK(I121),\"\",VLOOKUP(I121,tableau6[],2,FALSE))","v":""},{"$f":"IF(ISBLANK(J121),\"\",VLOOKUP(J121,tableau7[],2,FALSE))","v":""},"",""]
[null,null,null,null,null,null,null,null,null,null,null,null,null,null,null,null,null,{"$f":"IF(ISBLANK(K122),\"\",VLOOKUP(K122,Tableau8[],2,FALSE))","v":""},"","",{"$f":"IF(ISBLANK(I122),\"\",VLOOKUP(I122,tableau6[],2,FALSE))","v":""},{"$f":"IF(ISBLANK(J122),\"\",VLOOKUP(J122,tableau7[],2,FALSE))","v":""},"",""]
[null,null,null,null,null,null,null,null,null,null,null,null,null,null,null,null,null,{"$f":"IF(ISBLANK(K123),\"\",VLOOKUP(K123,Tableau8[],2,FALSE))","v":""},"","",{"$f":"IF(ISBLANK(I123),\"\",VLOOKUP(I123,tableau6[],2,FALSE))","v":""},{"$f":"IF(ISBLANK(J123),\"\",VLOOKUP(J123,tableau7[],2,FALSE))","v":""},"",""]
[null,null,null,null,null,null,null,null,null,null,null,null,null,null,null,null,null,{"$f":"IF(ISBLANK(K124),\"\",VLOOKUP(K124,Tableau8[],2,FALSE))","v":""},"","",{"$f":"IF(ISBLANK(I124),\"\",VLOOKUP(I124,tableau6[],2,FALSE))","v":""},{"$f":"IF(ISBLANK(J124),\"\",VLOOKUP(J124,tableau7[],2,FALSE))","v":""},"",""]
[null,null,null,null,null,null,null,null,null,null,null,null,null,null,null,null,null,{"$f":"IF(ISBLANK(K125),\"\",VLOOKUP(K125,Tableau8[],2,FALSE))","v":""},"","",{"$f":"IF(ISBLANK(I125),\"\",VLOOKUP(I125,tableau6[],2,FALSE))","v":""},{"$f":"IF(ISBLANK(J125),\"\",VLOOKUP(J125,tableau7[],2,FALSE))","v":""},"",""]
[null,null,null,null,null,null,null,null,null,null,null,null,null,null,null,null,null,{"$f":"IF(ISBLANK(K126),\"\",VLOOKUP(K126,Tableau8[],2,FALSE))","v":""},"","",{"$f":"IF(ISBLANK(I126),\"\",VLOOKUP(I126,tableau6[],2,FALSE))","v":""},{"$f":"IF(ISBLANK(J126),\"\",VLOOKUP(J126,tableau7[],2,FALSE))","v":""},"",""]
[null,null,null,null,null,null,null,null,null,null,null,null,null,null,null,null,null,{"$f":"IF(ISBLANK(K127),\"\",VLOOKUP(K127,Tableau8[],2,FALSE))","v":""},"","",{"$f":"IF(ISBLANK(I127),\"\",VLOOKUP(I127,tableau6[],2,FALSE))","v":""},{"$f":"IF(ISBLANK(J127),\"\",VLOOKUP(J127,tableau7[],2,FALSE))","v":""},"",""]
[null,null,null,null,null,null,null,null,null,null,null,null,null,null,null,null,null,{"$f":"IF(ISBLANK(K128),\"\",VLOOKUP(K128,Tableau8[],2,FALSE))","v":""},"","",{"$f":"IF(ISBLANK(I128),\"\",VLOOKUP(I128,tableau6[],2,FALSE))","v":""},{"$f":"IF(ISBLANK(J128),\"\",VLOOKUP(J128,tableau7[],2,FALSE))","v":""},"",""]
[null,null,null,null,null,null,null,null,null,null,null,null,null,null,null,null,null,{"$f":"IF(ISBLANK(K129),\"\",VLOOKUP(K129,Tableau8[],2,FALSE))","v":""},"","",{"$f":"IF(ISBLANK(I129),\"\",VLOOKUP(I129,tableau6[],2,FALSE))","v":""},{"$f":"IF(ISBLANK(J129),\"\",VLOOKUP(J129,tableau7[],2,FALSE))","v":""},"",""]
[null,null,null,null,null,null,null,null,null,null,null,null,null,null,null,null,null,{"$f":"IF(ISBLANK(K130),\"\",VLOOKUP(K130,Tableau8[],2,FALSE))","v":""},"","",{"$f":"IF(ISBLANK(I130),\"\",VLOOKUP(I130,tableau6[],2,FALSE))","v":""},{"$f":"IF(ISBLANK(J130),\"\",VLOOKUP(J130,tableau7[],2,FALSE))","v":""},"",""]
[null,null,null,null,null,null,null,null,null,null,null,null,null,null,null,null,null,{"$f":"IF(ISBLANK(K131),\"\",VLOOKUP(K131,Tableau8[],2,FALSE))","v":""},"","",{"$f":"IF(ISBLANK(I131),\"\",VLOOKUP(I131,tableau6[],2,FALSE))","v":""},{"$f":"IF(ISBLANK(J131),\"\",VLOOKUP(J131,tableau7[],2,FALSE))","v":""},"",""]
[null,null,null,null,null,null,null,null,null,null,null,null,null,null,null,null,null,{"$f":"IF(ISBLANK(K132),\"\",VLOOKUP(K132,Tableau8[],2,FALSE))","v":""},"","",{"$f":"IF(ISBLANK(I132),\"\",VLOOKUP(I132,tableau6[],2,FALSE))","v":""},{"$f":"IF(ISBLANK(J132),\"\",VLOOKUP(J132,tableau7[],2,FALSE))","v":""},"",""]
[null,null,null,null,null,null,null,null,null,null,null,null,null,null,null,null,null,{"$f":"IF(ISBLANK(K133),\"\",VLOOKUP(K133,Tableau8[],2,FALSE))","v":""},"","",{"$f":"IF(ISBLANK(I133),\"\",VLOOKUP(I133,tableau6[],2,FALSE))","v":""},{"$f":"IF(ISBLANK(J133),\"\",VLOOKUP(J133,tableau7[],2,FALSE))","v":""},"",""]
[null,null,null,null,null,null,null,null,null,null,null,null,null,null,null,null,null,{"$f":"IF(ISBLANK(K134),\"\",VLOOKUP(K134,Tableau8[],2,FALSE))","v":""},"","",{"$f":"IF(ISBLANK(I134),\"\",VLOOKUP(I134,tableau6[],2,FALSE))","v":""},{"$f":"IF(ISBLANK(J134),\"\",VLOOKUP(J134,tableau7[],2,FALSE))","v":""},"",""]
[null,null,null,null,null,null,null,null,null,null,null,null,null,null,null,null,null,{"$f":"IF(ISBLANK(K135),\"\",VLOOKUP(K135,Tableau8[],2,FALSE))","v":""},{"$f":"IF(ISBLANK(L135),\"\",L135)","v":""},"",{"$f":"IF(ISBLANK(I135),\"\",VLOOKUP(I135,tableau6[],2,FALSE))","v":""},{"$f":"IF(ISBLANK(J135),\"\",VLOOKUP(J135,tableau7[],2,FALSE))","v":""},{"$f":"IF(ISBLANK(H135),\"\",H135)","v":""},{"$f":"IF(ISBLANK(G135),\"\",G135)","v":""}]
[null,null,null,null,null,null,null,null,null,null,null,null,null,null,null,null,null,{"$f":"IF(ISBLANK(K136),\"\",VLOOKUP(K136,Tableau8[],2,FALSE))","v":""},"","",{"$f":"IF(ISBLANK(I136),\"\",VLOOKUP(I136,tableau6[],2,FALSE))","v":""},{"$f":"IF(ISBLANK(J136),\"\",VLOOKUP(J136,tableau7[],2,FALSE))","v":""},"",""]
[null,null,null,null,null,null,null,null,null,null,null,null,null,null,null,null,null,{"$f":"IF(ISBLANK(K137),\"\",VLOOKUP(K137,Tableau8[],2,FALSE))","v":""},"",{"$f":"IF(ISBLANK(G137),\"\",\"CA2\")","v":""},{"$f":"IF(ISBLANK(I137),\"\",VLOOKUP(I137,tableau6[],2,FALSE))","v":""},{"$f":"IF(ISBLANK(J137),\"\",VLOOKUP(J137,tableau7[],2,FALSE))","v":""},"",""]
[null,null,null,null,null,null,null,null,null,null,null,null,null,null,null,null,null,{"$f":"IF(ISBLANK(K138),\"\",VLOOKUP(K138,Tableau8[],2,FALSE))","v":""},"",{"$f":"IF(ISBLANK(G138),\"\",\"CA2\")","v":""},{"$f":"IF(ISBLANK(I138),\"\",VLOOKUP(I138,tableau6[],2,FALSE))","v":""},{"$f":"IF(ISBLANK(J138),\"\",VLOOKUP(J138,tableau7[],2,FALSE))","v":""},"",""]
[null,null,null,null,null,null,null,null,null,null,null,null,null,null,null,null,null,{"$f":"IF(ISBLANK(K139),\"\",VLOOKUP(K139,Tableau8[],2,FALSE))","v":""},"",{"$f":"IF(ISBLANK(G139),\"\",\"CA2\")","v":""},{"$f":"IF(ISBLANK(I139),\"\",VLOOKUP(I139,tableau6[],2,FALSE))","v":""},{"$f":"IF(ISBLANK(J139),\"\",VLOOKUP(J139,tableau7[],2,FALSE))","v":""},"",""]
[null,null,null,null,null,null,null,null,null,null,null,null,null,null,null,null,null,{"$f":"IF(ISBLANK(K140),\"\",VLOOKUP(K140,Tableau8[],2,FALSE))","v":""},"",{"$f":"IF(ISBLANK(G140),\"\",\"CA2\")","v":""},{"$f":"IF(ISBLANK(I140),\"\",VLOOKUP(I140,tableau6[],2,FALSE))","v":""},{"$f":"IF(ISBLANK(J140),\"\",VLOOKUP(J140,tableau7[],2,FALSE))","v":""},"",""]
[null,null,null,null,null,null,null,null,null,null,null,null,null,null,null,null,null,{"$f":"IF(ISBLANK(K141),\"\",VLOOKUP(K141,Tableau8[],2,FALSE))","v":""},"",null,null,null,"",""]
[null,"CA3",{"$f":"Listes!R7","v":"AFL1.1 : S’engager pour composer et réaliser un enchaînement à visée esthétique ou acrobatique destiné à être jugé, en combinant des formes corporelles codifiées"},"EP1",{"$f":"Listes!U7","v":"Développer et enrichir une motricité expressive à l’aide de divers paramètres (espace, temps, énergie) pour provoquer une émotion"},null,null,null,null,null,null,null,null,"Objectifs généraux EPS",null,"invariants des OG dans chaque CA",null,{"$f":"IF(ISBLANK(K142),\"\",VLOOKUP(K142,Tableau8[],2,FALSE))","v":""},"",{"$f":"IF(ISBLANK(G142),\"\",\"CA3\")","v":""},{"$f":"IF(ISBLANK(I142),\"\",VLOOKUP(I142,tableau11[],2,FALSE))","v":""},{"$f":"IF(ISBLANK(J142),\"\",VLOOKUP(J142,tableau12[],2,FALSE))","v":""},"",""]
[null,null,null,null,null,null,null,null,null,null,null,null,null,"OG1",{"$f":"Listes!$AR$7","v":"Développer sa motricité"},{"$f":"Listes!$AT$7","v":"APSA diversifiées"},null,{"$f":"IF(ISBLANK(K143),\"\",VLOOKUP(K143,Tableau8[],2,FALSE))","v":""},"",{"$f":"IF(ISBLANK(G143),\"\",\"CA3\")","v":""},{"$f":"IF(ISBLANK(I143),\"\",VLOOKUP(I143,tableau11[],2,FALSE))","v":""},{"$f":"IF(ISBLANK(J143),\"\",VLOOKUP(J143,tableau12[],2,FALSE))","v":""},"",""]
[null,null,null,null,null,null,null,null,null,null,null,null,null,null,null,{"$f":"Listes!$AT$8","v":"APSA approfondies"},null,{"$f":"IF(ISBLANK(K144),\"\",VLOOKUP(K144,Tableau8[],2,FALSE))","v":""},"","",{"$f":"IF(ISBLANK(I144),\"\",VLOOKUP(I144,tableau11[],2,FALSE))","v":""},{"$f":"IF(ISBLANK(J144),\"\",VLOOKUP(J144,tableau12[],2,FALSE))","v":""},"",""]
[null,null,null,"EP2",{"$f":"Listes!U8","v":"Explorer et choisir des procédés de composition au service de la relation avec ses partenaires"},null,null,null,null,null,null,null,null,"OG2",{"$f":"Listes!$AR$8","v":"Savoir se préparer et s'entraîner"},{"$f":"Listes!$AV$7","v":"Se connaître"},null,{"$f":"IF(ISBLANK(K145),\"\",VLOOKUP(K145,Tableau8[],2,FALSE))","v":""},"","",{"$f":"IF(ISBLANK(I145),\"\",VLOOKUP(I145,tableau11[],2,FALSE))","v":""},{"$f":"IF(ISBLANK(J145),\"\",VLOOKUP(J145,tableau12[],2,FALSE))","v":""},"",""]
[null,null,null,null,null,null,null,null,null,null,null,null,null,null,null,{"$f":"Listes!$AV$8","v":"Faire des choix"},null,{"$f":"IF(ISBLANK(K146),\"\",VLOOKUP(K146,Tableau8[],2,FALSE))","v":""},"","",{"$f":"IF(ISBLANK(I146),\"\",VLOOKUP(I146,tableau11[],2,FALSE))","v":""},{"$f":"IF(ISBLANK(J146),\"\",VLOOKUP(J146,tableau12[],2,FALSE))","v":""},"",""]
[null,null,null,null,null,null,null,null,null,null,null,null,null,null,null,{"$f":"Listes!$AV$9","v":"Se preparer"},null,{"$f":"IF(ISBLANK(K147),\"\",VLOOKUP(K147,Tableau8[],2,FALSE))","v":""},"","",{"$f":"IF(ISBLANK(I147),\"\",VLOOKUP(I147,tableau11[],2,FALSE))","v":""},{"$f":"IF(ISBLANK(J147),\"\",VLOOKUP(J147,tableau12[],2,FALSE))","v":""},"",""]
[null,null,{"$f":"Listes!R8","v":"AFL1.2 : S’engager pour composer et interpréter une chorégraphie collective selon un projet artistique en mobilisant une motricité expressive et des procédés de composition"},"EP3",{"$f":"Listes!U9","v":"Assurer différents rôles (interprète, chorégraphe, spectateur, juge, voltigeur, pareur, porteur, meneur…)"},null,null,null,null,null,null,null,null,null,null,{"$f":"Listes!$AV$10","v":"Conduire et réguler ses efforts"},null,{"$f":"IF(ISBLANK(K148),\"\",VLOOKUP(K148,Tableau8[],2,FALSE))","v":""},"","",{"$f":"IF(ISBLANK(I148),\"\",VLOOKUP(I148,tableau11[],2,FALSE))","v":""},{"$f":"IF(ISBLANK(J148),\"\",VLOOKUP(J148,tableau12[],2,FALSE))","v":""},"",""]
[null,null,null,null,null,null,null,null,null,null,null,null,null,"OG3",{"$f":"Listes!$AR$9","v":"Exercer sa responsabilité individuelle au sein d'un collectif"},{"$f":"Listes!$AX$7","v":"Juge arbitre"},null,{"$f":"IF(ISBLANK(K149),\"\",VLOOKUP(K149,Tableau8[],2,FALSE))","v":""},"","",{"$f":"IF(ISBLANK(I149),\"\",VLOOKUP(I149,tableau11[],2,FALSE))","v":""},{"$f":"IF(ISBLANK(J149),\"\",VLOOKUP(J149,tableau12[],2,FALSE))","v":""},"",""]
[null,null,null,null,null,null,null,null,null,null,null,null,null,null,null,{"$f":"Listes!$AX$8","v":"Observateur, conseil, aide"},null,{"$f":"IF(ISBLANK(K150),\"\",VLOOKUP(K150,Tableau8[],2,FALSE))","v":""},"","",{"$f":"IF(ISBLANK(I150),\"\",VLOOKUP(I150,tableau11[],2,FALSE))","v":""},{"$f":"IF(ISBLANK(J150),\"\",VLOOKUP(J150,tableau12[],2,FALSE))","v":""},"",""]
[null,null,null,"EP4",{"$f":"Listes!U10","v":"Gérer la prise de risque dans le choix de ses actions"},null,null,null,null,null,null,null,null,null,null,{"$f":"Listes!$AX$9","v":"Partenaire, adversaire"},null,{"$f":"IF(ISBLANK(K151),\"\",VLOOKUP(K151,Tableau8[],2,FALSE))","v":""},"","",{"$f":"IF(ISBLANK(I151),\"\",VLOOKUP(I151,tableau11[],2,FALSE))","v":""},{"$f":"IF(ISBLANK(J151),\"\",VLOOKUP(J151,tableau12[],2,FALSE))","v":""},"",""]
[null,null,null,null,null,null,null,null,null,null,null,null,null,"OG4",{"$f":"Listes!$AR$10","v":"Construire durablement sa santé"},{"$f":"Listes!$AZ$7","v":"Construire une image positive de soi (progrès réalisé)"},null,{"$f":"IF(ISBLANK(K152),\"\",VLOOKUP(K152,Tableau8[],2,FALSE))","v":""},"","",{"$f":"IF(ISBLANK(I152),\"\",VLOOKUP(I152,tableau11[],2,FALSE))","v":""},{"$f":"IF(ISBLANK(J152),\"\",VLOOKUP(J152,tableau12[],2,FALSE))","v":""},"",""]
[null,null,null,"EP5",{"$f":"Listes!U11","v":"Choisir, mettre en oeuvre et réguler, seul et à plusieurs, un projet de composition ou d’enchaînement"},null,null,null,null,null,null,null,null,null,null,{"$f":"Listes!$AZ$8","v":"Assurer sa sécurité ou celle des autres"},null,{"$f":"IF(ISBLANK(K153),\"\",VLOOKUP(K153,Tableau8[],2,FALSE))","v":""},"","",{"$f":"IF(ISBLANK(I153),\"\",VLOOKUP(I153,tableau11[],2,FALSE))","v":""},{"$f":"IF(ISBLANK(J153),\"\",VLOOKUP(J153,tableau12[],2,FALSE))","v":""},"",""]
[null,null,null,null,null,null,null,null,null,null,null,null,null,null,null,{"$f":"Listes!$AZ$9","v":"Prendre du plaisir"},null,{"$f":"IF(ISBLANK(K154),\"\",VLOOKUP(K154,Tableau8[],2,FALSE))","v":""},"","",{"$f":"IF(ISBLANK(I154),\"\",VLOOKUP(I154,tableau11[],2,FALSE))","v":""},{"$f":"IF(ISBLANK(J154),\"\",VLOOKUP(J154,tableau12[],2,FALSE))","v":""},"",""]
[null,null,{"$f":"Listes!R9","v":"AFL2 : Se préparer et s’engager, individuellement et collectivement, pour s’exprimer devant un public et susciter des émotions"},"EP6",{"$f":"Listes!U12","v":"Utiliser différents supports d’observation et d’analyse pour apprécier des prestations et définir des pistes d’amélioration"},null,null,null,null,null,null,null,null,"OG5",{"$f":"Listes!$AR$11","v":"Accéder au patrimoine culturel"},{"$f":"Listes!$BB$7","v":"Se situer en tant que pratiquant"},null,{"$f":"IF(ISBLANK(K155),\"\",VLOOKUP(K155,Tableau8[],2,FALSE))","v":""},"","",{"$f":"IF(ISBLANK(I155),\"\",VLOOKUP(I155,tableau11[],2,FALSE))","v":""},{"$f":"IF(ISBLANK(J155),\"\",VLOOKUP(J155,tableau12[],2,FALSE))","v":""},"",""]
[null,null,null,null,null,null,null,null,null,null,null,null,null,null,null,{"$f":"Listes!$BB$8","v":"Se situer en tant que spectateur/critique"},null,{"$f":"IF(ISBLANK(K156),\"\",VLOOKUP(K156,Tableau8[],2,FALSE))","v":""},"","",{"$f":"IF(ISBLANK(I156),\"\",VLOOKUP(I156,tableau11[],2,FALSE))","v":""},{"$f":"IF(ISBLANK(J156),\"\",VLOOKUP(J156,tableau12[],2,FALSE))","v":""},"",""]
[null,null,null,null,null,null,null,null,null,null,null,null,null,null,null,null,null,{"$f":"IF(ISBLANK(K157),\"\",VLOOKUP(K157,Tableau8[],2,FALSE))","v":""},"","",{"$f":"IF(ISBLANK(I157),\"\",VLOOKUP(I157,tableau11[],2,FALSE))","v":""},{"$f":"IF(ISBLANK(J157),\"\",VLOOKUP(J157,tableau12[],2,FALSE))","v":""},"",""]
[null,null,null,"EP7",{"$f":"Listes!U13","v":"Se préparer, se concentrer pour se produire devant un public"},null,null,null,null,null,null,null,null,null,null,null,null,{"$f":"IF(ISBLANK(K158),\"\",VLOOKUP(K158,Tableau8[],2,FALSE))","v":""},"","",{"$f":"IF(ISBLANK(I158),\"\",VLOOKUP(I158,tableau11[],2,FALSE))","v":""},{"$f":"IF(ISBLANK(J158),\"\",VLOOKUP(J158,tableau12[],2,FALSE))","v":""},"",""]
[null,null,null,null,null,null,null,null,null,null,null,null,null,null,null,null,null,{"$f":"IF(ISBLANK(K159),\"\",VLOOKUP(K159,Tableau8[],2,FALSE))","v":""},"","",{"$f":"IF(ISBLANK(I159),\"\",VLOOKUP(I159,tableau11[],2,FALSE))","v":""},{"$f":"IF(ISBLANK(J159),\"\",VLOOKUP(J159,tableau12[],2,FALSE))","v":""},"",""]
[null,null,{"$f":"Listes!R10","v":"AFL3 : Choisir et assumer des rôles au service de la prestation collective"},"EP8",{"$f":"Listes!U14","v":"Maîtriser la réalisation individuelle de sa prestation pour la mettre au service de la production collective"},null,null,null,null,null,null,null,null,null,null,null,null,{"$f":"IF(ISBLANK(K160),\"\",VLOOKUP(K160,Tableau8[],2,FALSE))","v":""},"","",{"$f":"IF(ISBLANK(I160),\"\",VLOOKUP(I160,tableau11[],2,FALSE))","v":""},{"$f":"IF(ISBLANK(J160),\"\",VLOOKUP(J160,tableau12[],2,FALSE))","v":""},"",""]
[null,null,null,null,null,null,null,null,null,null,null,null,null,null,null,null,null,{"$f":"IF(ISBLANK(K161),\"\",VLOOKUP(K161,Tableau8[],2,FALSE))","v":""},"","",{"$f":"IF(ISBLANK(I161),\"\",VLOOKUP(I161,tableau11[],2,FALSE))","v":""},{"$f":"IF(ISBLANK(J161),\"\",VLOOKUP(J161,tableau12[],2,FALSE))","v":""},"",""]
[null,null,null,null,null,null,null,null,null,null,null,null,null,null,null,null,null,{"$f":"IF(ISBLANK(K162),\"\",VLOOKUP(K162,Tableau8[],2,FALSE))","v":""},"","",{"$f":"IF(ISBLANK(I162),\"\",VLOOKUP(I162,tableau11[],2,FALSE))","v":""},{"$f":"IF(ISBLANK(J162),\"\",VLOOKUP(J162,tableau12[],2,FALSE))","v":""},"",""]
[null,null,null,"EP9",{"$f":"Listes!U15","v":"Répéter et persévérer pour améliorer l’efficacité de ses actions"},null,null,null,null,null,null,null,null,null,null,null,null,{"$f":"IF(ISBLANK(K163),\"\",VLOOKUP(K163,Tableau8[],2,FALSE))","v":""},"","",{"$f":"IF(ISBLANK(I163),\"\",VLOOKUP(I163,tableau11[],2,FALSE))","v":""},{"$f":"IF(ISBLANK(J163),\"\",VLOOKUP(J163,tableau12[],2,FALSE))","v":""},"",""]
[null,null,null,null,null,null,null,null,null,null,null,null,null,null,null,null,null,{"$f":"IF(ISBLANK(K164),\"\",VLOOKUP(K164,Tableau8[],2,FALSE))","v":""},"","",{"$f":"IF(ISBLANK(I164),\"\",VLOOKUP(I164,tableau11[],2,FALSE))","v":""},{"$f":"IF(ISBLANK(J164),\"\",VLOOKUP(J164,tableau12[],2,FALSE))","v":""},"",""]
[null,null,null,null,null,null,null,null,null,null,null,null,null,null,null,null,null,{"$f":"IF(ISBLANK(K165),\"\",VLOOKUP(K165,Tableau8[],2,FALSE))","v":""},"","",{"$f":"IF(ISBLANK(I165),\"\",VLOOKUP(I165,tableau11[],2,FALSE))","v":""},{"$f":"IF(ISBLANK(J165),\"\",VLOOKUP(J165,tableau12[],2,FALSE))","v":""},"",""]
[null,null,null,null,null,null,null,null,null,null,null,null,null,null,null,null,null,{"$f":"IF(ISBLANK(K166),\"\",VLOOKUP(K166,Tableau8[],2,FALSE))","v":""},"","",{"$f":"IF(ISBLANK(I166),\"\",VLOOKUP(I166,tableau11[],2,FALSE))","v":""},{"$f":"IF(ISBLANK(J166),\"\",VLOOKUP(J166,tableau12[],2,FALSE))","v":""},"",""]
[null,null,null,null,null,null,null,null,null,null,null,null,null,null,null,null,null,{"$f":"IF(ISBLANK(K167),\"\",VLOOKUP(K167,Tableau8[],2,FALSE))","v":""},"","",{"$f":"IF(ISBLANK(I167),\"\",VLOOKUP(I167,tableau11[],2,FALSE))","v":""},{"$f":"IF(ISBLANK(J167),\"\",VLOOKUP(J167,tableau12[],2,FALSE))","v":""},"",""]
[null,null,null,null,null,null,null,null,null,null,null,null,null,null,null,null,null,{"$f":"IF(ISBLANK(K168),\"\",VLOOKUP(K168,Tableau8[],2,FALSE))","v":""},"","",{"$f":"IF(ISBLANK(I168),\"\",VLOOKUP(I168,tableau11[],2,FALSE))","v":""},{"$f":"IF(ISBLANK(J168),\"\",VLOOKUP(J168,tableau12[],2,FALSE))","v":""},"",""]
[null,null,null,null,null,null,null,null,null,null,null,null,null,null,null,null,null,{"$f":"IF(ISBLANK(K169),\"\",VLOOKUP(K169,Tableau8[],2,FALSE))","v":""},"","",{"$f":"IF(ISBLANK(I169),\"\",VLOOKUP(I169,tableau11[],2,FALSE))","v":""},{"$f":"IF(ISBLANK(J169),\"\",VLOOKUP(J169,tableau12[],2,FALSE))","v":""},"",""]
[null,null,null,null,null,null,null,null,null,null,null,null,null,null,null,null,null,{"$f":"IF(ISBLANK(K170),\"\",VLOOKUP(K170,Tableau8[],2,FALSE))","v":""},"","",{"$f":"IF(ISBLANK(I170),\"\",VLOOKUP(I170,tableau11[],2,FALSE))","v":""},{"$f":"IF(ISBLANK(J170),\"\",VLOOKUP(J170,tableau12[],2,FALSE))","v":""},"",""]
[null,null,null,null,null,null,null,null,null,null,null,null,null,null,null,null,null,{"$f":"IF(ISBLANK(K171),\"\",VLOOKUP(K171,Tableau8[],2,FALSE))","v":""},"","",{"$f":"IF(ISBLANK(I171),\"\",VLOOKUP(I171,tableau11[],2,FALSE))","v":""},{"$f":"IF(ISBLANK(J171),\"\",VLOOKUP(J171,tableau12[],2,FALSE))","v":""},"",""]
[null,null,null,null,null,null,null,null,null,null,null,null,null,null,null,null,null,{"$f":"IF(ISBLANK(K172),\"\",VLOOKUP(K172,Tableau8[],2,FALSE))","v":""},"","",{"$f":"IF(ISBLANK(I172),\"\",VLOOKUP(I172,tableau11[],2,FALSE))","v":""},{"$f":"IF(ISBLANK(J172),\"\",VLOOKUP(J172,tableau12[],2,FALSE))","v":""},"",""]
[null,null,null,null,null,null,null,null,null,null,null,null,null,null,null,null,null,{"$f":"IF(ISBLANK(K173),\"\",VLOOKUP(K173,Tableau8[],2,FALSE))","v":""},"","",{"$f":"IF(ISBLANK(I173),\"\",VLOOKUP(I173,tableau11[],2,FALSE))","v":""},{"$f":"IF(ISBLANK(J173),\"\",VLOOKUP(J173,tableau12[],2,FALSE))","v":""},"",""]
[null,null,null,null,null,null,null,null,null,null,null,null,null,null,null,null,null,{"$f":"IF(ISBLANK(K174),\"\",VLOOKUP(K174,Tableau8[],2,FALSE))","v":""},"","",{"$f":"IF(ISBLANK(I174),\"\",VLOOKUP(I174,tableau11[],2,FALSE))","v":""},{"$f":"IF(ISBLANK(J174),\"\",VLOOKUP(J174,tableau12[],2,FALSE))","v":""},"",""]
[null,null,null,null,null,null,null,null,null,null,null,null,null,null,null,null,null,{"$f":"IF(ISBLANK(K175),\"\",VLOOKUP(K175,Tableau8[],2,FALSE))","v":""},"","",{"$f":"IF(ISBLANK(I175),\"\",VLOOKUP(I175,tableau11[],2,FALSE))","v":""},{"$f":"IF(ISBLANK(J175),\"\",VLOOKUP(J175,tableau12[],2,FALSE))","v":""},"",""]
[null,null,null,null,null,null,null,null,null,null,null,null,null,null,null,null,null,{"$f":"IF(ISBLANK(K176),\"\",VLOOKUP(K176,Tableau8[],2,FALSE))","v":""},"","",{"$f":"IF(ISBLANK(I176),\"\",VLOOKUP(I176,tableau11[],2,FALSE))","v":""},{"$f":"IF(ISBLANK(J176),\"\",VLOOKUP(J176,tableau12[],2,FALSE))","v":""},"",""]
[null,null,null,null,null,null,null,null,null,null,null,null,null,null,null,null,null,{"$f":"IF(ISBLANK(K177),\"\",VLOOKUP(K177,Tableau8[],2,FALSE))","v":""},"","",{"$f":"IF(ISBLANK(I177),\"\",VLOOKUP(I177,tableau11[],2,FALSE))","v":""},{"$f":"IF(ISBLANK(J177),\"\",VLOOKUP(J177,tableau12[],2,FALSE))","v":""},"",""]
[null,null,null,null,null,null,null,null,null,null,null,null,null,null,null,null,null,{"$f":"IF(ISBLANK(K178),\"\",VLOOKUP(K178,Tableau8[],2,FALSE))","v":""},"","",{"$f":"IF(ISBLANK(I178),\"\",VLOOKUP(I178,tableau11[],2,FALSE))","v":""},{"$f":"IF(ISBLANK(J178),\"\",VLOOKUP(J178,tableau12[],2,FALSE))","v":""},"",""]
[null,null,null,null,null,null,null,null,null,null,null,null,null,null,null,null,null,{"$f":"IF(ISBLANK(K179),\"\",VLOOKUP(K179,Tableau8[],2,FALSE))","v":""},"","",{"$f":"IF(ISBLANK(I179),\"\",VLOOKUP(I179,tableau11[],2,FALSE))","v":""},{"$f":"IF(ISBLANK(J179),\"\",VLOOKUP(J179,tableau12[],2,FALSE))","v":""},"",""]
[null,null,null,null,null,null,null,null,null,null,null,null,null,null,null,null,null,{"$f":"IF(ISBLANK(K180),\"\",VLOOKUP(K180,Tableau8[],2,FALSE))","v":""},"","",{"$f":"IF(ISBLANK(I180),\"\",VLOOKUP(I180,tableau11[],2,FALSE))","v":""},{"$f":"IF(ISBLANK(J180),\"\",VLOOKUP(J180,tableau12[],2,FALSE))","v":""},"",""]
[null,null,null,null,null,null,null,null,null,null,null,null,null,null,null,null,null,{"$f":"IF(ISBLANK(K181),\"\",VLOOKUP(K181,Tableau8[],2,FALSE))","v":""},"","",{"$f":"IF(ISBLANK(I181),\"\",VLOOKUP(I181,tableau11[],2,FALSE))","v":""},{"$f":"IF(ISBLANK(J181),\"\",VLOOKUP(J181,tableau12[],2,FALSE))","v":""},"",""]
[null,null,null,null,null,null,null,null,null,null,null,null,null,null,null,null,null,{"$f":"IF(ISBLANK(K182),\"\",VLOOKUP(K182,Tableau8[],2,FALSE))","v":""},"","",{"$f":"IF(ISBLANK(I182),\"\",VLOOKUP(I182,tableau11[],2,FALSE))","v":""},{"$f":"IF(ISBLANK(J182),\"\",VLOOKUP(J182,tableau12[],2,FALSE))","v":""},"",""]
[null,null,null,null,null,null,null,null,null,null,null,null,null,null,null,null,null,{"$f":"IF(ISBLANK(K183),\"\",VLOOKUP(K183,Tableau8[],2,FALSE))","v":""},"","",{"$f":"IF(ISBLANK(I183),\"\",VLOOKUP(I183,tableau11[],2,FALSE))","v":""},{"$f":"IF(ISBLANK(J183),\"\",VLOOKUP(J183,tableau12[],2,FALSE))","v":""},"",""]
[null,null,null,null,null,null,null,null,null,null,null,null,null,null,null,null,null,{"$f":"IF(ISBLANK(K184),\"\",VLOOKUP(K184,Tableau8[],2,FALSE))","v":""},"","",{"$f":"IF(ISBLANK(I184),\"\",VLOOKUP(I184,tableau11[],2,FALSE))","v":""},{"$f":"IF(ISBLANK(J184),\"\",VLOOKUP(J184,tableau12[],2,FALSE))","v":""},"",""]
[null,null,null,null,null,null,null,null,null,null,null,null,null,null,null,null,null,{"$f":"IF(ISBLANK(K185),\"\",VLOOKUP(K185,Tableau8[],2,FALSE))","v":""},"","",{"$f":"IF(ISBLANK(I185),\"\",VLOOKUP(I185,tableau11[],2,FALSE))","v":""},{"$f":"IF(ISBLANK(J185),\"\",VLOOKUP(J185,tableau12[],2,FALSE))","v":""},"",""]
[null,null,null,null,null,null,null,null,null,null,null,null,null,null,null,null,null,{"$f":"IF(ISBLANK(K186),\"\",VLOOKUP(K186,Tableau8[],2,FALSE))","v":""},"","",{"$f":"IF(ISBLANK(I186),\"\",VLOOKUP(I186,tableau11[],2,FALSE))","v":""},{"$f":"IF(ISBLANK(J186),\"\",VLOOKUP(J186,tableau12[],2,FALSE))","v":""},"",""]
[null,null,null,null,null,null,null,null,null,null,null,null,null,null,null,null,null,{"$f":"IF(ISBLANK(K187),\"\",VLOOKUP(K187,Tableau8[],2,FALSE))","v":""},"","",{"$f":"IF(ISBLANK(I187),\"\",VLOOKUP(I187,tableau11[],2,FALSE))","v":""},{"$f":"IF(ISBLANK(J187),\"\",VLOOKUP(J187,tableau12[],2,FALSE))","v":""},"",""]
[null,null,null,null,null,null,null,null,null,null,null,null,null,null,null,null,null,{"$f":"IF(ISBLANK(K188),\"\",VLOOKUP(K188,Tableau8[],2,FALSE))","v":""},"","",{"$f":"IF(ISBLANK(I188),\"\",VLOOKUP(I188,tableau11[],2,FALSE))","v":""},{"$f":"IF(ISBLANK(J188),\"\",VLOOKUP(J188,tableau12[],2,FALSE))","v":""},"",""]
[null,null,null,null,null,null,null,null,null,null,null,null,null,null,null,null,null,{"$f":"IF(ISBLANK(K189),\"\",VLOOKUP(K189,Tableau8[],2,FALSE))","v":""},"","",{"$f":"IF(ISBLANK(I189),\"\",VLOOKUP(I189,tableau11[],2,FALSE))","v":""},{"$f":"IF(ISBLANK(J189),\"\",VLOOKUP(J189,tableau12[],2,FALSE))","v":""},"",""]
[null,null,null,null,null,null,null,null,null,null,null,null,null,null,null,null,null,{"$f":"IF(ISBLANK(K190),\"\",VLOOKUP(K190,Tableau8[],2,FALSE))","v":""},"","",{"$f":"IF(ISBLANK(I190),\"\",VLOOKUP(I190,tableau11[],2,FALSE))","v":""},{"$f":"IF(ISBLANK(J190),\"\",VLOOKUP(J190,tableau12[],2,FALSE))","v":""},"",""]
[null,null,null,null,null,null,null,null,null,null,null,null,null,null,null,null,null,{"$f":"IF(ISBLANK(K191),\"\",VLOOKUP(K191,Tableau8[],2,FALSE))","v":""},"","",{"$f":"IF(ISBLANK(I191),\"\",VLOOKUP(I191,tableau11[],2,FALSE))","v":""},{"$f":"IF(ISBLANK(J191),\"\",VLOOKUP(J191,tableau12[],2,FALSE))","v":""},"",""]
[null,null,null,null,null,null,null,null,null,null,null,null,null,null,null,null,null,{"$f":"IF(ISBLANK(K192),\"\",VLOOKUP(K192,Tableau8[],2,FALSE))","v":""},"","",{"$f":"IF(ISBLANK(I192),\"\",VLOOKUP(I192,tableau11[],2,FALSE))","v":""},{"$f":"IF(ISBLANK(J192),\"\",VLOOKUP(J192,tableau12[],2,FALSE))","v":""},"",""]
[null,null,null,null,null,null,null,null,null,null,null,null,null,null,null,null,null,{"$f":"IF(ISBLANK(K193),\"\",VLOOKUP(K193,Tableau8[],2,FALSE))","v":""},"","",{"$f":"IF(ISBLANK(I193),\"\",VLOOKUP(I193,tableau11[],2,FALSE))","v":""},{"$f":"IF(ISBLANK(J193),\"\",VLOOKUP(J193,tableau12[],2,FALSE))","v":""},"",""]
[null,null,null,null,null,null,null,null,null,null,null,null,null,null,null,null,null,{"$f":"IF(ISBLANK(K194),\"\",VLOOKUP(K194,Tableau8[],2,FALSE))","v":""},"","",{"$f":"IF(ISBLANK(I194),\"\",VLOOKUP(I194,tableau11[],2,FALSE))","v":""},{"$f":"IF(ISBLANK(J194),\"\",VLOOKUP(J194,tableau12[],2,FALSE))","v":""},"",""]
[null,null,null,null,null,null,null,null,null,null,null,null,null,null,null,null,null,{"$f":"IF(ISBLANK(K195),\"\",VLOOKUP(K195,Tableau8[],2,FALSE))","v":""},"","",{"$f":"IF(ISBLANK(I195),\"\",VLOOKUP(I195,tableau11[],2,FALSE))","v":""},{"$f":"IF(ISBLANK(J195),\"\",VLOOKUP(J195,tableau12[],2,FALSE))","v":""},"",""]
[null,null,null,null,null,null,null,null,null,null,null,null,null,null,null,null,null,{"$f":"IF(ISBLANK(K196),\"\",VLOOKUP(K196,Tableau8[],2,FALSE))","v":""},"","",{"$f":"IF(ISBLANK(I196),\"\",VLOOKUP(I196,tableau11[],2,FALSE))","v":""},{"$f":"IF(ISBLANK(J196),\"\",VLOOKUP(J196,tableau12[],2,FALSE))","v":""},"",""]
[null,null,null,null,null,null,null,null,null,null,null,null,null,null,null,null,null,{"$f":"IF(ISBLANK(K197),\"\",VLOOKUP(K197,Tableau8[],2,FALSE))","v":""},"","",{"$f":"IF(ISBLANK(I197),\"\",VLOOKUP(I197,tableau11[],2,FALSE))","v":""},{"$f":"IF(ISBLANK(J197),\"\",VLOOKUP(J197,tableau12[],2,FALSE))","v":""},"",""]
[null,null,null,null,null,null,null,null,null,null,null,null,null,null,null,null,null,{"$f":"IF(ISBLANK(K198),\"\",VLOOKUP(K198,Tableau8[],2,FALSE))","v":""},"","",{"$f":"IF(ISBLANK(I198),\"\",VLOOKUP(I198,tableau11[],2,FALSE))","v":""},{"$f":"IF(ISBLANK(J198),\"\",VLOOKUP(J198,tableau12[],2,FALSE))","v":""},"",""]
[null,null,null,null,null,null,null,null,null,null,null,null,null,null,null,null,null,{"$f":"IF(ISBLANK(K199),\"\",VLOOKUP(K199,Tableau8[],2,FALSE))","v":""},{"$f":"IF(ISBLANK(L199),\"\",L199)","v":""},"",{"$f":"IF(ISBLANK(I199),\"\",VLOOKUP(I199,tableau11[],2,FALSE))","v":""},{"$f":"IF(ISBLANK(J199),\"\",VLOOKUP(J199,tableau12[],2,FALSE))","v":""},{"$f":"IF(ISBLANK(H199),\"\",H199)","v":""},{"$f":"IF(ISBLANK(G199),\"\",G199)","v":""}]
[null,null,null,null,null,null,null,null,null,null,null,null,null,null,null,null,null,{"$f":"IF(ISBLANK(K200),\"\",VLOOKUP(K200,Tableau8[],2,FALSE))","v":""},"","",{"$f":"IF(ISBLANK(I200),\"\",VLOOKUP(I200,tableau11[],2,FALSE))","v":""},{"$f":"IF(ISBLANK(J200),\"\",VLOOKUP(J200,tableau12[],2,FALSE))","v":""},"",""]
[null,null,null,null,null,null,null,null,null,null,null,null,null,null,null,null,null,{"$f":"IF(ISBLANK(K201),\"\",VLOOKUP(K201,Tableau8[],2,FALSE))","v":""},"","",{"$f":"IF(ISBLANK(I201),\"\",VLOOKUP(I201,tableau11[],2,FALSE))","v":""},{"$f":"IF(ISBLANK(J201),\"\",VLOOKUP(J201,tableau12[],2,FALSE))","v":""},"",""]
[null,null,null,null,null,null,null,null,null,null,null,null,null,null,null,null,null,{"$f":"IF(ISBLANK(K202),\"\",VLOOKUP(K202,Tableau8[],2,FALSE))","v":""},"","",{"$f":"IF(ISBLANK(I202),\"\",VLOOKUP(I202,tableau11[],2,FALSE))","v":""},{"$f":"IF(ISBLANK(J202),\"\",VLOOKUP(J202,tableau12[],2,FALSE))","v":""},"",""]
[null,null,null,null,null,null,null,null,null,null,null,null,null,null,null,null,null,{"$f":"IF(ISBLANK(K203),\"\",VLOOKUP(K203,Tableau8[],2,FALSE))","v":""},"","",{"$f":"IF(ISBLANK(I203),\"\",VLOOKUP(I203,tableau11[],2,FALSE))","v":""},{"$f":"IF(ISBLANK(J203),\"\",VLOOKUP(J203,tableau12[],2,FALSE))","v":""},"",""]
[null,null,null,null,null,null,null,null,null,null,null,null,null,null,null,null,null,{"$f":"IF(ISBLANK(K204),\"\",VLOOKUP(K204,Tableau8[],2,FALSE))","v":""},"","",{"$f":"IF(ISBLANK(I204),\"\",VLOOKUP(I204,tableau11[],2,FALSE))","v":""},{"$f":"IF(ISBLANK(J204),\"\",VLOOKUP(J204,tableau12[],2,FALSE))","v":""},"",""]
[null,null,null,null,null,null,null,null,null,null,null,null,null,null,null,null,null,{"$f":"IF(ISBLANK(K205),\"\",VLOOKUP(K205,Tableau8[],2,FALSE))","v":""},"","",{"$f":"IF(ISBLANK(I205),\"\",VLOOKUP(I205,tableau11[],2,FALSE))","v":""},{"$f":"IF(ISBLANK(J205),\"\",VLOOKUP(J205,tableau12[],2,FALSE))","v":""},"",""]
[null,null,null,null,null,null,null,null,null,null,null,null,null,null,null,null,null,{"$f":"IF(ISBLANK(K206),\"\",VLOOKUP(K206,Tableau8[],2,FALSE))","v":""},"","",{"$f":"IF(ISBLANK(I206),\"\",VLOOKUP(I206,tableau11[],2,FALSE))","v":""},{"$f":"IF(ISBLANK(J206),\"\",VLOOKUP(J206,tableau12[],2,FALSE))","v":""},"",""]
[null,null,null,null,null,null,null,null,null,null,null,null,null,null,null,null,null,{"$f":"IF(ISBLANK(K207),\"\",VLOOKUP(K207,Tableau8[],2,FALSE))","v":""},"",{"$f":"IF(ISBLANK(G207),\"\",\"CA3\")","v":""},{"$f":"IF(ISBLANK(I207),\"\",VLOOKUP(I207,tableau11[],2,FALSE))","v":""},{"$f":"IF(ISBLANK(J207),\"\",VLOOKUP(J207,tableau12[],2,FALSE))","v":""},"",""]
[null,null,null,null,null,null,null,null,null,null,null,null,null,null,null,null,null,{"$f":"IF(ISBLANK(K208),\"\",VLOOKUP(K208,Tableau8[],2,FALSE))","v":""},"","",{"$f":"IF(ISBLANK(I208),\"\",VLOOKUP(I208,tableau11[],2,FALSE))","v":""},{"$f":"IF(ISBLANK(J208),\"\",VLOOKUP(J208,tableau12[],2,FALSE))","v":""},"",""]
[null,null,null,null,null,null,null,null,null,null,null,null,null,null,null,null,null,{"$f":"IF(ISBLANK(K209),\"\",VLOOKUP(K209,Tableau8[],2,FALSE))","v":""},"","",{"$f":"IF(ISBLANK(I209),\"\",VLOOKUP(I209,tableau11[],2,FALSE))","v":""},{"$f":"IF(ISBLANK(J209),\"\",VLOOKUP(J209,tableau12[],2,FALSE))","v":""},"",""]
[null,null,null,null,null,null,null,null,null,null,null,null,null,null,null,null,null,{"$f":"IF(ISBLANK(K210),\"\",VLOOKUP(K210,Tableau8[],2,FALSE))","v":""},"","",{"$f":"IF(ISBLANK(I210),\"\",VLOOKUP(I210,tableau11[],2,FALSE))","v":""},{"$f":"IF(ISBLANK(J210),\"\",VLOOKUP(J210,tableau12[],2,FALSE))","v":""},"",""]
[null,null,null,null,null,null,null,null,null,null,null,null,null,null,null,null,null,{"$f":"IF(ISBLANK(K211),\"\",VLOOKUP(K211,Tableau8[],2,FALSE))","v":""},"","",{"$f":"IF(ISBLANK(I211),\"\",VLOOKUP(I211,tableau11[],2,FALSE))","v":""},{"$f":"IF(ISBLANK(J211),\"\",VLOOKUP(J211,tableau12[],2,FALSE))","v":""},"",""]
[null,null,null,null,null,null,null,null,null,null,null,null,null,null,null,null,null,{"$f":"IF(ISBLANK(K212),\"\",VLOOKUP(K212,Tableau8[],2,FALSE))","v":""},"","",{"$f":"IF(ISBLANK(I212),\"\",VLOOKUP(I212,tableau11[],2,FALSE))","v":""},{"$f":"IF(ISBLANK(J212),\"\",VLOOKUP(J212,tableau12[],2,FALSE))","v":""},"",""]
[null,null,null,null,null,null,null,null,null,null,null,null,null,null,null,null,null,{"$f":"IF(ISBLANK(K213),\"\",VLOOKUP(K213,Tableau8[],2,FALSE))","v":""},"","",{"$f":"IF(ISBLANK(I213),\"\",VLOOKUP(I213,tableau11[],2,FALSE))","v":""},{"$f":"IF(ISBLANK(J213),\"\",VLOOKUP(J213,tableau12[],2,FALSE))","v":""},"",""]
[null,null,null,null,null,null,null,null,null,null,null,null,null,null,null,null,null,{"$f":"IF(ISBLANK(K214),\"\",VLOOKUP(K214,Tableau8[],2,FALSE))","v":""},"",null,{"$f":"IF(ISBLANK(I214),\"\",VLOOKUP(I214,tabeau11,2,FALSE))","v":""},{"$f":"IF(ISBLANK(J214),\"\",VLOOKUP(J214,tabeau11,2,FALSE))","v":""},"",""]
[null,"CA4",{"$f":"Listes!Y7","v":"AFL1 : S’engager pour gagner une rencontre en faisant des choix techniques et tactiques pertinents au regard de l’analyse du rapport de force"},"EP1",{"$f":"Listes!AB7","v":"Réaliser des actions techniques d’attaque et de défense en relation avec son projet et ses choix tactiques"},null,null,null,null,null,null,null,null,"Objectifs généraux EPS",null,"invariants des OG dans chaque CA",null,{"$f":"IF(ISBLANK(K215),\"\",VLOOKUP(K215,Tableau8[],2,FALSE))","v":""},"",{"$f":"IF(ISBLANK(G215),\"\",\"CA4\")","v":""},{"$f":"IF(ISBLANK(I215),\"\",VLOOKUP(I215,tableau16[],2,FALSE))","v":""},{"$f":"IF(ISBLANK(J215),\"\",VLOOKUP(J215,tableau17[],2,FALSE))","v":""},"",""]
[null,null,null,null,null,null,null,null,null,null,null,null,null,"OG1",{"$f":"Listes!$AR$7","v":"Développer sa motricité"},{"$f":"Listes!$AT$7","v":"APSA diversifiées"},null,{"$f":"IF(ISBLANK(K216),\"\",VLOOKUP(K216,Tableau8[],2,FALSE))","v":""},"",{"$f":"IF(ISBLANK(G216),\"\",\"CA4\")","v":""},{"$f":"IF(ISBLANK(I216),\"\",VLOOKUP(I216,tableau16[],2,FALSE))","v":""},{"$f":"IF(ISBLANK(J216),\"\",VLOOKUP(J216,tableau17[],2,FALSE))","v":""},"",""]
[null,null,null,null,null,null,null,null,null,null,null,null,null,null,null,{"$f":"Listes!$AT$8","v":"APSA approfondies"},null,{"$f":"IF(ISBLANK(K217),\"\",VLOOKUP(K217,Tableau8[],2,FALSE))","v":""},"","",{"$f":"IF(ISBLANK(I217),\"\",VLOOKUP(I217,tableau16[],2,FALSE))","v":""},{"$f":"IF(ISBLANK(J217),\"\",VLOOKUP(J217,tableau17[],2,FALSE))","v":""},"",""]
[null,null,null,"EP2",{"$f":"Listes!AB8","v":"Identifier les forces et faiblesses de son adversaire pour définir, mettre en oeuvre et réguler un projet tactique"},null,null,null,null,null,null,null,null,"OG2",{"$f":"Listes!$AR$8","v":"Savoir se préparer et s'entraîner"},{"$f":"Listes!$AV$7","v":"Se connaître"},null,{"$f":"IF(ISBLANK(K218),\"\",VLOOKUP(K218,Tableau8[],2,FALSE))","v":""},"","",{"$f":"IF(ISBLANK(I218),\"\",VLOOKUP(I218,tableau16[],2,FALSE))","v":""},{"$f":"IF(ISBLANK(J218),\"\",VLOOKUP(J218,tableau17[],2,FALSE))","v":""},"",""]
[null,null,null,null,null,null,null,null,null,null,null,null,null,null,null,{"$f":"Listes!$AV$8","v":"Faire des choix"},null,{"$f":"IF(ISBLANK(K219),\"\",VLOOKUP(K219,Tableau8[],2,FALSE))","v":""},"","",{"$f":"IF(ISBLANK(I219),\"\",VLOOKUP(I219,tableau16[],2,FALSE))","v":""},{"$f":"IF(ISBLANK(J219),\"\",VLOOKUP(J219,tableau17[],2,FALSE))","v":""},"",""]
[null,null,null,null,null,null,null,null,null,null,null,null,null,null,null,{"$f":"Listes!$AV$9","v":"Se preparer"},null,{"$f":"IF(ISBLANK(K220),\"\",VLOOKUP(K220,Tableau8[],2,FALSE))","v":""},"","",{"$f":"IF(ISBLANK(I220),\"\",VLOOKUP(I220,tableau16[],2,FALSE))","v":""},{"$f":"IF(ISBLANK(J220),\"\",VLOOKUP(J220,tableau17[],2,FALSE))","v":""},"",""]
[null,null,null,"EP3",{"$f":"Listes!AB9","v":"Identifier l’évolution des caractéristiques du rapport de force pour adapter ses actions"},null,null,null,null,null,null,null,null,null,null,{"$f":"Listes!$AV$10","v":"Conduire et réguler ses efforts"},null,{"$f":"IF(ISBLANK(K221),\"\",VLOOKUP(K221,Tableau8[],2,FALSE))","v":""},"","",{"$f":"IF(ISBLANK(I221),\"\",VLOOKUP(I221,tableau16[],2,FALSE))","v":""},{"$f":"IF(ISBLANK(J221),\"\",VLOOKUP(J221,tableau17[],2,FALSE))","v":""},"",""]
[null,null,null,null,null,null,null,null,null,null,null,null,null,"OG3",{"$f":"Listes!$AR$9","v":"Exercer sa responsabilité individuelle au sein d'un collectif"},{"$f":"Listes!$AX$7","v":"Juge arbitre"},null,{"$f":"IF(ISBLANK(K222),\"\",VLOOKUP(K222,Tableau8[],2,FALSE))","v":""},"","",{"$f":"IF(ISBLANK(I222),\"\",VLOOKUP(I222,tableau16[],2,FALSE))","v":""},{"$f":"IF(ISBLANK(J222),\"\",VLOOKUP(J222,tableau17[],2,FALSE))","v":""},"",""]
[null,null,null,null,null,null,null,null,null,null,null,null,null,null,null,{"$f":"Listes!$AX$8","v":"Observateur, conseil, aide"},null,{"$f":"IF(ISBLANK(K223),\"\",VLOOKUP(K223,Tableau8[],2,FALSE))","v":""},"","",{"$f":"IF(ISBLANK(I223),\"\",VLOOKUP(I223,tableau16[],2,FALSE))","v":""},{"$f":"IF(ISBLANK(J223),\"\",VLOOKUP(J223,tableau17[],2,FALSE))","v":""},"",""]
[null,null,null,"EP4",{"$f":"Listes!AB10","v":"Adapter son engagement en fonction du rapport de force et de ses ressentis"},null,null,null,null,null,null,null,null,null,null,{"$f":"Listes!$AX$9","v":"Partenaire, adversaire"},null,{"$f":"IF(ISBLANK(K224),\"\",VLOOKUP(K224,Tableau8[],2,FALSE))","v":""},"","",{"$f":"IF(ISBLANK(I224),\"\",VLOOKUP(I224,tableau16[],2,FALSE))","v":""},{"$f":"IF(ISBLANK(J224),\"\",VLOOKUP(J224,tableau17[],2,FALSE))","v":""},"",""]
[null,null,null,null,null,null,null,null,null,null,null,null,null,"OG4",{"$f":"Listes!$AR$10","v":"Construire durablement sa santé"},{"$f":"Listes!$AZ$7","v":"Construire une image positive de soi (progrès réalisé)"},null,{"$f":"IF(ISBLANK(K225),\"\",VLOOKUP(K225,Tableau8[],2,FALSE))","v":""},"","",{"$f":"IF(ISBLANK(I225),\"\",VLOOKUP(I225,tableau16[],2,FALSE))","v":""},{"$f":"IF(ISBLANK(J225),\"\",VLOOKUP(J225,tableau17[],2,FALSE))","v":""},"",""]
[null,null,null,null,null,null,null,null,null,null,null,null,null,null,null,{"$f":"Listes!$AZ$8","v":"Assurer sa sécurité ou celle des autres"},null,{"$f":"IF(ISBLANK(K226),\"\",VLOOKUP(K226,Tableau8[],2,FALSE))","v":""},"","",{"$f":"IF(ISBLANK(I226),\"\",VLOOKUP(I226,tableau16[],2,FALSE))","v":""},{"$f":"IF(ISBLANK(J226),\"\",VLOOKUP(J226,tableau17[],2,FALSE))","v":""},"",""]
[null,null,{"$f":"Listes!Y8","v":"AFL2 : Se préparer et s’entraîner, individuellement ou collectivement, pour conduire et maîtriser un affrontement collectif ou interindividuel"},"EP5",{"$f":"Listes!AB11","v":"Répéter et persévérer pour améliorer l’efficacité de ses actions"},null,null,null,null,null,null,null,null,null,null,{"$f":"Listes!$AZ$9","v":"Prendre du plaisir"},null,{"$f":"IF(ISBLANK(K227),\"\",VLOOKUP(K227,Tableau8[],2,FALSE))","v":""},"","",{"$f":"IF(ISBLANK(I227),\"\",VLOOKUP(I227,tableau16[],2,FALSE))","v":""},{"$f":"IF(ISBLANK(J227),\"\",VLOOKUP(J227,tableau17[],2,FALSE))","v":""},"",""]
[null,null,null,null,null,null,null,null,null,null,null,null,null,"OG5",{"$f":"Listes!$AR$11","v":"Accéder au patrimoine culturel"},{"$f":"Listes!$BB$7","v":"Se situer en tant que pratiquant"},null,{"$f":"IF(ISBLANK(K228),\"\",VLOOKUP(K228,Tableau8[],2,FALSE))","v":""},"","",{"$f":"IF(ISBLANK(I228),\"\",VLOOKUP(I228,tableau16[],2,FALSE))","v":""},{"$f":"IF(ISBLANK(J228),\"\",VLOOKUP(J228,tableau17[],2,FALSE))","v":""},"",""]
[null,null,null,"EP6",{"$f":"Listes!AB12","v":"Utiliser différents supports d’observation et d’analyse pour apprécier des prestations et l’état du rapport de force entre deux équipes ou deux adversaires"},null,null,null,null,null,null,null,null,null,null,{"$f":"Listes!$BB$8","v":"Se situer en tant que spectateur/critique"},null,{"$f":"IF(ISBLANK(K229),\"\",VLOOKUP(K229,Tableau8[],2,FALSE))","v":""},"","",{"$f":"IF(ISBLANK(I229),\"\",VLOOKUP(I229,tableau16[],2,FALSE))","v":""},{"$f":"IF(ISBLANK(J229),\"\",VLOOKUP(J229,tableau17[],2,FALSE))","v":""},"",""]
[null,null,null,null,null,null,null,null,null,null,null,null,null,null,null,null,null,{"$f":"IF(ISBLANK(K230),\"\",VLOOKUP(K230,Tableau8[],2,FALSE))","v":""},"","",{"$f":"IF(ISBLANK(I230),\"\",VLOOKUP(I230,tableau16[],2,FALSE))","v":""},{"$f":"IF(ISBLANK(J230),\"\",VLOOKUP(J230,tableau17[],2,FALSE))","v":""},"",""]
[null,null,null,null,null,null,null,null,null,null,null,null,null,null,null,null,null,{"$f":"IF(ISBLANK(K231),\"\",VLOOKUP(K231,Tableau8[],2,FALSE))","v":""},"","",{"$f":"IF(ISBLANK(I231),\"\",VLOOKUP(I231,tableau16[],2,FALSE))","v":""},{"$f":"IF(ISBLANK(J231),\"\",VLOOKUP(J231,tableau17[],2,FALSE))","v":""},"",""]
[null,null,null,"EP7",{"$f":"Listes!AB13","v":"Accepter la défaite, gagner avec humilité"},null,null,null,null,null,null,null,null,null,null,null,null,{"$f":"IF(ISBLANK(K232),\"\",VLOOKUP(K232,Tableau8[],2,FALSE))","v":""},"","",{"$f":"IF(ISBLANK(I232),\"\",VLOOKUP(I232,tableau16[],2,FALSE))","v":""},{"$f":"IF(ISBLANK(J232),\"\",VLOOKUP(J232,tableau17[],2,FALSE))","v":""},"",""]
[null,null,null,null,null,null,null,null,null,null,null,null,null,null,null,null,null,{"$f":"IF(ISBLANK(K233),\"\",VLOOKUP(K233,Tableau8[],2,FALSE))","v":""},"","",{"$f":"IF(ISBLANK(I233),\"\",VLOOKUP(I233,tableau16[],2,FALSE))","v":""},{"$f":"IF(ISBLANK(J233),\"\",VLOOKUP(J233,tableau17[],2,FALSE))","v":""},"",""]
[null,null,{"$f":"Listes!Y9","v":"AFL3 : Choisir et assumer les rôles qui permettent un fonctionnement collectif solidaire"},"EP8",{"$f":"Listes!AB14","v":"Etre solidaire de ses partenaires"},null,null,null,null,null,null,null,null,null,null,null,null,{"$f":"IF(ISBLANK(K234),\"\",VLOOKUP(K234,Tableau8[],2,FALSE))","v":""},"","",{"$f":"IF(ISBLANK(I234),\"\",VLOOKUP(I234,tableau16[],2,FALSE))","v":""},{"$f":"IF(ISBLANK(J234),\"\",VLOOKUP(J234,tableau17[],2,FALSE))","v":""},"",""]
[null,null,null,null,null,null,null,null,null,null,null,null,null,null,null,null,null,{"$f":"IF(ISBLANK(K235),\"\",VLOOKUP(K235,Tableau8[],2,FALSE))","v":""},"","",{"$f":"IF(ISBLANK(I235),\"\",VLOOKUP(I235,tableau16[],2,FALSE))","v":""},{"$f":"IF(ISBLANK(J235),\"\",VLOOKUP(J235,tableau17[],2,FALSE))","v":""},"",""]
[null,null,null,"EP9",{"$f":"Listes!AB15","v":"Assurer différents rôles (partenaire, adversaire, arbitre, coach, observateur)"},null,null,null,null,null,null,null,null,null,null,null,null,{"$f":"IF(ISBLANK(K236),\"\",VLOOKUP(K236,Tableau8[],2,FALSE))","v":""},"","",{"$f":"IF(ISBLANK(I236),\"\",VLOOKUP(I236,tableau16[],2,FALSE))","v":""},{"$f":"IF(ISBLANK(J236),\"\",VLOOKUP(J236,tableau17[],2,FALSE))","v":""},"",""]
[null,null,null,null,null,null,null,null,null,null,null,null,null,null,null,null,null,{"$f":"IF(ISBLANK(K237),\"\",VLOOKUP(K237,Tableau8[],2,FALSE))","v":""},"","",{"$f":"IF(ISBLANK(I237),\"\",VLOOKUP(I237,tableau16[],2,FALSE))","v":""},{"$f":"IF(ISBLANK(J237),\"\",VLOOKUP(J237,tableau17[],2,FALSE))","v":""},"",""]
[null,null,null,"EP10",{"$f":"Listes!AB16","v":"Connaître, respecter et faire respecter les règles"},null,null,null,null,null,null,null,null,null,null,null,null,{"$f":"IF(ISBLANK(K238),\"\",VLOOKUP(K238,Tableau8[],2,FALSE))","v":""},"","",{"$f":"IF(ISBLANK(I238),\"\",VLOOKUP(I238,tableau16[],2,FALSE))","v":""},{"$f":"IF(ISBLANK(J238),\"\",VLOOKUP(J238,tableau17[],2,FALSE))","v":""},"",""]
[null,null,null,null,null,null,null,null,null,null,null,null,null,null,null,null,null,{"$f":"IF(ISBLANK(K239),\"\",VLOOKUP(K239,Tableau8[],2,FALSE))","v":""},"","",{"$f":"IF(ISBLANK(I239),\"\",VLOOKUP(I239,tableau16[],2,FALSE))","v":""},{"$f":"IF(ISBLANK(J239),\"\",VLOOKUP(J239,tableau17[],2,FALSE))","v":""},"",""]
[null,null,null,null,null,null,null,null,null,null,null,null,null,null,null,null,null,{"$f":"IF(ISBLANK(K240),\"\",VLOOKUP(K240,Tableau8[],2,FALSE))","v":""},"","",{"$f":"IF(ISBLANK(I240),\"\",VLOOKUP(I240,tableau16[],2,FALSE))","v":""},{"$f":"IF(ISBLANK(J240),\"\",VLOOKUP(J240,tableau17[],2,FALSE))","v":""},"",""]
[null,null,null,null,null,null,null,null,null,null,null,null,null,null,null,null,null,{"$f":"IF(ISBLANK(K241),\"\",VLOOKUP(K241,Tableau8[],2,FALSE))","v":""},"","",{"$f":"IF(ISBLANK(I241),\"\",VLOOKUP(I241,tableau16[],2,FALSE))","v":""},{"$f":"IF(ISBLANK(J241),\"\",VLOOKUP(J241,tableau17[],2,FALSE))","v":""},"",""]
[null,null,null,null,null,null,null,null,null,null,null,null,null,null,null,null,null,{"$f":"IF(ISBLANK(K242),\"\",VLOOKUP(K242,Tableau8[],2,FALSE))","v":""},"","",{"$f":"IF(ISBLANK(I242),\"\",VLOOKUP(I242,tableau16[],2,FALSE))","v":""},{"$f":"IF(ISBLANK(J242),\"\",VLOOKUP(J242,tableau17[],2,FALSE))","v":""},"",""]
[null,null,null,null,null,null,null,null,null,null,null,null,null,null,null,null,null,{"$f":"IF(ISBLANK(K243),\"\",VLOOKUP(K243,Tableau8[],2,FALSE))","v":""},"","",{"$f":"IF(ISBLANK(I243),\"\",VLOOKUP(I243,tableau16[],2,FALSE))","v":""},{"$f":"IF(ISBLANK(J243),\"\",VLOOKUP(J243,tableau17[],2,FALSE))","v":""},"",""]
[null,null,null,null,null,null,null,null,null,null,null,null,null,null,null,null,null,{"$f":"IF(ISBLANK(K244),\"\",VLOOKUP(K244,Tableau8[],2,FALSE))","v":""},"","",{"$f":"IF(ISBLANK(I244),\"\",VLOOKUP(I244,tableau16[],2,FALSE))","v":""},{"$f":"IF(ISBLANK(J244),\"\",VLOOKUP(J244,tableau17[],2,FALSE))","v":""},"",""]
[null,null,null,null,null,null,null,null,null,null,null,null,null,null,null,null,null,{"$f":"IF(ISBLANK(K245),\"\",VLOOKUP(K245,Tableau8[],2,FALSE))","v":""},"","",{"$f":"IF(ISBLANK(I245),\"\",VLOOKUP(I245,tableau16[],2,FALSE))","v":""},{"$f":"IF(ISBLANK(J245),\"\",VLOOKUP(J245,tableau17[],2,FALSE))","v":""},"",""]
[null,null,null,null,null,null,null,null,null,null,null,null,null,null,null,null,null,{"$f":"IF(ISBLANK(K246),\"\",VLOOKUP(K246,Tableau8[],2,FALSE))","v":""},"","",{"$f":"IF(ISBLANK(I246),\"\",VLOOKUP(I246,tableau16[],2,FALSE))","v":""},{"$f":"IF(ISBLANK(J246),\"\",VLOOKUP(J246,tableau17[],2,FALSE))","v":""},"",""]
[null,null,null,null,null,null,null,null,null,null,null,null,null,null,null,null,null,{"$f":"IF(ISBLANK(K247),\"\",VLOOKUP(K247,Tableau8[],2,FALSE))","v":""},"","",{"$f":"IF(ISBLANK(I247),\"\",VLOOKUP(I247,tableau16[],2,FALSE))","v":""},{"$f":"IF(ISBLANK(J247),\"\",VLOOKUP(J247,tableau17[],2,FALSE))","v":""},"",""]
[null,null,null,null,null,null,null,null,null,null,null,null,null,null,null,null,null,{"$f":"IF(ISBLANK(K248),\"\",VLOOKUP(K248,Tableau8[],2,FALSE))","v":""},"","",{"$f":"IF(ISBLANK(I248),\"\",VLOOKUP(I248,tableau16[],2,FALSE))","v":""},{"$f":"IF(ISBLANK(J248),\"\",VLOOKUP(J248,tableau17[],2,FALSE))","v":""},"",""]
[null,null,null,null,null,null,null,null,null,null,null,null,null,null,null,null,null,{"$f":"IF(ISBLANK(K249),\"\",VLOOKUP(K249,Tableau8[],2,FALSE))","v":""},"","",{"$f":"IF(ISBLANK(I249),\"\",VLOOKUP(I249,tableau16[],2,FALSE))","v":""},{"$f":"IF(ISBLANK(J249),\"\",VLOOKUP(J249,tableau17[],2,FALSE))","v":""},"",""]
[null,null,null,null,null,null,null,null,null,null,null,null,null,null,null,null,null,{"$f":"IF(ISBLANK(K250),\"\",VLOOKUP(K250,Tableau8[],2,FALSE))","v":""},"","",{"$f":"IF(ISBLANK(I250),\"\",VLOOKUP(I250,tableau16[],2,FALSE))","v":""},{"$f":"IF(ISBLANK(J250),\"\",VLOOKUP(J250,tableau17[],2,FALSE))","v":""},"",""]
[null,null,null,null,null,null,null,null,null,null,null,null,null,null,null,null,null,{"$f":"IF(ISBLANK(K251),\"\",VLOOKUP(K251,Tableau8[],2,FALSE))","v":""},"","",{"$f":"IF(ISBLANK(I251),\"\",VLOOKUP(I251,tableau16[],2,FALSE))","v":""},{"$f":"IF(ISBLANK(J251),\"\",VLOOKUP(J251,tableau17[],2,FALSE))","v":""},"",""]
[null,null,null,null,null,null,null,null,null,null,null,null,null,null,null,null,null,{"$f":"IF(ISBLANK(K252),\"\",VLOOKUP(K252,Tableau8[],2,FALSE))","v":""},"","",{"$f":"IF(ISBLANK(I252),\"\",VLOOKUP(I252,tableau16[],2,FALSE))","v":""},{"$f":"IF(ISBLANK(J252),\"\",VLOOKUP(J252,tableau17[],2,FALSE))","v":""},"",""]
[null,null,null,null,null,null,null,null,null,null,null,null,null,null,null,null,null,{"$f":"IF(ISBLANK(K253),\"\",VLOOKUP(K253,Tableau8[],2,FALSE))","v":""},"","",{"$f":"IF(ISBLANK(I253),\"\",VLOOKUP(I253,tableau16[],2,FALSE))","v":""},{"$f":"IF(ISBLANK(J253),\"\",VLOOKUP(J253,tableau17[],2,FALSE))","v":""},"",""]
[null,null,null,null,null,null,null,null,null,null,null,null,null,null,null,null,null,{"$f":"IF(ISBLANK(K254),\"\",VLOOKUP(K254,Tableau8[],2,FALSE))","v":""},"","",{"$f":"IF(ISBLANK(I254),\"\",VLOOKUP(I254,tableau16[],2,FALSE))","v":""},{"$f":"IF(ISBLANK(J254),\"\",VLOOKUP(J254,tableau17[],2,FALSE))","v":""},"",""]
[null,null,null,null,null,null,null,null,null,null,null,null,null,null,null,null,null,{"$f":"IF(ISBLANK(K255),\"\",VLOOKUP(K255,Tableau8[],2,FALSE))","v":""},"","",{"$f":"IF(ISBLANK(I255),\"\",VLOOKUP(I255,tableau16[],2,FALSE))","v":""},{"$f":"IF(ISBLANK(J255),\"\",VLOOKUP(J255,tableau17[],2,FALSE))","v":""},"",""]
[null,null,null,null,null,null,null,null,null,null,null,null,null,null,null,null,null,{"$f":"IF(ISBLANK(K256),\"\",VLOOKUP(K256,Tableau8[],2,FALSE))","v":""},"","",{"$f":"IF(ISBLANK(I256),\"\",VLOOKUP(I256,tableau16[],2,FALSE))","v":""},{"$f":"IF(ISBLANK(J256),\"\",VLOOKUP(J256,tableau17[],2,FALSE))","v":""},"",""]
[null,null,null,null,null,null,null,null,null,null,null,null,null,null,null,null,null,{"$f":"IF(ISBLANK(K257),\"\",VLOOKUP(K257,Tableau8[],2,FALSE))","v":""},"","",{"$f":"IF(ISBLANK(I257),\"\",VLOOKUP(I257,tableau16[],2,FALSE))","v":""},{"$f":"IF(ISBLANK(J257),\"\",VLOOKUP(J257,tableau17[],2,FALSE))","v":""},"",""]
[null,null,null,null,null,null,null,null,null,null,null,null,null,null,null,null,null,{"$f":"IF(ISBLANK(K258),\"\",VLOOKUP(K258,Tableau8[],2,FALSE))","v":""},"","",{"$f":"IF(ISBLANK(I258),\"\",VLOOKUP(I258,tableau16[],2,FALSE))","v":""},{"$f":"IF(ISBLANK(J258),\"\",VLOOKUP(J258,tableau17[],2,FALSE))","v":""},"",""]
[null,null,null,null,null,null,null,null,null,null,null,null,null,null,null,null,null,{"$f":"IF(ISBLANK(K259),\"\",VLOOKUP(K259,Tableau8[],2,FALSE))","v":""},"","",{"$f":"IF(ISBLANK(I259),\"\",VLOOKUP(I259,tableau16[],2,FALSE))","v":""},{"$f":"IF(ISBLANK(J259),\"\",VLOOKUP(J259,tableau17[],2,FALSE))","v":""},"",""]
[null,null,null,null,null,null,null,null,null,null,null,null,null,null,null,null,null,{"$f":"IF(ISBLANK(K260),\"\",VLOOKUP(K260,Tableau8[],2,FALSE))","v":""},"","",{"$f":"IF(ISBLANK(I260),\"\",VLOOKUP(I260,tableau16[],2,FALSE))","v":""},{"$f":"IF(ISBLANK(J260),\"\",VLOOKUP(J260,tableau17[],2,FALSE))","v":""},"",""]
[null,null,null,null,null,null,null,null,null,null,null,null,null,null,null,null,null,{"$f":"IF(ISBLANK(K261),\"\",VLOOKUP(K261,Tableau8[],2,FALSE))","v":""},"","",{"$f":"IF(ISBLANK(I261),\"\",VLOOKUP(I261,tableau16[],2,FALSE))","v":""},{"$f":"IF(ISBLANK(J261),\"\",VLOOKUP(J261,tableau17[],2,FALSE))","v":""},"",""]
[null,null,null,null,null,null,null,null,null,null,null,null,null,null,null,null,null,{"$f":"IF(ISBLANK(K262),\"\",VLOOKUP(K262,Tableau8[],2,FALSE))","v":""},"","",{"$f":"IF(ISBLANK(I262),\"\",VLOOKUP(I262,tableau16[],2,FALSE))","v":""},{"$f":"IF(ISBLANK(J262),\"\",VLOOKUP(J262,tableau17[],2,FALSE))","v":""},"",""]
[null,null,null,null,null,null,null,null,null,null,null,null,null,null,null,null,null,{"$f":"IF(ISBLANK(K263),\"\",VLOOKUP(K263,Tableau8[],2,FALSE))","v":""},{"$f":"IF(ISBLANK(L263),\"\",L263)","v":""},"",{"$f":"IF(ISBLANK(I263),\"\",VLOOKUP(I263,tableau16[],2,FALSE))","v":""},{"$f":"IF(ISBLANK(J263),\"\",VLOOKUP(J263,tableau17[],2,FALSE))","v":""},{"$f":"IF(ISBLANK(H263),\"\",H263)","v":""},{"$f":"IF(ISBLANK(G263),\"\",G263)","v":""}]
[null,null,null,null,null,null,null,null,null,null,null,null,null,null,null,null,null,{"$f":"IF(ISBLANK(K264),\"\",VLOOKUP(K264,Tableau8[],2,FALSE))","v":""},"","",{"$f":"IF(ISBLANK(I264),\"\",VLOOKUP(I264,tableau16[],2,FALSE))","v":""},{"$f":"IF(ISBLANK(J264),\"\",VLOOKUP(J264,tableau17[],2,FALSE))","v":""},"",""]
[null,null,null,null,null,null,null,null,null,null,null,null,null,null,null,null,null,{"$f":"IF(ISBLANK(K265),\"\",VLOOKUP(K265,Tableau8[],2,FALSE))","v":""},"","",{"$f":"IF(ISBLANK(I265),\"\",VLOOKUP(I265,tableau16[],2,FALSE))","v":""},{"$f":"IF(ISBLANK(J265),\"\",VLOOKUP(J265,tableau17[],2,FALSE))","v":""},"",""]
[null,null,null,null,null,null,null,null,null,null,null,null,null,null,null,null,null,{"$f":"IF(ISBLANK(K266),\"\",VLOOKUP(K266,Tableau8[],2,FALSE))","v":""},"","",{"$f":"IF(ISBLANK(I266),\"\",VLOOKUP(I266,tableau16[],2,FALSE))","v":""},{"$f":"IF(ISBLANK(J266),\"\",VLOOKUP(J266,tableau17[],2,FALSE))","v":""},"",""]
[null,null,null,null,null,null,null,null,null,null,null,null,null,null,null,null,null,{"$f":"IF(ISBLANK(K267),\"\",VLOOKUP(K267,Tableau8[],2,FALSE))","v":""},"","",{"$f":"IF(ISBLANK(I267),\"\",VLOOKUP(I267,tableau16[],2,FALSE))","v":""},{"$f":"IF(ISBLANK(J267),\"\",VLOOKUP(J267,tableau17[],2,FALSE))","v":""},"",""]
[null,null,null,null,null,null,null,null,null,null,null,null,null,null,null,null,null,{"$f":"IF(ISBLANK(K268),\"\",VLOOKUP(K268,Tableau8[],2,FALSE))","v":""},"","",{"$f":"IF(ISBLANK(I268),\"\",VLOOKUP(I268,tableau16[],2,FALSE))","v":""},{"$f":"IF(ISBLANK(J268),\"\",VLOOKUP(J268,tableau17[],2,FALSE))","v":""},"",""]
[null,null,null,null,null,null,null,null,null,null,null,null,null,null,null,null,null,{"$f":"IF(ISBLANK(K269),\"\",VLOOKUP(K269,Tableau8[],2,FALSE))","v":""},"","",{"$f":"IF(ISBLANK(I269),\"\",VLOOKUP(I269,tableau16[],2,FALSE))","v":""},{"$f":"IF(ISBLANK(J269),\"\",VLOOKUP(J269,tableau17[],2,FALSE))","v":""},"",""]
[null,null,null,null,null,null,null,null,null,null,null,null,null,null,null,null,null,{"$f":"IF(ISBLANK(K270),\"\",VLOOKUP(K270,Tableau8[],2,FALSE))","v":""},"","",{"$f":"IF(ISBLANK(I270),\"\",VLOOKUP(I270,tableau16[],2,FALSE))","v":""},{"$f":"IF(ISBLANK(J270),\"\",VLOOKUP(J270,tableau17[],2,FALSE))","v":""},"",""]
[null,null,null,null,null,null,null,null,null,null,null,null,null,null,null,null,null,{"$f":"IF(ISBLANK(K271),\"\",VLOOKUP(K271,Tableau8[],2,FALSE))","v":""},"","",{"$f":"IF(ISBLANK(I271),\"\",VLOOKUP(I271,tableau16[],2,FALSE))","v":""},{"$f":"IF(ISBLANK(J271),\"\",VLOOKUP(J271,tableau17[],2,FALSE))","v":""},"",""]
[null,null,null,null,null,null,null,null,null,null,null,null,null,null,null,null,null,{"$f":"IF(ISBLANK(K272),\"\",VLOOKUP(K272,Tableau8[],2,FALSE))","v":""},"","",{"$f":"IF(ISBLANK(I272),\"\",VLOOKUP(I272,tableau16[],2,FALSE))","v":""},{"$f":"IF(ISBLANK(J272),\"\",VLOOKUP(J272,tableau17[],2,FALSE))","v":""},"",""]
[null,null,null,null,null,null,null,null,null,null,null,null,null,null,null,null,null,{"$f":"IF(ISBLANK(K273),\"\",VLOOKUP(K273,Tableau8[],2,FALSE))","v":""},"","",{"$f":"IF(ISBLANK(I273),\"\",VLOOKUP(I273,tableau16[],2,FALSE))","v":""},{"$f":"IF(ISBLANK(J273),\"\",VLOOKUP(J273,tableau17[],2,FALSE))","v":""},"",""]
[null,null,null,null,null,null,null,null,null,null,null,null,null,null,null,null,null,{"$f":"IF(ISBLANK(K274),\"\",VLOOKUP(K274,Tableau8[],2,FALSE))","v":""},"","",{"$f":"IF(ISBLANK(I274),\"\",VLOOKUP(I274,tableau16[],2,FALSE))","v":""},{"$f":"IF(ISBLANK(J274),\"\",VLOOKUP(J274,tableau17[],2,FALSE))","v":""},"",""]
[null,null,null,null,null,null,null,null,null,null,null,null,null,null,null,null,null,{"$f":"IF(ISBLANK(K275),\"\",VLOOKUP(K275,Tableau8[],2,FALSE))","v":""},"","",{"$f":"IF(ISBLANK(I275),\"\",VLOOKUP(I275,tableau16[],2,FALSE))","v":""},{"$f":"IF(ISBLANK(J275),\"\",VLOOKUP(J275,tableau17[],2,FALSE))","v":""},"",""]
[null,null,null,null,null,null,null,null,null,null,null,null,null,null,null,null,null,{"$f":"IF(ISBLANK(K276),\"\",VLOOKUP(K276,Tableau8[],2,FALSE))","v":""},"","",{"$f":"IF(ISBLANK(I276),\"\",VLOOKUP(I276,tableau16[],2,FALSE))","v":""},{"$f":"IF(ISBLANK(J276),\"\",VLOOKUP(J276,tableau17[],2,FALSE))","v":""},"",""]
[null,null,null,null,null,null,null,null,null,null,null,null,null,null,null,null,null,{"$f":"IF(ISBLANK(K277),\"\",VLOOKUP(K277,Tableau8[],2,FALSE))","v":""},"","",{"$f":"IF(ISBLANK(I277),\"\",VLOOKUP(I277,tableau16[],2,FALSE))","v":""},{"$f":"IF(ISBLANK(J277),\"\",VLOOKUP(J277,tableau17[],2,FALSE))","v":""},"",""]
[null,null,null,null,null,null,null,null,null,null,null,null,null,null,null,null,null,{"$f":"IF(ISBLANK(K278),\"\",VLOOKUP(K278,Tableau8[],2,FALSE))","v":""},"","",{"$f":"IF(ISBLANK(I278),\"\",VLOOKUP(I278,tableau16[],2,FALSE))","v":""},{"$f":"IF(ISBLANK(J278),\"\",VLOOKUP(J278,tableau17[],2,FALSE))","v":""},"",""]
[null,null,null,null,null,null,null,null,null,null,null,null,null,null,null,null,null,{"$f":"IF(ISBLANK(K279),\"\",VLOOKUP(K279,Tableau8[],2,FALSE))","v":""},"","",{"$f":"IF(ISBLANK(I279),\"\",VLOOKUP(I279,tableau16[],2,FALSE))","v":""},{"$f":"IF(ISBLANK(J279),\"\",VLOOKUP(J279,tableau17[],2,FALSE))","v":""},"",""]
[null,null,null,null,null,null,null,null,null,null,null,null,null,null,null,null,null,{"$f":"IF(ISBLANK(K280),\"\",VLOOKUP(K280,Tableau8[],2,FALSE))","v":""},"",{"$f":"IF(ISBLANK(G280),\"\",\"CA4\")","v":""},{"$f":"IF(ISBLANK(I280),\"\",VLOOKUP(I280,tableau16[],2,FALSE))","v":""},{"$f":"IF(ISBLANK(J280),\"\",VLOOKUP(J280,tableau17[],2,FALSE))","v":""},"",""]
[null,null,null,null,null,null,null,null,null,null,null,null,null,null,null,null,null,{"$f":"IF(ISBLANK(K281),\"\",VLOOKUP(K281,Tableau8[],2,FALSE))","v":""},"","",{"$f":"IF(ISBLANK(I281),\"\",VLOOKUP(I281,tableau16[],2,FALSE))","v":""},{"$f":"IF(ISBLANK(J281),\"\",VLOOKUP(J281,tableau17[],2,FALSE))","v":""},"",""]
[null,null,null,null,null,null,null,null,null,null,null,null,null,null,null,null,null,{"$f":"IF(ISBLANK(K282),\"\",VLOOKUP(K282,Tableau8[],2,FALSE))","v":""},"","",{"$f":"IF(ISBLANK(I282),\"\",VLOOKUP(I282,tableau16[],2,FALSE))","v":""},{"$f":"IF(ISBLANK(J282),\"\",VLOOKUP(J282,tableau17[],2,FALSE))","v":""},"",""]
[null,null,null,null,null,null,null,null,null,null,null,null,null,null,null,null,null,{"$f":"IF(ISBLANK(K283),\"\",VLOOKUP(K283,Tableau8[],2,FALSE))","v":""},"","",{"$f":"IF(ISBLANK(I283),\"\",VLOOKUP(I283,tableau16[],2,FALSE))","v":""},{"$f":"IF(ISBLANK(J283),\"\",VLOOKUP(J283,tableau17[],2,FALSE))","v":""},"",""]
[null,null,null,null,null,null,null,null,null,null,null,null,null,null,null,null,null,{"$f":"IF(ISBLANK(K284),\"\",VLOOKUP(K284,Tableau8[],2,FALSE))","v":""},"","",{"$f":"IF(ISBLANK(I284),\"\",VLOOKUP(I284,tableau16[],2,FALSE))","v":""},{"$f":"IF(ISBLANK(J284),\"\",VLOOKUP(J284,tableau17[],2,FALSE))","v":""},"",""]
[null,null,null,null,null,null,null,null,null,null,null,null,null,null,null,null,null,{"$f":"IF(ISBLANK(K285),\"\",VLOOKUP(K285,Tableau8[],2,FALSE))","v":""},"","",{"$f":"IF(ISBLANK(I285),\"\",VLOOKUP(I285,tableau16[],2,FALSE))","v":""},{"$f":"IF(ISBLANK(J285),\"\",VLOOKUP(J285,tableau17[],2,FALSE))","v":""},"",""]
[null,null,null,null,null,null,null,null,null,null,null,null,null,null,null,null,null,{"$f":"IF(ISBLANK(K286),\"\",VLOOKUP(K286,Tableau8[],2,FALSE))","v":""},"","",{"$f":"IF(ISBLANK(I286),\"\",VLOOKUP(I286,tableau16[],2,FALSE))","v":""},{"$f":"IF(ISBLANK(J286),\"\",VLOOKUP(J286,tableau17[],2,FALSE))","v":""},"",""]
[null,null,null,null,null,null,null,null,null,null,null,null,null,null,null,null,null,{"$f":"IF(ISBLANK(K287),\"\",VLOOKUP(K287,Tableau8[],2,FALSE))","v":""},"",null,null,null,"",""]
[null,"CA5",{"$f":"Listes!AF7","v":"AFL1 : S'engager pour obtenir les effets recherchés selon son projet personnel, en faisant des choix de paramètres d'entraînement cohérents avec le thème retenu"},"EP1",{"$f":"Listes!AI7","v":"Développer une motricité spécifique pour réaliser une séquence de travail dans le respect de son intégrité physique"},null,null,null,null,null,null,null,null,"Objectifs généraux EPS",null,"invariants des OG dans chaque CA",null,{"$f":"IF(ISBLANK(K288),\"\",VLOOKUP(K288,Tableau8[],2,FALSE))","v":""},"",{"$f":"IF(ISBLANK(G288),\"\",\"CA5\")","v":""},{"$f":"IF(ISBLANK(I288),\"\",VLOOKUP(I288,tableau21[],2,FALSE))","v":""},{"$f":"IF(ISBLANK(J288),\"\",VLOOKUP(J288,tableau22[],2,FALSE))","v":""},"",""]
[null,null,null,null,null,null,null,null,null,null,null,null,null,"OG1",{"$f":"Listes!$AR$7","v":"Développer sa motricité"},{"$f":"Listes!$AT$7","v":"APSA diversifiées"},null,{"$f":"IF(ISBLANK(K289),\"\",VLOOKUP(K289,Tableau8[],2,FALSE))","v":""},"",{"$f":"IF(ISBLANK(G289),\"\",\"CA5\")","v":""},{"$f":"IF(ISBLANK(I289),\"\",VLOOKUP(I289,tableau21[],2,FALSE))","v":""},{"$f":"IF(ISBLANK(J289),\"\",VLOOKUP(J289,tableau22[],2,FALSE))","v":""},"",""]
[null,null,null,null,null,null,null,null,null,null,null,null,null,null,null,{"$f":"Listes!$AT$8","v":"APSA approfondies"},null,{"$f":"IF(ISBLANK(K290),\"\",VLOOKUP(K290,Tableau8[],2,FALSE))","v":""},"","",{"$f":"IF(ISBLANK(I290),\"\",VLOOKUP(I290,tableau21[],2,FALSE))","v":""},{"$f":"IF(ISBLANK(J290),\"\",VLOOKUP(J290,tableau22[],2,FALSE))","v":""},"",""]
[null,null,null,"EP2",{"$f":"Listes!AI8","v":"S'appuyer sur les connaissances relatives au corps humain et à l'effort physique pour définir un projet d'entraînement"},null,null,null,null,null,null,null,null,"OG2",{"$f":"Listes!$AR$8","v":"Savoir se préparer et s'entraîner"},{"$f":"Listes!$AV$7","v":"Se connaître"},null,{"$f":"IF(ISBLANK(K291),\"\",VLOOKUP(K291,Tableau8[],2,FALSE))","v":""},"","",{"$f":"IF(ISBLANK(I291),\"\",VLOOKUP(I291,tableau21[],2,FALSE))","v":""},{"$f":"IF(ISBLANK(J291),\"\",VLOOKUP(J291,tableau22[],2,FALSE))","v":""},"",""]
[null,null,null,null,null,null,null,null,null,null,null,null,null,null,null,{"$f":"Listes!$AV$8","v":"Faire des choix"},null,{"$f":"IF(ISBLANK(K292),\"\",VLOOKUP(K292,Tableau8[],2,FALSE))","v":""},"","",{"$f":"IF(ISBLANK(I292),\"\",VLOOKUP(I292,tableau21[],2,FALSE))","v":""},{"$f":"IF(ISBLANK(J292),\"\",VLOOKUP(J292,tableau22[],2,FALSE))","v":""},"",""]
[null,null,null,null,null,null,null,null,null,null,null,null,null,null,null,{"$f":"Listes!$AV$9","v":"Se preparer"},null,{"$f":"IF(ISBLANK(K293),\"\",VLOOKUP(K293,Tableau8[],2,FALSE))","v":""},"","",{"$f":"IF(ISBLANK(I293),\"\",VLOOKUP(I293,tableau21[],2,FALSE))","v":""},{"$f":"IF(ISBLANK(J293),\"\",VLOOKUP(J293,tableau22[],2,FALSE))","v":""},"",""]
[null,null,null,"EP3",{"$f":"Listes!AI9","v":"Connaître et moduler différents paramètres d’entraînement (intensité, durée, répétition, complexité, charges, récupération...) pour produire et identifier des effets immédiats en lien avec un projet personnel et un thème d’entraînement retenu"},null,null,null,null,null,null,null,null,null,null,{"$f":"Listes!$AV$10","v":"Conduire et réguler ses efforts"},null,{"$f":"IF(ISBLANK(K294),\"\",VLOOKUP(K294,Tableau8[],2,FALSE))","v":""},"","",{"$f":"IF(ISBLANK(I294),\"\",VLOOKUP(I294,tableau21[],2,FALSE))","v":""},{"$f":"IF(ISBLANK(J294),\"\",VLOOKUP(J294,tableau22[],2,FALSE))","v":""},"",""]
[null,null,null,null,null,null,null,null,null,null,null,null,null,"OG3",{"$f":"Listes!$AR$9","v":"Exercer sa responsabilité individuelle au sein d'un collectif"},{"$f":"Listes!$AX$7","v":"Juge arbitre"},null,{"$f":"IF(ISBLANK(K295),\"\",VLOOKUP(K295,Tableau8[],2,FALSE))","v":""},"","",{"$f":"IF(ISBLANK(I295),\"\",VLOOKUP(I295,tableau21[],2,FALSE))","v":""},{"$f":"IF(ISBLANK(J295),\"\",VLOOKUP(J295,tableau22[],2,FALSE))","v":""},"",""]
[null,null,null,null,null,null,null,null,null,null,null,null,null,null,null,{"$f":"Listes!$AX$8","v":"Observateur, conseil, aide"},null,{"$f":"IF(ISBLANK(K296),\"\",VLOOKUP(K296,Tableau8[],2,FALSE))","v":""},"","",{"$f":"IF(ISBLANK(I296),\"\",VLOOKUP(I296,tableau21[],2,FALSE))","v":""},{"$f":"IF(ISBLANK(J296),\"\",VLOOKUP(J296,tableau22[],2,FALSE))","v":""},"",""]
[null,null,null,null,null,null,null,null,null,null,null,null,null,null,null,{"$f":"Listes!$AX$9","v":"Partenaire, adversaire"},null,{"$f":"IF(ISBLANK(K297),\"\",VLOOKUP(K297,Tableau8[],2,FALSE))","v":""},"","",{"$f":"IF(ISBLANK(I297),\"\",VLOOKUP(I297,tableau21[],2,FALSE))","v":""},{"$f":"IF(ISBLANK(J297),\"\",VLOOKUP(J297,tableau22[],2,FALSE))","v":""},"",""]
[null,null,null,null,null,null,null,null,null,null,null,null,null,"OG4",{"$f":"Listes!$AR$10","v":"Construire durablement sa santé"},{"$f":"Listes!$AZ$7","v":"Construire une image positive de soi (progrès réalisé)"},null,{"$f":"IF(ISBLANK(K298),\"\",VLOOKUP(K298,Tableau8[],2,FALSE))","v":""},"","",{"$f":"IF(ISBLANK(I298),\"\",VLOOKUP(I298,tableau21[],2,FALSE))","v":""},{"$f":"IF(ISBLANK(J298),\"\",VLOOKUP(J298,tableau22[],2,FALSE))","v":""},"",""]
[null,null,{"$f":"Listes!AF8","v":"AFL2 : S’entraîner, individuellement ou collectivement, pour développer ses ressources et s’entretenir en fonction des effets recherchés"},"EP4",{"$f":"Listes!AI10","v":"Choisir quelques paramètres et utiliser ses ressentis (musculaires, respiratoires, émotionnels, psychologiques…) pour personnaliser et réguler une séquence de travail"},null,null,null,null,null,null,null,null,null,null,{"$f":"Listes!$AZ$8","v":"Assurer sa sécurité ou celle des autres"},null,{"$f":"IF(ISBLANK(K299),\"\",VLOOKUP(K299,Tableau8[],2,FALSE))","v":""},"","",{"$f":"IF(ISBLANK(I299),\"\",VLOOKUP(I299,tableau21[],2,FALSE))","v":""},{"$f":"IF(ISBLANK(J299),\"\",VLOOKUP(J299,tableau22[],2,FALSE))","v":""},"",""]
[null,null,null,null,null,null,null,null,null,null,null,null,null,null,null,{"$f":"Listes!$AZ$9","v":"Prendre du plaisir"},null,{"$f":"IF(ISBLANK(K300),\"\",VLOOKUP(K300,Tableau8[],2,FALSE))","v":""},"","",{"$f":"IF(ISBLANK(I300),\"\",VLOOKUP(I300,tableau21[],2,FALSE))","v":""},{"$f":"IF(ISBLANK(J300),\"\",VLOOKUP(J300,tableau22[],2,FALSE))","v":""},"",""]
[null,null,null,null,null,null,null,null,null,null,null,null,null,"OG5",{"$f":"Listes!$AR$11","v":"Accéder au patrimoine culturel"},{"$f":"Listes!$BB$7","v":"Se situer en tant que pratiquant"},null,{"$f":"IF(ISBLANK(K301),\"\",VLOOKUP(K301,Tableau8[],2,FALSE))","v":""},"","",{"$f":"IF(ISBLANK(I301),\"\",VLOOKUP(I301,tableau21[],2,FALSE))","v":""},{"$f":"IF(ISBLANK(J301),\"\",VLOOKUP(J301,tableau22[],2,FALSE))","v":""},"",""]
[null,null,null,null,null,null,null,null,null,null,null,null,null,null,null,{"$f":"Listes!$BB$8","v":"Se situer en tant que spectateur/critique"},null,{"$f":"IF(ISBLANK(K302),\"\",VLOOKUP(K302,Tableau8[],2,FALSE))","v":""},"","",{"$f":"IF(ISBLANK(I302),\"\",VLOOKUP(I302,tableau21[],2,FALSE))","v":""},{"$f":"IF(ISBLANK(J302),\"\",VLOOKUP(J302,tableau22[],2,FALSE))","v":""},"",""]
[null,null,null,"EP5",{"$f":"Listes!AI11","v":"Se mettre en condition pour s’engager dans l’effort choisi et récupérer de celui-ci"},null,null,null,null,null,null,null,null,null,null,null,null,{"$f":"IF(ISBLANK(K303),\"\",VLOOKUP(K303,Tableau8[],2,FALSE))","v":""},"","",{"$f":"IF(ISBLANK(I303),\"\",VLOOKUP(I303,tableau21[],2,FALSE))","v":""},{"$f":"IF(ISBLANK(J303),\"\",VLOOKUP(J303,tableau22[],2,FALSE))","v":""},"",""]
[null,null,null,null,null,null,null,null,null,null,null,null,null,null,null,null,null,{"$f":"IF(ISBLANK(K304),\"\",VLOOKUP(K304,Tableau8[],2,FALSE))","v":""},"","",{"$f":"IF(ISBLANK(I304),\"\",VLOOKUP(I304,tableau21[],2,FALSE))","v":""},{"$f":"IF(ISBLANK(J304),\"\",VLOOKUP(J304,tableau22[],2,FALSE))","v":""},"",""]
[null,null,null,"EP6",{"$f":"Listes!AI12","v":"Choisir, réaliser et réguler un projet d’entraînement définissant les ressources à mobiliser, en lien avec les effets recherchés"},null,null,null,null,null,null,null,null,null,null,null,null,{"$f":"IF(ISBLANK(K305),\"\",VLOOKUP(K305,Tableau8[],2,FALSE))","v":""},"","",{"$f":"IF(ISBLANK(I305),\"\",VLOOKUP(I305,tableau21[],2,FALSE))","v":""},{"$f":"IF(ISBLANK(J305),\"\",VLOOKUP(J305,tableau22[],2,FALSE))","v":""},"",""]
[null,null,null,null,null,null,null,null,null,null,null,null,null,null,null,null,null,{"$f":"IF(ISBLANK(K306),\"\",VLOOKUP(K306,Tableau8[],2,FALSE))","v":""},"","",{"$f":"IF(ISBLANK(I306),\"\",VLOOKUP(I306,tableau21[],2,FALSE))","v":""},{"$f":"IF(ISBLANK(J306),\"\",VLOOKUP(J306,tableau22[],2,FALSE))","v":""},"",""]
[null,null,null,null,null,null,null,null,null,null,null,null,null,null,null,null,null,{"$f":"IF(ISBLANK(K307),\"\",VLOOKUP(K307,Tableau8[],2,FALSE))","v":""},"","",{"$f":"IF(ISBLANK(I307),\"\",VLOOKUP(I307,tableau21[],2,FALSE))","v":""},{"$f":"IF(ISBLANK(J307),\"\",VLOOKUP(J307,tableau22[],2,FALSE))","v":""},"",""]
[null,null,{"$f":"Listes!AF9","v":"AFL3 : Coopérer pour faire progresser"},"EP7",{"$f":"Listes!AI13","v":"Répéter et persévérer pour améliorer l’efficacité de ses actions"},null,null,null,null,null,null,null,null,null,null,null,null,{"$f":"IF(ISBLANK(K308),\"\",VLOOKUP(K308,Tableau8[],2,FALSE))","v":""},"","",{"$f":"IF(ISBLANK(I308),\"\",VLOOKUP(I308,tableau21[],2,FALSE))","v":""},{"$f":"IF(ISBLANK(J308),\"\",VLOOKUP(J308,tableau22[],2,FALSE))","v":""},"",""]
[null,null,null,null,null,null,null,null,null,null,null,null,null,null,null,null,null,{"$f":"IF(ISBLANK(K309),\"\",VLOOKUP(K309,Tableau8[],2,FALSE))","v":""},"","",{"$f":"IF(ISBLANK(I309),\"\",VLOOKUP(I309,tableau21[],2,FALSE))","v":""},{"$f":"IF(ISBLANK(J309),\"\",VLOOKUP(J309,tableau22[],2,FALSE))","v":""},"",""]
[null,null,null,"EP8",{"$f":"Listes!AI14","v":"Assumer différents rôles sociaux (aide, parade, coach, observateur) liés à la pratique"},null,null,null,null,null,null,null,null,null,null,null,null,{"$f":"IF(ISBLANK(K310),\"\",VLOOKUP(K310,Tableau8[],2,FALSE))","v":""},"","",{"$f":"IF(ISBLANK(I310),\"\",VLOOKUP(I310,tableau21[],2,FALSE))","v":""},{"$f":"IF(ISBLANK(J310),\"\",VLOOKUP(J310,tableau22[],2,FALSE))","v":""},"",""]
[null,null,null,null,null,null,null,null,null,null,null,null,null,null,null,null,null,{"$f":"IF(ISBLANK(K311),\"\",VLOOKUP(K311,Tableau8[],2,FALSE))","v":""},"","",{"$f":"IF(ISBLANK(I311),\"\",VLOOKUP(I311,tableau21[],2,FALSE))","v":""},{"$f":"IF(ISBLANK(J311),\"\",VLOOKUP(J311,tableau22[],2,FALSE))","v":""},"",""]
[null,null,null,null,null,null,null,null,null,null,null,null,null,null,null,null,null,{"$f":"IF(ISBLANK(K312),\"\",VLOOKUP(K312,Tableau8[],2,FALSE))","v":""},"","",{"$f":"IF(ISBLANK(I312),\"\",VLOOKUP(I312,tableau21[],2,FALSE))","v":""},{"$f":"IF(ISBLANK(J312),\"\",VLOOKUP(J312,tableau22[],2,FALSE))","v":""},"",""]
[null,null,null,"EP9",{"$f":"Listes!AI15","v":"Utiliser un carnet d’entraînement afin de suivre et réguler son plan de travail"},null,null,null,null,null,null,null,null,null,null,null,null,{"$f":"IF(ISBLANK(K313),\"\",VLOOKUP(K313,Tableau8[],2,FALSE))","v":""},"","",{"$f":"IF(ISBLANK(I313),\"\",VLOOKUP(I313,tableau21[],2,FALSE))","v":""},{"$f":"IF(ISBLANK(J313),\"\",VLOOKUP(J313,tableau22[],2,FALSE))","v":""},"",""]
[null,null,null,null,null,null,null,null,null,null,null,null,null,null,null,null,null,{"$f":"IF(ISBLANK(K314),\"\",VLOOKUP(K314,Tableau8[],2,FALSE))","v":""},"","",{"$f":"IF(ISBLANK(I314),\"\",VLOOKUP(I314,tableau21[],2,FALSE))","v":""},{"$f":"IF(ISBLANK(J314),\"\",VLOOKUP(J314,tableau22[],2,FALSE))","v":""},"",""]
[null,null,null,null,null,null,null,null,null,null,null,null,null,null,null,null,null,{"$f":"IF(ISBLANK(K315),\"\",VLOOKUP(K315,Tableau8[],2,FALSE))","v":""},"","",{"$f":"IF(ISBLANK(I315),\"\",VLOOKUP(I315,tableau21[],2,FALSE))","v":""},{"$f":"IF(ISBLANK(J315),\"\",VLOOKUP(J315,tableau22[],2,FALSE))","v":""},"",""]
[null,null,null,null,null,null,null,null,null,null,null,null,null,null,null,null,null,{"$f":"IF(ISBLANK(K316),\"\",VLOOKUP(K316,Tableau8[],2,FALSE))","v":""},"","",{"$f":"IF(ISBLANK(I316),\"\",VLOOKUP(I316,tableau21[],2,FALSE))","v":""},{"$f":"IF(ISBLANK(J316),\"\",VLOOKUP(J316,tableau22[],2,FALSE))","v":""},"",""]
[null,null,null,null,null,null,null,null,null,null,null,null,null,null,null,null,null,{"$f":"IF(ISBLANK(K317),\"\",VLOOKUP(K317,Tableau8[],2,FALSE))","v":""},"","",{"$f":"IF(ISBLANK(I317),\"\",VLOOKUP(I317,tableau21[],2,FALSE))","v":""},{"$f":"IF(ISBLANK(J317),\"\",VLOOKUP(J317,tableau22[],2,FALSE))","v":""},"",""]
[null,null,null,null,null,null,null,null,null,null,null,null,null,null,null,null,null,{"$f":"IF(ISBLANK(K318),\"\",VLOOKUP(K318,Tableau8[],2,FALSE))","v":""},"","",{"$f":"IF(ISBLANK(I318),\"\",VLOOKUP(I318,tableau21[],2,FALSE))","v":""},{"$f":"IF(ISBLANK(J318),\"\",VLOOKUP(J318,tableau22[],2,FALSE))","v":""},"",""]
[null,null,null,null,null,null,null,null,null,null,null,null,null,null,null,null,null,{"$f":"IF(ISBLANK(K319),\"\",VLOOKUP(K319,Tableau8[],2,FALSE))","v":""},"","",{"$f":"IF(ISBLANK(I319),\"\",VLOOKUP(I319,tableau21[],2,FALSE))","v":""},{"$f":"IF(ISBLANK(J319),\"\",VLOOKUP(J319,tableau22[],2,FALSE))","v":""},"",""]
[null,null,null,null,null,null,null,null,null,null,null,null,null,null,null,null,null,{"$f":"IF(ISBLANK(K320),\"\",VLOOKUP(K320,Tableau8[],2,FALSE))","v":""},"","",{"$f":"IF(ISBLANK(I320),\"\",VLOOKUP(I320,tableau21[],2,FALSE))","v":""},{"$f":"IF(ISBLANK(J320),\"\",VLOOKUP(J320,tableau22[],2,FALSE))","v":""},"",""]
[null,null,null,null,null,null,null,null,null,null,null,null,null,null,null,null,null,{"$f":"IF(ISBLANK(K321),\"\",VLOOKUP(K321,Tableau8[],2,FALSE))","v":""},"","",{"$f":"IF(ISBLANK(I321),\"\",VLOOKUP(I321,tableau21[],2,FALSE))","v":""},{"$f":"IF(ISBLANK(J321),\"\",VLOOKUP(J321,tableau22[],2,FALSE))","v":""},"",""]
[null,null,null,null,null,null,null,null,null,null,null,null,null,null,null,null,null,{"$f":"IF(ISBLANK(K322),\"\",VLOOKUP(K322,Tableau8[],2,FALSE))","v":""},"","",{"$f":"IF(ISBLANK(I322),\"\",VLOOKUP(I322,tableau21[],2,FALSE))","v":""},{"$f":"IF(ISBLANK(J322),\"\",VLOOKUP(J322,tableau22[],2,FALSE))","v":""},"",""]
[null,null,null,null,null,null,null,null,null,null,null,null,null,null,null,null,null,{"$f":"IF(ISBLANK(K323),\"\",VLOOKUP(K323,Tableau8[],2,FALSE))","v":""},"","",{"$f":"IF(ISBLANK(I323),\"\",VLOOKUP(I323,tableau21[],2,FALSE))","v":""},{"$f":"IF(ISBLANK(J323),\"\",VLOOKUP(J323,tableau22[],2,FALSE))","v":""},"",""]
[null,null,null,null,null,null,null,null,null,null,null,null,null,null,null,null,null,{"$f":"IF(ISBLANK(K324),\"\",VLOOKUP(K324,Tableau8[],2,FALSE))","v":""},"","",{"$f":"IF(ISBLANK(I324),\"\",VLOOKUP(I324,tableau21[],2,FALSE))","v":""},{"$f":"IF(ISBLANK(J324),\"\",VLOOKUP(J324,tableau22[],2,FALSE))","v":""},"",""]
[null,null,null,null,null,null,null,null,null,null,null,null,null,null,null,null,null,{"$f":"IF(ISBLANK(K325),\"\",VLOOKUP(K325,Tableau8[],2,FALSE))","v":""},"","",{"$f":"IF(ISBLANK(I325),\"\",VLOOKUP(I325,tableau21[],2,FALSE))","v":""},{"$f":"IF(ISBLANK(J325),\"\",VLOOKUP(J325,tableau22[],2,FALSE))","v":""},"",""]
[null,null,null,null,null,null,null,null,null,null,null,null,null,null,null,null,null,{"$f":"IF(ISBLANK(K326),\"\",VLOOKUP(K326,Tableau8[],2,FALSE))","v":""},"","",{"$f":"IF(ISBLANK(I326),\"\",VLOOKUP(I326,tableau21[],2,FALSE))","v":""},{"$f":"IF(ISBLANK(J326),\"\",VLOOKUP(J326,tableau22[],2,FALSE))","v":""},"",""]
[null,null,null,null,null,null,null,null,null,null,null,null,null,null,null,null,null,{"$f":"IF(ISBLANK(K327),\"\",VLOOKUP(K327,Tableau8[],2,FALSE))","v":""},{"$f":"IF(ISBLANK(L327),\"\",L327)","v":""},"",{"$f":"IF(ISBLANK(I327),\"\",VLOOKUP(I327,tableau21[],2,FALSE))","v":""},{"$f":"IF(ISBLANK(J327),\"\",VLOOKUP(J327,tableau22[],2,FALSE))","v":""},{"$f":"IF(ISBLANK(H327),\"\",H327)","v":""},{"$f":"IF(ISBLANK(G327),\"\",G327)","v":""}]
[null,null,null,null,null,null,null,null,null,null,null,null,null,null,null,null,null,{"$f":"IF(ISBLANK(K328),\"\",VLOOKUP(K328,Tableau8[],2,FALSE))","v":""},"","",{"$f":"IF(ISBLANK(I328),\"\",VLOOKUP(I328,tableau21[],2,FALSE))","v":""},{"$f":"IF(ISBLANK(J328),\"\",VLOOKUP(J328,tableau22[],2,FALSE))","v":""},"",""]
[null,null,null,null,null,null,null,null,null,null,null,null,null,null,null,null,null,{"$f":"IF(ISBLANK(K329),\"\",VLOOKUP(K329,Tableau8[],2,FALSE))","v":""},"","",{"$f":"IF(ISBLANK(I329),\"\",VLOOKUP(I329,tableau21[],2,FALSE))","v":""},{"$f":"IF(ISBLANK(J329),\"\",VLOOKUP(J329,tableau22[],2,FALSE))","v":""},"",""]
[null,null,null,null,null,null,null,null,null,null,null,null,null,null,null,null,null,{"$f":"IF(ISBLANK(K330),\"\",VLOOKUP(K330,Tableau8[],2,FALSE))","v":""},"","",{"$f":"IF(ISBLANK(I330),\"\",VLOOKUP(I330,tableau21[],2,FALSE))","v":""},{"$f":"IF(ISBLANK(J330),\"\",VLOOKUP(J330,tableau22[],2,FALSE))","v":""},"",""]
[null,null,null,null,null,null,null,null,null,null,null,null,null,null,null,null,null,{"$f":"IF(ISBLANK(K331),\"\",VLOOKUP(K331,Tableau8[],2,FALSE))","v":""},"","",{"$f":"IF(ISBLANK(I331),\"\",VLOOKUP(I331,tableau21[],2,FALSE))","v":""},{"$f":"IF(ISBLANK(J331),\"\",VLOOKUP(J331,tableau22[],2,FALSE))","v":""},"",""]
[null,null,null,null,null,null,null,null,null,null,null,null,null,null,null,null,null,{"$f":"IF(ISBLANK(K332),\"\",VLOOKUP(K332,Tableau8[],2,FALSE))","v":""},"","",{"$f":"IF(ISBLANK(I332),\"\",VLOOKUP(I332,tableau21[],2,FALSE))","v":""},{"$f":"IF(ISBLANK(J332),\"\",VLOOKUP(J332,tableau22[],2,FALSE))","v":""},"",""]
[null,null,null,null,null,null,null,null,null,null,null,null,null,null,null,null,null,{"$f":"IF(ISBLANK(K333),\"\",VLOOKUP(K333,Tableau8[],2,FALSE))","v":""},"","",{"$f":"IF(ISBLANK(I333),\"\",VLOOKUP(I333,tableau21[],2,FALSE))","v":""},{"$f":"IF(ISBLANK(J333),\"\",VLOOKUP(J333,tableau22[],2,FALSE))","v":""},"",""]
[null,null,null,null,null,null,null,null,null,null,null,null,null,null,null,null,null,{"$f":"IF(ISBLANK(K334),\"\",VLOOKUP(K334,Tableau8[],2,FALSE))","v":""},"","",{"$f":"IF(ISBLANK(I334),\"\",VLOOKUP(I334,tableau21[],2,FALSE))","v":""},{"$f":"IF(ISBLANK(J334),\"\",VLOOKUP(J334,tableau22[],2,FALSE))","v":""},"",""]
[null,null,null,null,null,null,null,null,null,null,null,null,null,null,null,null,null,{"$f":"IF(ISBLANK(K335),\"\",VLOOKUP(K335,Tableau8[],2,FALSE))","v":""},"","",{"$f":"IF(ISBLANK(I335),\"\",VLOOKUP(I335,tableau21[],2,FALSE))","v":""},{"$f":"IF(ISBLANK(J335),\"\",VLOOKUP(J335,tableau22[],2,FALSE))","v":""},"",""]
[null,null,null,null,null,null,null,null,null,null,null,null,null,null,null,null,null,{"$f":"IF(ISBLANK(K336),\"\",VLOOKUP(K336,Tableau8[],2,FALSE))","v":""},"","",{"$f":"IF(ISBLANK(I336),\"\",VLOOKUP(I336,tableau21[],2,FALSE))","v":""},{"$f":"IF(ISBLANK(J336),\"\",VLOOKUP(J336,tableau22[],2,FALSE))","v":""},"",""]
[null,null,null,null,null,null,null,null,null,null,null,null,null,null,null,null,null,{"$f":"IF(ISBLANK(K337),\"\",VLOOKUP(K337,Tableau8[],2,FALSE))","v":""},"","",{"$f":"IF(ISBLANK(I337),\"\",VLOOKUP(I337,tableau21[],2,FALSE))","v":""},{"$f":"IF(ISBLANK(J337),\"\",VLOOKUP(J337,tableau22[],2,FALSE))","v":""},"",""]
[null,null,null,null,null,null,null,null,null,null,null,null,null,null,null,null,null,{"$f":"IF(ISBLANK(K338),\"\",VLOOKUP(K338,Tableau8[],2,FALSE))","v":""},"","",{"$f":"IF(ISBLANK(I338),\"\",VLOOKUP(I338,tableau21[],2,FALSE))","v":""},{"$f":"IF(ISBLANK(J338),\"\",VLOOKUP(J338,tableau22[],2,FALSE))","v":""},"",""]
[null,null,null,null,null,null,null,null,null,null,null,null,null,null,null,null,null,{"$f":"IF(ISBLANK(K339),\"\",VLOOKUP(K339,Tableau8[],2,FALSE))","v":""},"","",{"$f":"IF(ISBLANK(I339),\"\",VLOOKUP(I339,tableau21[],2,FALSE))","v":""},{"$f":"IF(ISBLANK(J339),\"\",VLOOKUP(J339,tableau22[],2,FALSE))","v":""},"",""]
[null,null,null,null,null,null,null,null,null,null,null,null,null,null,null,null,null,{"$f":"IF(ISBLANK(K340),\"\",VLOOKUP(K340,Tableau8[],2,FALSE))","v":""},"","",{"$f":"IF(ISBLANK(I340),\"\",VLOOKUP(I340,tableau21[],2,FALSE))","v":""},{"$f":"IF(ISBLANK(J340),\"\",VLOOKUP(J340,tableau22[],2,FALSE))","v":""},"",""]
[null,null,null,null,null,null,null,null,null,null,null,null,null,null,null,null,null,{"$f":"IF(ISBLANK(K341),\"\",VLOOKUP(K341,Tableau8[],2,FALSE))","v":""},"","",{"$f":"IF(ISBLANK(I341),\"\",VLOOKUP(I341,tableau21[],2,FALSE))","v":""},{"$f":"IF(ISBLANK(J341),\"\",VLOOKUP(J341,tableau22[],2,FALSE))","v":""},"",""]
[null,null,null,null,null,null,null,null,null,null,null,null,null,null,null,null,null,{"$f":"IF(ISBLANK(K342),\"\",VLOOKUP(K342,Tableau8[],2,FALSE))","v":""},"","",{"$f":"IF(ISBLANK(I342),\"\",VLOOKUP(I342,tableau21[],2,FALSE))","v":""},{"$f":"IF(ISBLANK(J342),\"\",VLOOKUP(J342,tableau22[],2,FALSE))","v":""},"",""]
[null,null,null,null,null,null,null,null,null,null,null,null,null,null,null,null,null,{"$f":"IF(ISBLANK(K343),\"\",VLOOKUP(K343,Tableau8[],2,FALSE))","v":""},"","",{"$f":"IF(ISBLANK(I343),\"\",VLOOKUP(I343,tableau21[],2,FALSE))","v":""},{"$f":"IF(ISBLANK(J343),\"\",VLOOKUP(J343,tableau22[],2,FALSE))","v":""},"",""]
[null,null,null,null,null,null,null,null,null,null,null,null,null,null,null,null,null,{"$f":"IF(ISBLANK(K344),\"\",VLOOKUP(K344,Tableau8[],2,FALSE))","v":""},"","",{"$f":"IF(ISBLANK(I344),\"\",VLOOKUP(I344,tableau21[],2,FALSE))","v":""},{"$f":"IF(ISBLANK(J344),\"\",VLOOKUP(J344,tableau22[],2,FALSE))","v":""},"",""]
[null,null,null,null,null,null,null,null,null,null,null,null,null,null,null,null,null,{"$f":"IF(ISBLANK(K345),\"\",VLOOKUP(K345,Tableau8[],2,FALSE))","v":""},"","",{"$f":"IF(ISBLANK(I345),\"\",VLOOKUP(I345,tableau21[],2,FALSE))","v":""},{"$f":"IF(ISBLANK(J345),\"\",VLOOKUP(J345,tableau22[],2,FALSE))","v":""},"",""]
[null,null,null,null,null,null,null,null,null,null,null,null,null,null,null,null,null,{"$f":"IF(ISBLANK(K346),\"\",VLOOKUP(K346,Tableau8[],2,FALSE))","v":""},"","",{"$f":"IF(ISBLANK(I346),\"\",VLOOKUP(I346,tableau21[],2,FALSE))","v":""},{"$f":"IF(ISBLANK(J346),\"\",VLOOKUP(J346,tableau22[],2,FALSE))","v":""},"",""]
[null,null,null,null,null,null,null,null,null,null,null,null,null,null,null,null,null,{"$f":"IF(ISBLANK(K347),\"\",VLOOKUP(K347,Tableau8[],2,FALSE))","v":""},"","",{"$f":"IF(ISBLANK(I347),\"\",VLOOKUP(I347,tableau21[],2,FALSE))","v":""},{"$f":"IF(ISBLANK(J347),\"\",VLOOKUP(J347,tableau22[],2,FALSE))","v":""},"",""]
[null,null,null,null,null,null,null,null,null,null,null,null,null,null,null,null,null,{"$f":"IF(ISBLANK(K348),\"\",VLOOKUP(K348,Tableau8[],2,FALSE))","v":""},"","",{"$f":"IF(ISBLANK(I348),\"\",VLOOKUP(I348,tableau21[],2,FALSE))","v":""},{"$f":"IF(ISBLANK(J348),\"\",VLOOKUP(J348,tableau22[],2,FALSE))","v":""},"",""]
[null,null,null,null,null,null,null,null,null,null,null,null,null,null,null,null,null,{"$f":"IF(ISBLANK(K349),\"\",VLOOKUP(K349,Tableau8[],2,FALSE))","v":""},"","",{"$f":"IF(ISBLANK(I349),\"\",VLOOKUP(I349,tableau21[],2,FALSE))","v":""},{"$f":"IF(ISBLANK(J349),\"\",VLOOKUP(J349,tableau22[],2,FALSE))","v":""},"",""]
[null,null,null,null,null,null,null,null,null,null,null,null,null,null,null,null,null,{"$f":"IF(ISBLANK(K350),\"\",VLOOKUP(K350,Tableau8[],2,FALSE))","v":""},"","",{"$f":"IF(ISBLANK(I350),\"\",VLOOKUP(I350,tableau21[],2,FALSE))","v":""},{"$f":"IF(ISBLANK(J350),\"\",VLOOKUP(J350,tableau22[],2,FALSE))","v":""},"",""]
[null,null,null,null,null,null,null,null,null,null,null,null,null,null,null,null,null,{"$f":"IF(ISBLANK(K351),\"\",VLOOKUP(K351,Tableau8[],2,FALSE))","v":""},"","",{"$f":"IF(ISBLANK(I351),\"\",VLOOKUP(I351,tableau21[],2,FALSE))","v":""},{"$f":"IF(ISBLANK(J351),\"\",VLOOKUP(J351,tableau22[],2,FALSE))","v":""},"",""]
[null,null,null,null,null,null,null,null,null,null,null,null,null,null,null,null,null,{"$f":"IF(ISBLANK(K352),\"\",VLOOKUP(K352,Tableau8[],2,FALSE))","v":""},"","",{"$f":"IF(ISBLANK(I352),\"\",VLOOKUP(I352,tableau21[],2,FALSE))","v":""},{"$f":"IF(ISBLANK(J352),\"\",VLOOKUP(J352,tableau22[],2,FALSE))","v":""},"",""]
[null,null,null,null,null,null,null,null,null,null,null,null,null,null,null,null,null,{"$f":"IF(ISBLANK(K353),\"\",VLOOKUP(K353,Tableau8[],2,FALSE))","v":""},"",{"$f":"IF(ISBLANK(G353),\"\",\"CA5\")","v":""},{"$f":"IF(ISBLANK(I353),\"\",VLOOKUP(I353,tableau21[],2,FALSE))","v":""},{"$f":"IF(ISBLANK(J353),\"\",VLOOKUP(J353,tableau22[],2,FALSE))","v":""},"",""]
[null,null,null,null,null,null,null,null,null,null,null,null,null,null,null,null,null,{"$f":"IF(ISBLANK(K354),\"\",VLOOKUP(K354,Tableau8[],2,FALSE))","v":""},"",{"$f":"IF(ISBLANK(G354),\"\",\"CA5\")","v":""},{"$f":"IF(ISBLANK(I354),\"\",VLOOKUP(I354,tableau21[],2,FALSE))","v":""},{"$f":"IF(ISBLANK(J354),\"\",VLOOKUP(J354,tableau22[],2,FALSE))","v":""},"",""]
[null,null,null,null,null,null,null,null,null,null,null,null,null,null,null,null,null,{"$f":"IF(ISBLANK(K355),\"\",VLOOKUP(K355,Tableau8[],2,FALSE))","v":""},"",{"$f":"IF(ISBLANK(G355),\"\",\"CA5\")","v":""},{"$f":"IF(ISBLANK(I355),\"\",VLOOKUP(I355,tableau21[],2,FALSE))","v":""},{"$f":"IF(ISBLANK(J355),\"\",VLOOKUP(J355,tableau22[],2,FALSE))","v":""},"",""]

{"sheet":"LIVRET Compétences","index":2,"n_rows":7,"n_cols":20,"rows_kept":7,"cut":false,"hidden":false,"merged":[]}
[]
[]
[]
[]
[null,"N°","Objectif Généraux","Invariants","Champs d'app.","AFL","Eléments Prioritaire","Niveau","APSA","Traduction dans l'APSA","Degré 1","Degré 2","Degré 3","Degré 4","listeAPSA","listeAFL","listeEP","liste invariants","intitulé CA","num afl"]
[null,"Ne jamais supprimer cette ligne, elle contient les formules essentielles à la base de données. Vous pouvez la masquer (selectionner toute la ligne 6 puis clic droit \"masquer\").",null,null,null,null,null,null,null,null,null,null,null,null,{"$f":"IF(livret[[#This Row],[Champs d''app.]]=\"CA1\",\"ca1apsa\",IF(livret[[#This Row],[Champs d''app.]]=\"CA2\",\"ca2apsa\",IF(livret[[#This Row],[Champs d''app.]]=\"CA3\",\"ca3apsa\",IF(livret[[#This Row],[Champs d''app.]]=\"CA4\",\"ca4apsa\",IF(livret[[#This Row],[Champs d''app.]]=\"CA5\",\"ca5apsa\",\"\")))))","v":""},{"$f":"IF(livret[[#This Row],[Champs d''app.]]=\"CA1\",\"ca1afl\",IF(livret[[#This Row],[Champs d''app.]]=\"CA2\",\"ca2afl\",IF(livret[[#This Row],[Champs d''app.]]=\"CA3\",\"ca3afl\",IF(livret[[#This Row],[Champs d''app.]]=\"CA4\",\"ca4afl\",IF(livret[[#This Row],[Champs d''app.]]=\"CA5\",\"ca5afl\",\"\")))))","v":""},{"$f":"IF(livret[[#This Row],[Champs d''app.]]=\"CA1\",\"ca1ep\",IF(livret[[#This Row],[Champs d''app.]]=\"CA2\",\"ca2ep\",IF(livret[[#This Row],[Champs d''app.]]=\"CA3\",\"ca3ep\",IF(livret[[#This Row],[Champs d''app.]]=\"CA4\",\"ca4ep\",IF(livret[[#This Row],[Champs d''app.]]=\"CA5\",\"ca5ep\",\"\")))))","v":""},{"$f":"IF(ISBLANK(livret[[#This Row],[Objectif Généraux]]),\"\",INDEX(Tableau8[numog],MATCH(livret[[#This Row],[Objectif Généraux]],Tableau8[OG],0)))","v":""},{"$f":"IF(ISBLANK(livret[[#This Row],[Champs d''app.]]),\"\",VLOOKUP(livret[[#This Row],[Champs d''app.]],tableauchamps[],2,FALSE))","v":""},{"$f":"IF(ISBLANK(livret[[#This Row],[AFL]]),\"\",LEFT(livret[[#This Row],[AFL]],FIND(\" \",livret[[#This Row],[AFL]])))","v":""}]
[null,null,null,null,null,null,null,null,null,null,null,null,null,null,{"$f":"IF(livret[[#This Row],[Champs d''app.]]=\"CA1\",\"ca1apsa\",IF(livret[[#This Row],[Champs d''app.]]=\"CA2\",\"ca2apsa\",IF(livret[[#This Row],[Champs d''app.]]=\"CA3\",\"ca3apsa\",IF(livret[[#This Row],[Champs d''app.]]=\"CA4\",\"ca4apsa\",IF(livret[[#This Row],[Champs d''app.]]=\"CA5\",\"ca5apsa\",\"\")))))","v":""},{"$f":"IF(livret[[#This Row],[Champs d''app.]]=\"CA1\",\"ca1afl\",IF(livret[[#This Row],[Champs d''app.]]=\"CA2\",\"ca2afl\",IF(livret[[#This Row],[Champs d''app.]]=\"CA3\",\"ca3afl\",IF(livret[[#This Row],[Champs d''app.]]=\"CA4\",\"ca4afl\",IF(livret[[#This Row],[Champs d''app.]]=\"CA5\",\"ca5afl\",\"\")))))","v":""},{"$f":"IF(livret[[#This Row],[Champs d''app.]]=\"CA1\",\"ca1ep\",IF(livret[[#This Row],[Champs d''app.]]=\"CA2\",\"ca2ep\",IF(livret[[#This Row],[Champs d''app.]]=\"CA3\",\"ca3ep\",IF(livret[[#This Row],[Champs d''app.]]=\"CA4\",\"ca4ep\",IF(livret[[#This Row],[Champs d''app.]]=\"CA5\",\"ca5ep\",\"\")))))","v":""},{"$f":"IF(ISBLANK(livret[[#This Row],[Objectif Généraux]]),\"\",INDEX(Tableau8[numog],MATCH(livret[[#This Row],[Objectif Généraux]],Tableau8[OG],0)))","v":""},{"$f":"IF(ISBLANK(livret[[#This Row],[Champs d''app.]]),\"\",VLOOKUP(livret[[#This Row],[Champs d''app.]],tableauchamps[],2,FALSE))","v":""},{"$f":"IF(ISBLANK(livret[[#This Row],[AFL]]),\"\",LEFT(livret[[#This Row],[AFL]],FIND(\" \",livret[[#This Row],[AFL]])))","v":""}]

{"sheet":"Synthèse Graphique","index":3,"n_rows":396,"n_cols":58,"rows_kept":396,"cut":false,"hidden":false,"merged":[[99,8,99,11],[100,8,100,11],[91,8,91,11],[46,8,46,11],[47,8,47,11],[48,8,48,11],[49,8,49,11],[50,8,50,11],[51,8,51,11],[52,8,52,11],[53,8,53,11],[54,8,54,11],[57,8,57,11],[58,8,58,11],[59,8,59,11],[60,8,60,11],[77,8,77,11],[80,8,80,11],[79,8,79,11],[81,8,81,11],[82,8,82,11],[83,8,83,11],[84,8,84,11],[85,8,85,11],[86,8,86,11],[87,8,87,11],[97,8,97,11],[98,8,98,11],[88,8,88,11],[89,8,89,11],[92,8,92,11],[93,8,93,11],[94,8,94,11],[95,8,95,11],[96,8,96,11],[73,8,73,11],[74,8,74,11],[75,8,75,11],[76,8,76,11],[66,8,66,11],[69,8,69,11],[70,8,70,11],[68,8,68,11],[71,8,71,11],[72,8,72,11],[63,8,63,11],[64,8,64,11],[65,8,65,11],[56,8,56,11],[11,11,12,11],[33,10,34,10],[35,10,36,10],[37,10,38,10],[37,11,38,11],[35,11,36,11],[33,11,34,11],[61,8,61,11],[62,8,62,11],[8,41,9,45],[29,10,30,10],[31,10,32,10],[31,11,32,11],[29,11,30,11],[11,10,12,10],[13,10,14,10],[15,10,16,10],[17,10,18,10],[19,10,20,10],[19,11,20,11],[17,11,18,11],[15,11,16,11],[13,11,14,11],[1,41,1,45],[1,14,1,17],[1,18,1,21],[1,22,1,25],[1,35,1,38],[1,31,1,34],[1,27,1,30],[1,48,1,55],[8,48,8,57],[22,48,22,57],[29,48,29,56],[15,48,15,56]]}
[]
[null,null,null,null,null,null,null,null,null,null,null,null,null,null,"2nde",null,null,null,"1ère",null,null,null,"Term",null,null,null,null,"2nde",null,null,null,"1ère",null,null,null,"Term",null,null,null,null,null,"Répartition Nb APSA par Champs",null,null,null,null,null,null,"Nb sollicitations des EP  CA1"]
[null,null,null,null,null,null,null,null,null,null,null,null,null,null,{"$f":"IF('LIVRET Compétences'!H5=$O$2,'LIVRET Compétences'!I5,\"\")","v":""},{"$f":"IF('LIVRET Compétences'!H5=$O$2,'LIVRET Compétences'!E5,\"\")","v":""},{"$f":"IF('LIVRET Compétences'!H5=$O$2,'LIVRET Compétences'!G5,\"\")","v":""},{"$f":"IF('LIVRET Compétences'!H5=$O$2,'LIVRET Compétences'!C5,\"\")","v":""},{"$f":"IF('LIVRET Compétences'!H5=$S$2,'LIVRET Compétences'!I5,\"\")","v":""},{"$f":"IF('LIVRET Compétences'!H5=$S$2,'LIVRET Compétences'!E5,\"\")","v":""},{"$f":"IF('LIVRET Compétences'!H5=$S$2,'LIVRET Compétences'!G5,\"\")","v":""},{"$f":"IF('LIVRET Compétences'!H5=$S$2,'LIVRET Compétences'!C5,\"\")","v":""},{"$f":"IF('LIVRET Compétences'!H5=$W$2,'LIVRET Compétences'!I5,\"\")","v":""},{"$f":"IF('LIVRET Compétences'!H5=$W$2,'LIVRET Compétences'!E5,\"\")","v":""},{"$f":"IF('LIVRET Compétences'!H5=$W$2,'LIVRET Compétences'!G5,\"\")","v":""},{"$f":"IF('LIVRET Compétences'!H5=$W$2,'LIVRET Compétences'!C5,\"\")","v":""},null,"","","","","","","","","","","","",null,null,"CA1","CA2","CA3","CA4","CA5",null,null,"EP1","EP2","EP3","EP4","EP5","EP6","EP7","EP8"]
[null,null,null,null,null,null,null,null,null,null,null,null,null,null,{"$f":"IF('LIVRET Compétences'!H6=$O$2,'LIVRET Compétences'!I6,\"\")","v":""},{"$f":"IF('LIVRET Compétences'!H6=$O$2,'LIVRET Compétences'!E6,\"\")","v":""},{"$f":"IF('LIVRET Compétences'!H6=$O$2,'LIVRET Compétences'!G6,\"\")","v":""},{"$f":"IF('LIVRET Compétences'!H6=$O$2,'LIVRET Compétences'!C6,\"\")","v":""},{"$f":"IF('LIVRET Compétences'!H6=$S$2,'LIVRET Compétences'!I6,\"\")","v":""},{"$f":"IF('LIVRET Compétences'!H6=$S$2,'LIVRET Compétences'!E6,\"\")","v":""},{"$f":"IF('LIVRET Compétences'!H6=$S$2,'LIVRET Compétences'!G6,\"\")","v":""},{"$f":"IF('LIVRET Compétences'!H6=$S$2,'LIVRET Compétences'!C6,\"\")","v":""},{"$f":"IF('LIVRET Compétences'!H6=$W$2,'LIVRET Compétences'!I6,\"\")","v":""},{"$f":"IF('LIVRET Compétences'!H6=$W$2,'LIVRET Compétences'!E6,\"\")","v":""},{"$f":"IF('LIVRET Compétences'!H6=$W$2,'LIVRET Compétences'!G6,\"\")","v":""},{"$f":"IF('LIVRET Compétences'!H6=$W$2,'LIVRET Compétences'!C6,\"\")","v":""},null,"","","","","","","","","","","","",null,"2nde",{"$f":"COUNTIF($AC$3:$AC$396,AP3)","v":0},{"$f":"COUNTIF($AC$3:$AC$396,AQ3)","v":0},{"$f":"COUNTIF($AC$3:$AC$396,AR3)","v":0},{"$f":"COUNTIF($AC$3:$AC$396,AS3)","v":0},{"$f":"COUNTIF($AC$3:$AC$396,AT3)","v":0},null,"2nde",{"$f":"COUNTIFS($P$3:$P$396,\"CA1\",$Q$3:$Q$396,Listes!F7)","v":0},{"$f":"COUNTIFS($P$3:$P$396,\"CA1\",$Q$3:$Q$396,Listes!F8)","v":0},{"$f":"COUNTIFS($P$3:$P$396,\"CA1\",$Q$3:$Q$396,Listes!F9)","v":0},{"$f":"COUNTIFS($P$3:$P$396,\"CA1\",$Q$3:$Q$396,Listes!F10)","v":0},{"$f":"COUNTIFS($P$3:$P$396,\"CA1\",$Q$3:$Q$396,Listes!F11)","v":0},{"$f":"COUNTIFS($P$3:$P$396,\"CA1\",$Q$3:$Q$396,Listes!F12)","v":0},{"$f":"COUNTIFS($P$3:$P$396,\"CA1\",$Q$3:$Q$396,Listes!F13)","v":0},{"$f":"COUNTIFS($P$3:$P$396,\"CA1\",$Q$3:$Q$396,Listes!F14)","v":0}]
[null,null,null,null,null,null,null,null,null,null,null,null,null,null,{"$f":"IF('LIVRET Compétences'!H7=$O$2,'LIVRET Compétences'!I7,\"\")","v":""},{"$f":"IF('LIVRET Compétences'!H7=$O$2,'LIVRET Compétences'!E7,\"\")","v":""},{"$f":"IF('LIVRET Compétences'!H7=$O$2,'LIVRET Compétences'!G7,\"\")","v":""},{"$f":"IF('LIVRET Compétences'!H7=$O$2,'LIVRET Compétences'!C7,\"\")","v":""},{"$f":"IF('LIVRET Compétences'!H7=$S$2,'LIVRET Compétences'!I7,\"\")","v":""},{"$f":"IF('LIVRET Compétences'!H7=$S$2,'LIVRET Compétences'!E7,\"\")","v":""},{"$f":"IF('LIVRET Compétences'!H7=$S$2,'LIVRET Compétences'!G7,\"\")","v":""},{"$f":"IF('LIVRET Compétences'!H7=$S$2,'LIVRET Compétences'!C7,\"\")","v":""},{"$f":"IF('LIVRET Compétences'!H7=$W$2,'LIVRET Compétences'!I7,\"\")","v":""},{"$f":"IF('LIVRET Compétences'!H7=$W$2,'LIVRET Compétences'!E7,\"\")","v":""},{"$f":"IF('LIVRET Compétences'!H7=$W$2,'LIVRET Compétences'!G7,\"\")","v":""},{"$f":"IF('LIVRET Compétences'!H7=$W$2,'LIVRET Compétences'!C7,\"\")","v":""},null,null,null,null,null,null,null,null,null,null,null,null,null,null,"1ère",{"$f":"COUNTIF($AG$3:$AG$396,AP3)","v":0},{"$f":"COUNTIF($AG$3:$AG$396,AQ3)","v":0},{"$f":"COUNTIF($AG$3:$AG$396,AR3)","v":0},{"$f":"COUNTIF($AG$3:$AG$396,AS3)","v":0},{"$f":"COUNTIF($AG$3:$AG$396,AT3)","v":0},null,"1ère",{"$f":"COUNTIFS($T$3:$T$396,\"CA1\",$U$3:$U$396,Listes!F7)","v":0},{"$f":"COUNTIFS($T$3:$T$396,\"CA1\",$U$3:$U$396,Listes!F8)","v":0},{"$f":"COUNTIFS($T$3:$T$396,\"CA1\",$U$3:$U$396,Listes!F9)","v":0},{"$f":"COUNTIFS($T$3:$T$396,\"CA1\",$U$3:$U$396,Listes!F10)","v":0},{"$f":"COUNTIFS($T$3:$T$396,\"CA1\",$U$3:$U$396,Listes!F11)","v":0},{"$f":"COUNTIFS($T$3:$T$396,\"CA1\",$U$3:$U$396,Listes!F12)","v":0},{"$f":"COUNTIFS($T$3:$T$396,\"CA1\",$U$3:$U$396,Listes!F13)","v":0},{"$f":"COUNTIFS($T$3:$T$396,\"CA1\",$U$3:$U$396,Listes!F14)","v":0}]
[null,null,null,null,null,null,null,null,null,null,null,null,null,null,{"$f":"IF('LIVRET Compétences'!#REF!=$O$2,'LIVRET Compétences'!#REF!,\"\")","v":{"$error":"#REF!"}},{"$f":"IF('LIVRET Compétences'!#REF!=$O$2,'LIVRET Compétences'!#REF!,\"\")","v":{"$error":"#REF!"}},{"$f":"IF('LIVRET Compétences'!#REF!=$O$2,'LIVRET Compétences'!#REF!,\"\")","v":{"$error":"#REF!"}},{"$f":"IF('LIVRET Compétences'!#REF!=$O$2,'LIVRET Compétences'!#REF!,\"\")","v":{"$error":"#REF!"}},{"$f":"IF('LIVRET Compétences'!#REF!=$S$2,'LIVRET Compétences'!#REF!,\"\")","v":{"$error":"#REF!"}},{"$f":"IF('LIVRET Compétences'!#REF!=$S$2,'LIVRET Compétences'!#REF!,\"\")","v":{"$error":"#REF!"}},{"$f":"IF('LIVRET Compétences'!#REF!=$S$2,'LIVRET Compétences'!#REF!,\"\")","v":{"$error":"#REF!"}},{"$f":"IF('LIVRET Compétences'!#REF!=$S$2,'LIVRET Compétences'!#REF!,\"\")","v":{"$error":"#REF!"}},{"$f":"IF('LIVRET Compétences'!#REF!=$W$2,'LIVRET Compétences'!#REF!,\"\")","v":{"$error":"#REF!"}},{"$f":"IF('LIVRET Compétences'!#REF!=$W$2,'LIVRET Compétences'!#REF!,\"\")","v":{"$error":"#REF!"}},{"$f":"IF('LIVRET Compétences'!#REF!=$W$2,'LIVRET Compétences'!#REF!,\"\")","v":{"$error":"#REF!"}},{"$f":"IF('LIVRET Compétences'!#REF!=$W$2,'LIVRET Compétences'!#REF!,\"\")","v":{"$error":"#REF!"}},null,null,null,null,null,null,null,null,null,null,null,null,null,null,"Term",{"$f":"COUNTIF($AK$3:$AK$396,AP3)","v":0},{"$f":"COUNTIF($AK$3:$AK$396,AQ3)","v":0},{"$f":"COUNTIF($AK$3:$AK$396,AR3)","v":0},{"$f":"COUNTIF($AK$3:$AK$396,AS3)","v":0},{"$f":"COUNTIF($AK$3:$AK$396,AT3)","v":0},null,"Term",{"$f":"COUNTIFS($X$3:$X$396,\"CA1\",$Y$3:$Y$396,Listes!F7)","v":0},{"$f":"COUNTIFS($X$3:$X$396,\"CA1\",$Y$3:$Y$396,Listes!F8)","v":0},{"$f":"COUNTIFS($X$3:$X$396,\"CA1\",$Y$3:$Y$396,Listes!F9)","v":0},{"$f":"COUNTIFS($X$3:$X$396,\"CA1\",$Y$3:$Y$396,Listes!F10)","v":0},{"$f":"COUNTIFS($X$3:$X$396,\"CA1\",$Y$3:$Y$396,Listes!F11)","v":0},{"$f":"COUNTIFS($X$3:$X$396,\"CA1\",$Y$3:$Y$396,Listes!F12)","v":0},{"$f":"COUNTIFS($X$3:$X$396,\"CA1\",$Y$3:$Y$396,Listes!F13)","v":0},{"$f":"COUNTIFS($X$3:$X$396,\"CA1\",$Y$3:$Y$396,Listes!F14)","v":0}]
[null,null,null,null,null,null,null,null,null,null,null,null,null,null,{"$f":"IF('LIVRET Compétences'!#REF!=$O$2,'LIVRET Compétences'!#REF!,\"\")","v":{"$error":"#REF!"}},{"$f":"IF('LIVRET Compétences'!#REF!=$O$2,'LIVRET Compétences'!#REF!,\"\")","v":{"$error":"#REF!"}},{"$f":"IF('LIVRET Compétences'!#REF!=$O$2,'LIVRET Compétences'!#REF!,\"\")","v":{"$error":"#REF!"}},{"$f":"IF('LIVRET Compétences'!#REF!=$O$2,'LIVRET Compétences'!#REF!,\"\")","v":{"$error":"#REF!"}},{"$f":"IF('LIVRET Compétences'!#REF!=$S$2,'LIVRET Compétences'!#REF!,\"\")","v":{"$error":"#REF!"}},{"$f":"IF('LIVRET Compétences'!#REF!=$S$2,'LIVRET Compétences'!#REF!,\"\")","v":{"$error":"#REF!"}},{"$f":"IF('LIVRET Compétences'!#REF!=$S$2,'LIVRET Compétences'!#REF!,\"\")","v":{"$error":"#REF!"}},{"$f":"IF('LIVRET Compétences'!#REF!=$S$2,'LIVRET Compétences'!#REF!,\"\")","v":{"$error":"#REF!"}},{"$f":"IF('LIVRET Compétences'!#REF!=$W$2,'LIVRET Compétences'!#REF!,\"\")","v":{"$error":"#REF!"}},{"$f":"IF('LIVRET Compétences'!#REF!=$W$2,'LIVRET Compétences'!#REF!,\"\")","v":{"$error":"#REF!"}},{"$f":"IF('LIVRET Compétences'!#REF!=$W$2,'LIVRET Compétences'!#REF!,\"\")","v":{"$error":"#REF!"}},{"$f":"IF('LIVRET Compétences'!#REF!=$W$2,'LIVRET Compétences'!#REF!,\"\")","v":{"$error":"#REF!"}},null,null,null,null,null,null,null,null,null,null,null,null,null,null,"Lycée",{"$f":"SUM(AP4:AP6)","v":0},{"$f":"SUM(AQ4:AQ6)","v":0},{"$f":"SUM(AR4:AR6)","v":0},{"$f":"SUM(AS4:AS6)","v":0},{"$f":"SUM(AT4:AT6)","v":0},null,"Lycée",{"$f":"SUM(AW4:AW6)","v":0},{"$f":"SUM(AX4:AX6)","v":0},0,0,0,0,0,0]
[null,null,null,null,null,null,null,null,null,null,null,null,null,null,{"$f":"IF('LIVRET Compétences'!#REF!=$O$2,'LIVRET Compétences'!#REF!,\"\")","v":{"$error":"#REF!"}},{"$f":"IF('LIVRET Compétences'!#REF!=$O$2,'LIVRET Compétences'!#REF!,\"\")","v":{"$error":"#REF!"}},{"$f":"IF('LIVRET Compétences'!#REF!=$O$2,'LIVRET Compétences'!#REF!,\"\")","v":{"$error":"#REF!"}},{"$f":"IF('LIVRET Compétences'!#REF!=$O$2,'LIVRET Compétences'!#REF!,\"\")","v":{"$error":"#REF!"}},{"$f":"IF('LIVRET Compétences'!#REF!=$S$2,'LIVRET Compétences'!#REF!,\"\")","v":{"$error":"#REF!"}},{"$f":"IF('LIVRET Compétences'!#REF!=$S$2,'LIVRET Compétences'!#REF!,\"\")","v":{"$error":"#REF!"}},{"$f":"IF('LIVRET Compétences'!#REF!=$S$2,'LIVRET Compétences'!#REF!,\"\")","v":{"$error":"#REF!"}},{"$f":"IF('LIVRET Compétences'!#REF!=$S$2,'LIVRET Compétences'!#REF!,\"\")","v":{"$error":"#REF!"}},{"$f":"IF('LIVRET Compétences'!#REF!=$W$2,'LIVRET Compétences'!#REF!,\"\")","v":{"$error":"#REF!"}},{"$f":"IF('LIVRET Compétences'!#REF!=$W$2,'LIVRET Compétences'!#REF!,\"\")","v":{"$error":"#REF!"}},{"$f":"IF('LIVRET Compétences'!#REF!=$W$2,'LIVRET Compétences'!#REF!,\"\")","v":{"$error":"#REF!"}},{"$f":"IF('LIVRET Compétences'!#REF!=$W$2,'LIVRET Compétences'!#REF!,\"\")","v":{"$error":"#REF!"}}]
[null,null,null,null,null,null,null,null,null,null,null,null,null,null,{"$f":"IF('LIVRET Compétences'!#REF!=$O$2,'LIVRET Compétences'!#REF!,\"\")","v":{"$error":"#REF!"}},{"$f":"IF('LIVRET Compétences'!#REF!=$O$2,'LIVRET Compétences'!#REF!,\"\")","v":{"$error":"#REF!"}},{"$f":"IF('LIVRET Compétences'!#REF!=$O$2,'LIVRET Compétences'!#REF!,\"\")","v":{"$error":"#REF!"}},{"$f":"IF('LIVRET Compétences'!#REF!=$O$2,'LIVRET Compétences'!#REF!,\"\")","v":{"$error":"#REF!"}},{"$f":"IF('LIVRET Compétences'!#REF!=$S$2,'LIVRET Compétences'!#REF!,\"\")","v":{"$error":"#REF!"}},{"$f":"IF('LIVRET Compétences'!#REF!=$S$2,'LIVRET Compétences'!#REF!,\"\")","v":{"$error":"#REF!"}},{"$f":"IF('LIVRET Compétences'!#REF!=$S$2,'LIVRET Compétences'!#REF!,\"\")","v":{"$error":"#REF!"}},{"$f":"IF('LIVRET Compétences'!#REF!=$S$2,'LIVRET Compétences'!#REF!,\"\")","v":{"$error":"#REF!"}},{"$f":"IF('LIVRET Compétences'!#REF!=$W$2,'LIVRET Compétences'!#REF!,\"\")","v":{"$error":"#REF!"}},{"$f":"IF('LIVRET Compétences'!#REF!=$W$2,'LIVRET Compétences'!#REF!,\"\")","v":{"$error":"#REF!"}},{"$f":"IF('LIVRET Compétences'!#REF!=$W$2,'LIVRET Compétences'!#REF!,\"\")","v":{"$error":"#REF!"}},{"$f":"IF('LIVRET Compétences'!#REF!=$W$2,'LIVRET Compétences'!#REF!,\"\")","v":{"$error":"#REF!"}},null,null,null,null,null,null,null,null,null,null,null,null,null,null,null,"Sollicitation des Obj Généraux de l'EPS",null,null,null,null,null,null,"Nb sollicitations des EP  CA2"]
[null,null,null,null,null,null,null,null,null,null,null,null,null,null,{"$f":"IF('LIVRET Compétences'!#REF!=$O$2,'LIVRET Compétences'!#REF!,\"\")","v":{"$error":"#REF!"}},{"$f":"IF('LIVRET Compétences'!#REF!=$O$2,'LIVRET Compétences'!#REF!,\"\")","v":{"$error":"#REF!"}},{"$f":"IF('LIVRET Compétences'!#REF!=$O$2,'LIVRET Compétences'!#REF!,\"\")","v":{"$error":"#REF!"}},{"$f":"IF('LIVRET Compétences'!#REF!=$O$2,'LIVRET Compétences'!#REF!,\"\")","v":{"$error":"#REF!"}},{"$f":"IF('LIVRET Compétences'!#REF!=$S$2,'LIVRET Compétences'!#REF!,\"\")","v":{"$error":"#REF!"}},{"$f":"IF('LIVRET Compétences'!#REF!=$S$2,'LIVRET Compétences'!#REF!,\"\")","v":{"$error":"#REF!"}},{"$f":"IF('LIVRET Compétences'!#REF!=$S$2,'LIVRET Compétences'!#REF!,\"\")","v":{"$error":"#REF!"}},{"$f":"IF('LIVRET Compétences'!#REF!=$S$2,'LIVRET Compétences'!#REF!,\"\")","v":{"$error":"#REF!"}},{"$f":"IF('LIVRET Compétences'!#REF!=$W$2,'LIVRET Compétences'!#REF!,\"\")","v":{"$error":"#REF!"}},{"$f":"IF('LIVRET Compétences'!#REF!=$W$2,'LIVRET Compétences'!#REF!,\"\")","v":{"$error":"#REF!"}},{"$f":"IF('LIVRET Compétences'!#REF!=$W$2,'LIVRET Compétences'!#REF!,\"\")","v":{"$error":"#REF!"}},{"$f":"IF('LIVRET Compétences'!#REF!=$W$2,'LIVRET Compétences'!#REF!,\"\")","v":{"$error":"#REF!"}},null,null,null,null,null,null,null,null,null,null,null,null,null,null,null,null,null,null,null,null,null,null,"EP1","EP2","EP3","EP4","EP5","EP6","EP7","EP8","EP9","EP10"]
[null,null,null,null,null,null,null,null,null,null,null,"CHAMPS D'APPRENTISSAGE",null,null,{"$f":"IF('LIVRET Compétences'!#REF!=$O$2,'LIVRET Compétences'!#REF!,\"\")","v":{"$error":"#REF!"}},{"$f":"IF('LIVRET Compétences'!#REF!=$O$2,'LIVRET Compétences'!#REF!,\"\")","v":{"$error":"#REF!"}},{"$f":"IF('LIVRET Compétences'!#REF!=$O$2,'LIVRET Compétences'!#REF!,\"\")","v":{"$error":"#REF!"}},{"$f":"IF('LIVRET Compétences'!#REF!=$O$2,'LIVRET Compétences'!#REF!,\"\")","v":{"$error":"#REF!"}},{"$f":"IF('LIVRET Compétences'!#REF!=$S$2,'LIVRET Compétences'!#REF!,\"\")","v":{"$error":"#REF!"}},{"$f":"IF('LIVRET Compétences'!#REF!=$S$2,'LIVRET Compétences'!#REF!,\"\")","v":{"$error":"#REF!"}},{"$f":"IF('LIVRET Compétences'!#REF!=$S$2,'LIVRET Compétences'!#REF!,\"\")","v":{"$error":"#REF!"}},{"$f":"IF('LIVRET Compétences'!#REF!=$S$2,'LIVRET Compétences'!#REF!,\"\")","v":{"$error":"#REF!"}},{"$f":"IF('LIVRET Compétences'!#REF!=$W$2,'LIVRET Compétences'!#REF!,\"\")","v":{"$error":"#REF!"}},{"$f":"IF('LIVRET Compétences'!#REF!=$W$2,'LIVRET Compétences'!#REF!,\"\")","v":{"$error":"#REF!"}},{"$f":"IF('LIVRET Compétences'!#REF!=$W$2,'LIVRET Compétences'!#REF!,\"\")","v":{"$error":"#REF!"}},{"$f":"IF('LIVRET Compétences'!#REF!=$W$2,'LIVRET Compétences'!#REF!,\"\")","v":{"$error":"#REF!"}},null,null,null,null,null,null,null,null,null,null,null,null,null,null,null,"Obj.1","Obj.2","Obj.3","Obj.4","Obj.5",null,"2nde",{"$f":"COUNTIFS($P$3:$P$396,\"CA2\",$Q$3:$Q$396,Listes!M7)","v":0},{"$f":"COUNTIFS($P$3:$P$396,\"CA2\",$Q$3:$Q$396,Listes!M8)","v":0},{"$f":"COUNTIFS($P$3:$P$396,\"CA2\",$Q$3:$Q$396,Listes!M9)","v":0},{"$f":"COUNTIFS($P$3:$P$396,\"CA2\",$Q$3:$Q$396,Listes!M10)","v":0},{"$f":"COUNTIFS($P$3:$P$396,\"CA2\",$Q$3:$Q$396,Listes!M11)","v":0},{"$f":"COUNTIFS($P$3:$P$396,\"CA2\",$Q$3:$Q$396,Listes!M12)","v":0},{"$f":"COUNTIFS($P$3:$P$396,\"CA2\",$Q$3:$Q$396,Listes!M13)","v":0},{"$f":"COUNTIFS($P$3:$P$396,\"CA2\",$Q$3:$Q$396,Listes!M14)","v":0},{"$f":"COUNTIFS($P$3:$P$396,\"CA2\",$Q$3:$Q$396,Listes!M15)","v":0},{"$f":"COUNTIFS($P$3:$P$396,\"CA2\",$Q$3:$Q$396,Listes!M16)","v":0}]
[null,null,null,null,null,null,null,null,null,null,"CA 1",{"$f":"Listes!AO3","v":"Réaliser une performance motrice maximale mesurable a une échéance donnée"},null,null,{"$f":"IF('LIVRET Compétences'!H8=$O$2,'LIVRET Compétences'!I8,\"\")","v":""},{"$f":"IF('LIVRET Compétences'!H8=$O$2,'LIVRET Compétences'!E8,\"\")","v":""},{"$f":"IF('LIVRET Compétences'!H8=$O$2,'LIVRET Compétences'!G8,\"\")","v":""},{"$f":"IF('LIVRET Compétences'!H8=$O$2,'LIVRET Compétences'!C8,\"\")","v":""},{"$f":"IF('LIVRET Compétences'!H8=$S$2,'LIVRET Compétences'!I8,\"\")","v":""},{"$f":"IF('LIVRET Compétences'!H8=$S$2,'LIVRET Compétences'!E8,\"\")","v":""},{"$f":"IF('LIVRET Compétences'!H8=$S$2,'LIVRET Compétences'!G8,\"\")","v":""},{"$f":"IF('LIVRET Compétences'!H8=$S$2,'LIVRET Compétences'!C8,\"\")","v":""},{"$f":"IF('LIVRET Compétences'!H8=$W$2,'LIVRET Compétences'!I8,\"\")","v":""},{"$f":"IF('LIVRET Compétences'!H8=$W$2,'LIVRET Compétences'!E8,\"\")","v":""},{"$f":"IF('LIVRET Compétences'!H8=$W$2,'LIVRET Compétences'!G8,\"\")","v":""},{"$f":"IF('LIVRET Compétences'!H8=$W$2,'LIVRET Compétences'!C8,\"\")","v":""},null,null,null,null,null,null,null,null,null,null,null,null,null,null,"2nde",{"$f":"COUNTIF($R$3:$R$396,Listes!AR7)","v":0},{"$f":"COUNTIF($R$3:$R$396,Listes!AR8)","v":0},{"$f":"COUNTIF($R$3:$R$396,Listes!AR9)","v":0},{"$f":"COUNTIF($R$3:$R$396,Listes!AR10)","v":0},{"$f":"COUNTIF($R$3:$R$396,Listes!AR11)","v":0},null,"1ère",{"$f":"COUNTIFS($T$3:$T$396,\"CA2\",$U$3:$U$396,Listes!M7)","v":0},{"$f":"COUNTIFS($T$3:$T$396,\"CA2\",$U$3:$U$396,Listes!M8)","v":0},{"$f":"COUNTIFS($T$3:$T$396,\"CA2\",$U$3:$U$396,Listes!M9)","v":0},{"$f":"COUNTIFS($T$3:$T$396,\"CA2\",$U$3:$U$396,Listes!M10)","v":0},{"$f":"COUNTIFS($T$3:$T$396,\"CA2\",$U$3:$U$396,Listes!M11)","v":0},{"$f":"COUNTIFS($T$3:$T$396,\"CA2\",$U$3:$U$396,Listes!M12)","v":0},{"$f":"COUNTIFS($T$3:$T$396,\"CA2\",$U$3:$U$396,Listes!M13)","v":0},{"$f":"COUNTIFS($T$3:$T$396,\"CA2\",$U$3:$U$396,Listes!M14)","v":0},{"$f":"COUNTIFS($T$3:$T$396,\"CA2\",$U$3:$U$396,Listes!M15)","v":0},{"$f":"COUNTIFS($T$3:$T$396,\"CA2\",$U$3:$U$396,Listes!M16)","v":0}]
[null,null,null,null,null,null,null,null,null,null,null,null,null,null,{"$f":"IF('LIVRET Compétences'!H9=$O$2,'LIVRET Compétences'!I9,\"\")","v":""},{"$f":"IF('LIVRET Compétences'!H9=$O$2,'LIVRET Compétences'!E9,\"\")","v":""},{"$f":"IF('LIVRET Compétences'!H9=$O$2,'LIVRET Compétences'!G9,\"\")","v":""},{"$f":"IF('LIVRET Compétences'!H9=$O$2,'LIVRET Compétences'!C9,\"\")","v":""},{"$f":"IF('LIVRET Compétences'!H9=$S$2,'LIVRET Compétences'!I9,\"\")","v":""},{"$f":"IF('LIVRET Compétences'!H9=$S$2,'LIVRET Compétences'!E9,\"\")","v":""},{"$f":"IF('LIVRET Compétences'!H9=$S$2,'LIVRET Compétences'!G9,\"\")","v":""},{"$f":"IF('LIVRET Compétences'!H9=$S$2,'LIVRET Compétences'!C9,\"\")","v":""},{"$f":"IF('LIVRET Compétences'!H9=$W$2,'LIVRET Compétences'!I9,\"\")","v":""},{"$f":"IF('LIVRET Compétences'!H9=$W$2,'LIVRET Compétences'!E9,\"\")","v":""},{"$f":"IF('LIVRET Compétences'!H9=$W$2,'LIVRET Compétences'!G9,\"\")","v":""},{"$f":"IF('LIVRET Compétences'!H9=$W$2,'LIVRET Compétences'!C9,\"\")","v":""},null,null,null,null,null,null,null,null,null,null,null,null,null,null,"1ère",{"$f":"COUNTIF($V$3:$V$396,Listes!AR7)","v":0},{"$f":"COUNTIF($V$3:$V$396,Listes!AR8)","v":0},{"$f":"COUNTIF($V$3:$V$396,Listes!AR9)","v":0},{"$f":"COUNTIF($V$3:$V$396,Listes!AR10)","v":0},{"$f":"COUNTIF($V$3:$V$396,Listes!AR11)","v":0},null,"Term",{"$f":"COUNTIFS($X$3:$X$396,\"CA2\",$Y$3:$Y$396,Listes!M7)","v":0},{"$f":"COUNTIFS($X$3:$X$396,\"CA2\",$Y$3:$Y$396,Listes!M8)","v":0},{"$f":"COUNTIFS($X$3:$X$396,\"CA2\",$Y$3:$Y$396,Listes!M9)","v":0},{"$f":"COUNTIFS($X$3:$X$396,\"CA2\",$Y$3:$Y$396,Listes!M10)","v":0},{"$f":"COUNTIFS($X$3:$X$396,\"CA2\",$Y$3:$Y$396,Listes!M11)","v":0},{"$f":"COUNTIFS($X$3:$X$396,\"CA2\",$Y$3:$Y$396,Listes!M12)","v":0},{"$f":"COUNTIFS($X$3:$X$396,\"CA2\",$Y$3:$Y$396,Listes!M13)","v":0},{"$f":"COUNTIFS($X$3:$X$396,\"CA2\",$Y$3:$Y$396,Listes!M14)","v":0},{"$f":"COUNTIFS($X$3:$X$396,\"CA2\",$Y$3:$Y$396,Listes!M15)","v":0},{"$f":"COUNTIFS($X$3:$X$396,\"CA2\",$Y$3:$Y$396,Listes!M16)","v":0}]
[null,null,null,null,null,null,null,null,null,null,"CA 2",{"$f":"Listes!AO4","v":"Adapter son déplacement à des environnements variés ou incertains"},null,null,{"$f":"IF('LIVRET Compétences'!H10=$O$2,'LIVRET Compétences'!I10,\"\")","v":""},{"$f":"IF('LIVRET Compétences'!H10=$O$2,'LIVRET Compétences'!E10,\"\")","v":""},{"$f":"IF('LIVRET Compétences'!H10=$O$2,'LIVRET Compétences'!G10,\"\")","v":""},{"$f":"IF('LIVRET Compétences'!H10=$O$2,'LIVRET Compétences'!C10,\"\")","v":""},{"$f":"IF('LIVRET Compétences'!H10=$S$2,'LIVRET Compétences'!I10,\"\")","v":""},{"$f":"IF('LIVRET Compétences'!H10=$S$2,'LIVRET Compétences'!E10,\"\")","v":""},{"$f":"IF('LIVRET Compétences'!H10=$S$2,'LIVRET Compétences'!G10,\"\")","v":""},{"$f":"IF('LIVRET Compétences'!H10=$S$2,'LIVRET Compétences'!C10,\"\")","v":""},{"$f":"IF('LIVRET Compétences'!H10=$W$2,'LIVRET Compétences'!I10,\"\")","v":""},{"$f":"IF('LIVRET Compétences'!H10=$W$2,'LIVRET Compétences'!E10,\"\")","v":""},{"$f":"IF('LIVRET Compétences'!H10=$W$2,'LIVRET Compétences'!G10,\"\")","v":""},{"$f":"IF('LIVRET Compétences'!H10=$W$2,'LIVRET Compétences'!C10,\"\")","v":""},null,null,null,null,null,null,null,null,null,null,null,null,null,null,"Term",{"$f":"COUNTIF($Z$3:$Z$396,Listes!$AR7)","v":0},{"$f":"COUNTIF($Z$3:$Z$396,Listes!$AR8)","v":0},{"$f":"COUNTIF($Z$3:$Z$396,Listes!$AR9)","v":0},{"$f":"COUNTIF($Z$3:$Z$396,Listes!$AR10)","v":0},{"$f":"COUNTIF($Z$3:$Z$396,Listes!$AR11)","v":0},null,"Lycée",{"$f":"SUM(AW11:AW13)","v":0},{"$f":"SUM(AX11:AX13)","v":0},0,0,0,0,0,0,0,0]
[null,null,null,null,null,null,null,null,null,null,null,null,null,null,{"$f":"IF('LIVRET Compétences'!H11=$O$2,'LIVRET Compétences'!I11,\"\")","v":""},{"$f":"IF('LIVRET Compétences'!H11=$O$2,'LIVRET Compétences'!E11,\"\")","v":""},{"$f":"IF('LIVRET Compétences'!H11=$O$2,'LIVRET Compétences'!G11,\"\")","v":""},{"$f":"IF('LIVRET Compétences'!H11=$O$2,'LIVRET Compétences'!C11,\"\")","v":""},{"$f":"IF('LIVRET Compétences'!H11=$S$2,'LIVRET Compétences'!I11,\"\")","v":""},{"$f":"IF('LIVRET Compétences'!H11=$S$2,'LIVRET Compétences'!E11,\"\")","v":""},{"$f":"IF('LIVRET Compétences'!H11=$S$2,'LIVRET Compétences'!G11,\"\")","v":""},{"$f":"IF('LIVRET Compétences'!H11=$S$2,'LIVRET Compétences'!C11,\"\")","v":""},{"$f":"IF('LIVRET Compétences'!H11=$W$2,'LIVRET Compétences'!I11,\"\")","v":""},{"$f":"IF('LIVRET Compétences'!H11=$W$2,'LIVRET Compétences'!E11,\"\")","v":""},{"$f":"IF('LIVRET Compétences'!H11=$W$2,'LIVRET Compétences'!G11,\"\")","v":""},{"$f":"IF('LIVRET Compétences'!H11=$W$2,'LIVRET Compétences'!C11,\"\")","v":""},null,null,null,null,null,null,null,null,null,null,null,null,null,null,"Lycée",{"$f":"SUM(AP12:AP14)","v":0},{"$f":"SUM(AQ12:AQ14)","v":0},{"$f":"SUM(AR12:AR14)","v":0},{"$f":"SUM(AS12:AS14)","v":0},{"$f":"SUM(AT12:AT14)","v":0}]
[null,null,null,null,null,null,null,null,null,null,"CA 3",{"$f":"Listes!AO5","v":"Réaliser une prestation corporelle destinée à être vue et appréciée"},null,null,{"$f":"IF('LIVRET Compétences'!H12=$O$2,'LIVRET Compétences'!I12,\"\")","v":""},{"$f":"IF('LIVRET Compétences'!H12=$O$2,'LIVRET Compétences'!E12,\"\")","v":""},{"$f":"IF('LIVRET Compétences'!H12=$O$2,'LIVRET Compétences'!G12,\"\")","v":""},{"$f":"IF('LIVRET Compétences'!H12=$O$2,'LIVRET Compétences'!C12,\"\")","v":""},{"$f":"IF('LIVRET Compétences'!H12=$S$2,'LIVRET Compétences'!I12,\"\")","v":""},{"$f":"IF('LIVRET Compétences'!H12=$S$2,'LIVRET Compétences'!E12,\"\")","v":""},{"$f":"IF('LIVRET Compétences'!H12=$S$2,'LIVRET Compétences'!G12,\"\")","v":""},{"$f":"IF('LIVRET Compétences'!H12=$S$2,'LIVRET Compétences'!C12,\"\")","v":""},{"$f":"IF('LIVRET Compétences'!H12=$W$2,'LIVRET Compétences'!I12,\"\")","v":""},{"$f":"IF('LIVRET Compétences'!H12=$W$2,'LIVRET Compétences'!E12,\"\")","v":""},{"$f":"IF('LIVRET Compétences'!H12=$W$2,'LIVRET Compétences'!G12,\"\")","v":""},{"$f":"IF('LIVRET Compétences'!H12=$W$2,'LIVRET Compétences'!C12,\"\")","v":""},null,null,null,null,null,null,null,null,null,null,null,null,null,null,null,null,null,null,null,null,null,null,"Nb sollicitations des EP  CA3"]
[null,null,null,null,null,null,null,null,null,null,null,null,null,null,{"$f":"IF('LIVRET Compétences'!H13=$O$2,'LIVRET Compétences'!I13,\"\")","v":""},{"$f":"IF('LIVRET Compétences'!H13=$O$2,'LIVRET Compétences'!E13,\"\")","v":""},{"$f":"IF('LIVRET Compétences'!H13=$O$2,'LIVRET Compétences'!G13,\"\")","v":""},{"$f":"IF('LIVRET Compétences'!H13=$O$2,'LIVRET Compétences'!C13,\"\")","v":""},{"$f":"IF('LIVRET Compétences'!H13=$S$2,'LIVRET Compétences'!I13,\"\")","v":""},{"$f":"IF('LIVRET Compétences'!H13=$S$2,'LIVRET Compétences'!E13,\"\")","v":""},{"$f":"IF('LIVRET Compétences'!H13=$S$2,'LIVRET Compétences'!G13,\"\")","v":""},{"$f":"IF('LIVRET Compétences'!H13=$S$2,'LIVRET Compétences'!C13,\"\")","v":""},{"$f":"IF('LIVRET Compétences'!H13=$W$2,'LIVRET Compétences'!I13,\"\")","v":""},{"$f":"IF('LIVRET Compétences'!H13=$W$2,'LIVRET Compétences'!E13,\"\")","v":""},{"$f":"IF('LIVRET Compétences'!H13=$W$2,'LIVRET Compétences'!G13,\"\")","v":""},{"$f":"IF('LIVRET Compétences'!H13=$W$2,'LIVRET Compétences'!C13,\"\")","v":""},null,null,null,null,null,null,null,null,null,null,null,null,null,null,null,null,null,null,null,null,null,null,"EP1","EP2","EP3","EP4","EP5","EP6","EP7","EP8","EP9"]
[null,null,null,null,null,null,null,null,null,null,"CA 4",{"$f":"Listes!AO6","v":"Conduire et maîtriser un affrontement collectif ou interindividuel pour gagner"},null,null,{"$f":"IF('LIVRET Compétences'!H14=$O$2,'LIVRET Compétences'!I14,\"\")","v":""},{"$f":"IF('LIVRET Compétences'!H14=$O$2,'LIVRET Compétences'!E14,\"\")","v":""},{"$f":"IF('LIVRET Compétences'!H14=$O$2,'LIVRET Compétences'!G14,\"\")","v":""},{"$f":"IF('LIVRET Compétences'!H14=$O$2,'LIVRET Compétences'!C14,\"\")","v":""},{"$f":"IF('LIVRET Compétences'!H14=$S$2,'LIVRET Compétences'!I14,\"\")","v":""},{"$f":"IF('LIVRET Compétences'!H14=$S$2,'LIVRET Compétences'!E14,\"\")","v":""},{"$f":"IF('LIVRET Compétences'!H14=$S$2,'LIVRET Compétences'!G14,\"\")","v":""},{"$f":"IF('LIVRET Compétences'!H14=$S$2,'LIVRET Compétences'!C14,\"\")","v":""},{"$f":"IF('LIVRET Compétences'!H14=$W$2,'LIVRET Compétences'!I14,\"\")","v":""},{"$f":"IF('LIVRET Compétences'!H14=$W$2,'LIVRET Compétences'!E14,\"\")","v":""},{"$f":"IF('LIVRET Compétences'!H14=$W$2,'LIVRET Compétences'!G14,\"\")","v":""},{"$f":"IF('LIVRET Compétences'!H14=$W$2,'LIVRET Compétences'!C14,\"\")","v":""},null,null,null,null,null,null,null,null,null,null,null,null,null,null,null,null,null,null,null,null,null,"2nde",{"$f":"COUNTIFS($P$3:$P$396,\"CA3\",$Q$3:$Q$396,Listes!U7)","v":0},{"$f":"COUNTIFS($P$3:$P$396,\"CA3\",$Q$3:$Q$396,Listes!U8)","v":0},{"$f":"COUNTIFS($P$3:$P$396,\"CA3\",$Q$3:$Q$396,Listes!U9)","v":0},{"$f":"COUNTIFS($P$3:$P$396,\"CA3\",$Q$3:$Q$396,Listes!U10)","v":0},{"$f":"COUNTIFS($P$3:$P$396,\"CA3\",$Q$3:$Q$396,Listes!U11)","v":0},{"$f":"COUNTIFS($P$3:$P$396,\"CA3\",$Q$3:$Q$396,Listes!U12)","v":0},{"$f":"COUNTIFS($P$3:$P$396,\"CA3\",$Q$3:$Q$396,Listes!U13)","v":0},{"$f":"COUNTIFS($P$3:$P$396,\"CA3\",$Q$3:$Q$396,Listes!U14)","v":0},{"$f":"COUNTIFS($P$3:$P$396,\"CA3\",$Q$3:$Q$396,Listes!U15)","v":0}]
[null,null,null,null,null,null,null,null,null,null,null,null,null,null,{"$f":"IF('LIVRET Compétences'!H15=$O$2,'LIVRET Compétences'!I15,\"\")","v":""},{"$f":"IF('LIVRET Compétences'!H15=$O$2,'LIVRET Compétences'!E15,\"\")","v":""},{"$f":"IF('LIVRET Compétences'!H15=$O$2,'LIVRET Compétences'!G15,\"\")","v":""},{"$f":"IF('LIVRET Compétences'!H15=$O$2,'LIVRET Compétences'!C15,\"\")","v":""},{"$f":"IF('LIVRET Compétences'!H15=$S$2,'LIVRET Compétences'!I15,\"\")","v":""},{"$f":"IF('LIVRET Compétences'!H15=$S$2,'LIVRET Compétences'!E15,\"\")","v":""},{"$f":"IF('LIVRET Compétences'!H15=$S$2,'LIVRET Compétences'!G15,\"\")","v":""},{"$f":"IF('LIVRET Compétences'!H15=$S$2,'LIVRET Compétences'!C15,\"\")","v":""},{"$f":"IF('LIVRET Compétences'!H15=$W$2,'LIVRET Compétences'!I15,\"\")","v":""},{"$f":"IF('LIVRET Compétences'!H15=$W$2,'LIVRET Compétences'!E15,\"\")","v":""},{"$f":"IF('LIVRET Compétences'!H15=$W$2,'LIVRET Compétences'!G15,\"\")","v":""},{"$f":"IF('LIVRET Compétences'!H15=$W$2,'LIVRET Compétences'!C15,\"\")","v":""},null,null,null,null,null,null,null,null,null,null,null,null,null,null,null,null,null,null,null,null,null,"1ère",{"$f":"COUNTIFS($T$3:$T$396,\"CA3\",$U$3:$U$396,Listes!U7)","v":0},{"$f":"COUNTIFS($T$3:$T$396,\"CA3\",$U$3:$U$396,Listes!U8)","v":0},{"$f":"COUNTIFS($T$3:$T$396,\"CA3\",$U$3:$U$396,Listes!U9)","v":0},{"$f":"COUNTIFS($T$3:$T$396,\"CA3\",$U$3:$U$396,Listes!U10)","v":0},{"$f":"COUNTIFS($T$3:$T$396,\"CA3\",$U$3:$U$396,Listes!U11)","v":0},{"$f":"COUNTIFS($T$3:$T$396,\"CA3\",$U$3:$U$396,Listes!U12)","v":0},{"$f":"COUNTIFS($T$3:$T$396,\"CA3\",$U$3:$U$396,Listes!U13)","v":0},{"$f":"COUNTIFS($T$3:$T$396,\"CA3\",$U$3:$U$396,Listes!U14)","v":0},{"$f":"COUNTIFS($T$3:$T$396,\"CA3\",$U$3:$U$396,Listes!U15)","v":0}]
[null,null,null,null,null,null,null,null,null,null,"CA 5",{"$f":"Listes!AO7","v":"Réaliser une activité physique pour développer ses ressources et s’entretenir"},null,null,{"$f":"IF('LIVRET Compétences'!H16=$O$2,'LIVRET Compétences'!I16,\"\")","v":""},{"$f":"IF('LIVRET Compétences'!H16=$O$2,'LIVRET Compétences'!E16,\"\")","v":""},{"$f":"IF('LIVRET Compétences'!H16=$O$2,'LIVRET Compétences'!G16,\"\")","v":""},{"$f":"IF('LIVRET Compétences'!H16=$O$2,'LIVRET Compétences'!C16,\"\")","v":""},{"$f":"IF('LIVRET Compétences'!H16=$S$2,'LIVRET Compétences'!I16,\"\")","v":""},{"$f":"IF('LIVRET Compétences'!H16=$S$2,'LIVRET Compétences'!E16,\"\")","v":""},{"$f":"IF('LIVRET Compétences'!H16=$S$2,'LIVRET Compétences'!G16,\"\")","v":""},{"$f":"IF('LIVRET Compétences'!H16=$S$2,'LIVRET Compétences'!C16,\"\")","v":""},{"$f":"IF('LIVRET Compétences'!H16=$W$2,'LIVRET Compétences'!I16,\"\")","v":""},{"$f":"IF('LIVRET Compétences'!H16=$W$2,'LIVRET Compétences'!E16,\"\")","v":""},{"$f":"IF('LIVRET Compétences'!H16=$W$2,'LIVRET Compétences'!G16,\"\")","v":""},{"$f":"IF('LIVRET Compétences'!H16=$W$2,'LIVRET Compétences'!C16,\"\")","v":""},null,null,null,null,null,null,null,null,null,null,null,null,null,null,null,null,null,null,null,null,null,"Term",{"$f":"COUNTIFS($X$3:$X$396,\"CA3\",$Y$3:$Y$396,Listes!U7)","v":0},{"$f":"COUNTIFS($X$3:$X$396,\"CA3\",$Y$3:$Y$396,Listes!U8)","v":0},{"$f":"COUNTIFS($X$3:$X$396,\"CA3\",$Y$3:$Y$396,Listes!U9)","v":0},{"$f":"COUNTIFS($X$3:$X$396,\"CA3\",$Y$3:$Y$396,Listes!U10)","v":0},{"$f":"COUNTIFS($X$3:$X$396,\"CA3\",$Y$3:$Y$396,Listes!U11)","v":0},{"$f":"COUNTIFS($X$3:$X$396,\"CA3\",$Y$3:$Y$396,Listes!U12)","v":0},{"$f":"COUNTIFS($X$3:$X$396,\"CA3\",$Y$3:$Y$396,Listes!U13)","v":0},{"$f":"COUNTIFS($X$3:$X$396,\"CA3\",$Y$3:$Y$396,Listes!U14)","v":0},{"$f":"COUNTIFS($X$3:$X$396,\"CA3\",$Y$3:$Y$396,Listes!U15)","v":0}]
[null,null,null,null,null,null,null,null,null,null,null,null,null,null,{"$f":"IF('LIVRET Compétences'!H17=$O$2,'LIVRET Compétences'!I17,\"\")","v":""},{"$f":"IF('LIVRET Compétences'!H17=$O$2,'LIVRET Compétences'!E17,\"\")","v":""},{"$f":"IF('LIVRET Compétences'!H17=$O$2,'LIVRET Compétences'!G17,\"\")","v":""},{"$f":"IF('LIVRET Compétences'!H17=$O$2,'LIVRET Compétences'!C17,\"\")","v":""},{"$f":"IF('LIVRET Compétences'!H17=$S$2,'LIVRET Compétences'!I17,\"\")","v":""},{"$f":"IF('LIVRET Compétences'!H17=$S$2,'LIVRET Compétences'!E17,\"\")","v":""},{"$f":"IF('LIVRET Compétences'!H17=$S$2,'LIVRET Compétences'!G17,\"\")","v":""},{"$f":"IF('LIVRET Compétences'!H17=$S$2,'LIVRET Compétences'!C17,\"\")","v":""},{"$f":"IF('LIVRET Compétences'!H17=$W$2,'LIVRET Compétences'!I17,\"\")","v":""},{"$f":"IF('LIVRET Compétences'!H17=$W$2,'LIVRET Compétences'!E17,\"\")","v":""},{"$f":"IF('LIVRET Compétences'!H17=$W$2,'LIVRET Compétences'!G17,\"\")","v":""},{"$f":"IF('LIVRET Compétences'!H17=$W$2,'LIVRET Compétences'!C17,\"\")","v":""},null,null,null,null,null,null,null,null,null,null,null,null,null,null,null,null,null,null,null,null,null,"Lycée",{"$f":"SUM(AW18:AW20)","v":0},{"$f":"SUM(AX18:AX20)","v":0},0,0,0,0,0,0,0]
[null,null,null,null,null,null,null,null,null,null,null,null,null,null,{"$f":"IF('LIVRET Compétences'!H18=$O$2,'LIVRET Compétences'!I18,\"\")","v":""},{"$f":"IF('LIVRET Compétences'!H18=$O$2,'LIVRET Compétences'!E18,\"\")","v":""},{"$f":"IF('LIVRET Compétences'!H18=$O$2,'LIVRET Compétences'!G18,\"\")","v":""},{"$f":"IF('LIVRET Compétences'!H18=$O$2,'LIVRET Compétences'!C18,\"\")","v":""},{"$f":"IF('LIVRET Compétences'!H18=$S$2,'LIVRET Compétences'!I18,\"\")","v":""},{"$f":"IF('LIVRET Compétences'!H18=$S$2,'LIVRET Compétences'!E18,\"\")","v":""},{"$f":"IF('LIVRET Compétences'!H18=$S$2,'LIVRET Compétences'!G18,\"\")","v":""},{"$f":"IF('LIVRET Compétences'!H18=$S$2,'LIVRET Compétences'!C18,\"\")","v":""},{"$f":"IF('LIVRET Compétences'!H18=$W$2,'LIVRET Compétences'!I18,\"\")","v":""},{"$f":"IF('LIVRET Compétences'!H18=$W$2,'LIVRET Compétences'!E18,\"\")","v":""},{"$f":"IF('LIVRET Compétences'!H18=$W$2,'LIVRET Compétences'!G18,\"\")","v":""},{"$f":"IF('LIVRET Compétences'!H18=$W$2,'LIVRET Compétences'!C18,\"\")","v":""}]
[null,null,null,null,null,null,null,null,null,null,null,null,null,null,{"$f":"IF('LIVRET Compétences'!H19=$O$2,'LIVRET Compétences'!I19,\"\")","v":""},{"$f":"IF('LIVRET Compétences'!H19=$O$2,'LIVRET Compétences'!E19,\"\")","v":""},{"$f":"IF('LIVRET Compétences'!H19=$O$2,'LIVRET Compétences'!G19,\"\")","v":""},{"$f":"IF('LIVRET Compétences'!H19=$O$2,'LIVRET Compétences'!C19,\"\")","v":""},{"$f":"IF('LIVRET Compétences'!H19=$S$2,'LIVRET Compétences'!I19,\"\")","v":""},{"$f":"IF('LIVRET Compétences'!H19=$S$2,'LIVRET Compétences'!E19,\"\")","v":""},{"$f":"IF('LIVRET Compétences'!H19=$S$2,'LIVRET Compétences'!G19,\"\")","v":""},{"$f":"IF('LIVRET Compétences'!H19=$S$2,'LIVRET Compétences'!C19,\"\")","v":""},{"$f":"IF('LIVRET Compétences'!H19=$W$2,'LIVRET Compétences'!I19,\"\")","v":""},{"$f":"IF('LIVRET Compétences'!H19=$W$2,'LIVRET Compétences'!E19,\"\")","v":""},{"$f":"IF('LIVRET Compétences'!H19=$W$2,'LIVRET Compétences'!G19,\"\")","v":""},{"$f":"IF('LIVRET Compétences'!H19=$W$2,'LIVRET Compétences'!C19,\"\")","v":""},null,null,null,null,null,null,null,null,null,null,null,null,null,null,null,null,null,null,null,null,null,null,"Nb sollicitations des EP  CA4"]
[null,null,null,null,null,null,null,null,null,null,null,null,null,null,{"$f":"IF('LIVRET Compétences'!H20=$O$2,'LIVRET Compétences'!I20,\"\")","v":""},{"$f":"IF('LIVRET Compétences'!H20=$O$2,'LIVRET Compétences'!E20,\"\")","v":""},{"$f":"IF('LIVRET Compétences'!H20=$O$2,'LIVRET Compétences'!G20,\"\")","v":""},{"$f":"IF('LIVRET Compétences'!H20=$O$2,'LIVRET Compétences'!C20,\"\")","v":""},{"$f":"IF('LIVRET Compétences'!H20=$S$2,'LIVRET Compétences'!I20,\"\")","v":""},{"$f":"IF('LIVRET Compétences'!H20=$S$2,'LIVRET Compétences'!E20,\"\")","v":""},{"$f":"IF('LIVRET Compétences'!H20=$S$2,'LIVRET Compétences'!G20,\"\")","v":""},{"$f":"IF('LIVRET Compétences'!H20=$S$2,'LIVRET Compétences'!C20,\"\")","v":""},{"$f":"IF('LIVRET Compétences'!H20=$W$2,'LIVRET Compétences'!I20,\"\")","v":""},{"$f":"IF('LIVRET Compétences'!H20=$W$2,'LIVRET Compétences'!E20,\"\")","v":""},{"$f":"IF('LIVRET Compétences'!H20=$W$2,'LIVRET Compétences'!G20,\"\")","v":""},{"$f":"IF('LIVRET Compétences'!H20=$W$2,'LIVRET Compétences'!C20,\"\")","v":""},null,null,null,null,null,null,null,null,null,null,null,null,null,null,null,null,null,null,null,null,null,null,"EP1","EP2","EP3","EP4","EP5","EP6","EP7","EP8","EP9","EP10"]
[null,null,null,null,null,null,null,null,null,null,null,null,null,null,{"$f":"IF('LIVRET Compétences'!H21=$O$2,'LIVRET Compétences'!I21,\"\")","v":""},{"$f":"IF('LIVRET Compétences'!H21=$O$2,'LIVRET Compétences'!E21,\"\")","v":""},{"$f":"IF('LIVRET Compétences'!H21=$O$2,'LIVRET Compétences'!G21,\"\")","v":""},{"$f":"IF('LIVRET Compétences'!H21=$O$2,'LIVRET Compétences'!C21,\"\")","v":""},{"$f":"IF('LIVRET Compétences'!H21=$S$2,'LIVRET Compétences'!I21,\"\")","v":""},{"$f":"IF('LIVRET Compétences'!H21=$S$2,'LIVRET Compétences'!E21,\"\")","v":""},{"$f":"IF('LIVRET Compétences'!H21=$S$2,'LIVRET Compétences'!G21,\"\")","v":""},{"$f":"IF('LIVRET Compétences'!H21=$S$2,'LIVRET Compétences'!C21,\"\")","v":""},{"$f":"IF('LIVRET Compétences'!H21=$W$2,'LIVRET Compétences'!I21,\"\")","v":""},{"$f":"IF('LIVRET Compétences'!H21=$W$2,'LIVRET Compétences'!E21,\"\")","v":""},{"$f":"IF('LIVRET Compétences'!H21=$W$2,'LIVRET Compétences'!G21,\"\")","v":""},{"$f":"IF('LIVRET Compétences'!H21=$W$2,'LIVRET Compétences'!C21,\"\")","v":""},null,null,null,null,null,null,null,null,null,null,null,null,null,null,null,null,null,null,null,null,null,"2nde",{"$f":"COUNTIFS($P$3:$P$396,\"CA4\",$Q$3:$Q$396,Listes!AB7)","v":0},{"$f":"COUNTIFS($P$3:$P$396,\"CA4\",$Q$3:$Q$396,Listes!AB8)","v":0},{"$f":"COUNTIFS($P$3:$P$396,\"CA4\",$Q$3:$Q$396,Listes!AB9)","v":0},{"$f":"COUNTIFS($P$3:$P$396,\"CA4\",$Q$3:$Q$396,Listes!$AB10)","v":0},{"$f":"COUNTIFS($P$3:$P$396,\"CA4\",$Q$3:$Q$396,Listes!$AB11)","v":0},{"$f":"COUNTIFS($P$3:$P$396,\"CA4\",$Q$3:$Q$396,Listes!$AB12)","v":0},{"$f":"COUNTIFS($P$3:$P$396,\"CA4\",$Q$3:$Q$396,Listes!$AB13)","v":0},{"$f":"COUNTIFS($P$3:$P$396,\"CA4\",$Q$3:$Q$396,Listes!$AB14)","v":0},{"$f":"COUNTIFS($P$3:$P$396,\"CA4\",$Q$3:$Q$396,Listes!$AB15)","v":0},{"$f":"COUNTIFS($P$3:$P$396,\"CA4\",$Q$3:$Q$396,Listes!$AB16)","v":0}]
[null,null,null,null,null,null,null,null,null,null,null,null,null,null,{"$f":"IF('LIVRET Compétences'!H22=$O$2,'LIVRET Compétences'!I22,\"\")","v":""},{"$f":"IF('LIVRET Compétences'!H22=$O$2,'LIVRET Compétences'!E22,\"\")","v":""},{"$f":"IF('LIVRET Compétences'!H22=$O$2,'LIVRET Compétences'!G22,\"\")","v":""},{"$f":"IF('LIVRET Compétences'!H22=$O$2,'LIVRET Compétences'!C22,\"\")","v":""},{"$f":"IF('LIVRET Compétences'!H22=$S$2,'LIVRET Compétences'!I22,\"\")","v":""},{"$f":"IF('LIVRET Compétences'!H22=$S$2,'LIVRET Compétences'!E22,\"\")","v":""},{"$f":"IF('LIVRET Compétences'!H22=$S$2,'LIVRET Compétences'!G22,\"\")","v":""},{"$f":"IF('LIVRET Compétences'!H22=$S$2,'LIVRET Compétences'!C22,\"\")","v":""},{"$f":"IF('LIVRET Compétences'!H22=$W$2,'LIVRET Compétences'!I22,\"\")","v":""},{"$f":"IF('LIVRET Compétences'!H22=$W$2,'LIVRET Compétences'!E22,\"\")","v":""},{"$f":"IF('LIVRET Compétences'!H22=$W$2,'LIVRET Compétences'!G22,\"\")","v":""},{"$f":"IF('LIVRET Compétences'!H22=$W$2,'LIVRET Compétences'!C22,\"\")","v":""},null,null,null,null,null,null,null,null,null,null,null,null,null,null,null,null,null,null,null,null,null,"1ère",{"$f":"COUNTIFS($T$3:$T$396,\"CA4\",$U$3:$U$396,Listes!AB7)","v":0},{"$f":"COUNTIFS($T$3:$T$396,\"CA4\",$U$3:$U$396,Listes!AB8)","v":0},{"$f":"COUNTIFS($T$3:$T$396,\"CA4\",$U$3:$U$396,Listes!AB9)","v":0},{"$f":"COUNTIFS($T$3:$T$396,\"CA4\",$U$3:$U$396,Listes!$AB10)","v":0},{"$f":"COUNTIFS($T$3:$T$396,\"CA4\",$U$3:$U$396,Listes!$AB11)","v":0},{"$f":"COUNTIFS($T$3:$T$396,\"CA4\",$U$3:$U$396,Listes!$AB12)","v":0},{"$f":"COUNTIFS($T$3:$T$396,\"CA4\",$U$3:$U$396,Listes!$AB13)","v":0},{"$f":"COUNTIFS($T$3:$T$396,\"CA4\",$U$3:$U$396,Listes!$AB14)","v":0},{"$f":"COUNTIFS($T$3:$T$396,\"CA4\",$U$3:$U$396,Listes!$AB15)","v":0},{"$f":"COUNTIFS($T$3:$T$396,\"CA4\",$U$3:$U$396,Listes!$AB16)","v":0}]
[null,null,null,null,null,null,null,null,null,null,null,null,null,null,{"$f":"IF('LIVRET Compétences'!H23=$O$2,'LIVRET Compétences'!I23,\"\")","v":""},{"$f":"IF('LIVRET Compétences'!H23=$O$2,'LIVRET Compétences'!E23,\"\")","v":""},{"$f":"IF('LIVRET Compétences'!H23=$O$2,'LIVRET Compétences'!G23,\"\")","v":""},{"$f":"IF('LIVRET Compétences'!H23=$O$2,'LIVRET Compétences'!C23,\"\")","v":""},{"$f":"IF('LIVRET Compétences'!H23=$S$2,'LIVRET Compétences'!I23,\"\")","v":""},{"$f":"IF('LIVRET Compétences'!H23=$S$2,'LIVRET Compétences'!E23,\"\")","v":""},{"$f":"IF('LIVRET Compétences'!H23=$S$2,'LIVRET Compétences'!G23,\"\")","v":""},{"$f":"IF('LIVRET Compétences'!H23=$S$2,'LIVRET Compétences'!C23,\"\")","v":""},{"$f":"IF('LIVRET Compétences'!H23=$W$2,'LIVRET Compétences'!I23,\"\")","v":""},{"$f":"IF('LIVRET Compétences'!H23=$W$2,'LIVRET Compétences'!E23,\"\")","v":""},{"$f":"IF('LIVRET Compétences'!H23=$W$2,'LIVRET Compétences'!G23,\"\")","v":""},{"$f":"IF('LIVRET Compétences'!H23=$W$2,'LIVRET Compétences'!C23,\"\")","v":""},null,null,null,null,null,null,null,null,null,null,null,null,null,null,null,null,null,null,null,null,null,"Term",{"$f":"COUNTIFS($X$3:$X$396,\"CA4\",$Y$3:$Y$396,Listes!AB7)","v":0},{"$f":"COUNTIFS($X$3:$X$396,\"CA4\",$Y$3:$Y$396,Listes!AB8)","v":0},{"$f":"COUNTIFS($X$3:$X$396,\"CA4\",$Y$3:$Y$396,Listes!AB9)","v":0},{"$f":"COUNTIFS($X$3:$X$396,\"CA4\",$Y$3:$Y$396,Listes!$AB10)","v":0},{"$f":"COUNTIFS($X$3:$X$396,\"CA4\",$Y$3:$Y$396,Listes!$AB11)","v":0},{"$f":"COUNTIFS($X$3:$X$396,\"CA4\",$Y$3:$Y$396,Listes!$AB12)","v":0},{"$f":"COUNTIFS($X$3:$X$396,\"CA4\",$Y$3:$Y$396,Listes!$AB13)","v":0},{"$f":"COUNTIFS($X$3:$X$396,\"CA4\",$Y$3:$Y$396,Listes!$AB14)","v":0},{"$f":"COUNTIFS($X$3:$X$396,\"CA4\",$Y$3:$Y$396,Listes!$AB15)","v":0},{"$f":"COUNTIFS($X$3:$X$396,\"CA4\",$Y$3:$Y$396,Listes!$AB16)","v":0}]
[null,null,null,null,null,null,null,null,null,null,null,null,null,null,{"$f":"IF('LIVRET Compétences'!H24=$O$2,'LIVRET Compétences'!I24,\"\")","v":""},{"$f":"IF('LIVRET Compétences'!H24=$O$2,'LIVRET Compétences'!E24,\"\")","v":""},{"$f":"IF('LIVRET Compétences'!H24=$O$2,'LIVRET Compétences'!G24,\"\")","v":""},{"$f":"IF('LIVRET Compétences'!H24=$O$2,'LIVRET Compétences'!C24,\"\")","v":""},{"$f":"IF('LIVRET Compétences'!H24=$S$2,'LIVRET Compétences'!I24,\"\")","v":""},{"$f":"IF('LIVRET Compétences'!H24=$S$2,'LIVRET Compétences'!E24,\"\")","v":""},{"$f":"IF('LIVRET Compétences'!H24=$S$2,'LIVRET Compétences'!G24,\"\")","v":""},{"$f":"IF('LIVRET Compétences'!H24=$S$2,'LIVRET Compétences'!C24,\"\")","v":""},{"$f":"IF('LIVRET Compétences'!H24=$W$2,'LIVRET Compétences'!I24,\"\")","v":""},{"$f":"IF('LIVRET Compétences'!H24=$W$2,'LIVRET Compétences'!E24,\"\")","v":""},{"$f":"IF('LIVRET Compétences'!H24=$W$2,'LIVRET Compétences'!G24,\"\")","v":""},{"$f":"IF('LIVRET Compétences'!H24=$W$2,'LIVRET Compétences'!C24,\"\")","v":""},null,null,null,null,null,null,null,null,null,null,null,null,null,null,null,null,null,null,null,null,null,"Lycée",{"$f":"SUM(AW25:AW27)","v":0},{"$f":"SUM(AX25:AX27)","v":0},0,0,0,0,0,0,0,0]
[null,null,null,null,null,null,null,null,null,null,null,"OBJECTIFS GENERAUX DE L'EPS",null,null,{"$f":"IF('LIVRET Compétences'!H25=$O$2,'LIVRET Compétences'!I25,\"\")","v":""},{"$f":"IF('LIVRET Compétences'!H25=$O$2,'LIVRET Compétences'!E25,\"\")","v":""},{"$f":"IF('LIVRET Compétences'!H25=$O$2,'LIVRET Compétences'!G25,\"\")","v":""},{"$f":"IF('LIVRET Compétences'!H25=$O$2,'LIVRET Compétences'!C25,\"\")","v":""},{"$f":"IF('LIVRET Compétences'!H25=$S$2,'LIVRET Compétences'!I25,\"\")","v":""},{"$f":"IF('LIVRET Compétences'!H25=$S$2,'LIVRET Compétences'!E25,\"\")","v":""},{"$f":"IF('LIVRET Compétences'!H25=$S$2,'LIVRET Compétences'!G25,\"\")","v":""},{"$f":"IF('LIVRET Compétences'!H25=$S$2,'LIVRET Compétences'!C25,\"\")","v":""},{"$f":"IF('LIVRET Compétences'!H25=$W$2,'LIVRET Compétences'!I25,\"\")","v":""},{"$f":"IF('LIVRET Compétences'!H25=$W$2,'LIVRET Compétences'!E25,\"\")","v":""},{"$f":"IF('LIVRET Compétences'!H25=$W$2,'LIVRET Compétences'!G25,\"\")","v":""},{"$f":"IF('LIVRET Compétences'!H25=$W$2,'LIVRET Compétences'!C25,\"\")","v":""}]
[null,null,null,null,null,null,null,null,null,null,"Objectif 1",{"$f":"Listes!AR7","v":"Développer sa motricité"},null,null,{"$f":"IF('LIVRET Compétences'!H26=$O$2,'LIVRET Compétences'!I26,\"\")","v":""},{"$f":"IF('LIVRET Compétences'!H26=$O$2,'LIVRET Compétences'!E26,\"\")","v":""},{"$f":"IF('LIVRET Compétences'!H26=$O$2,'LIVRET Compétences'!G26,\"\")","v":""},{"$f":"IF('LIVRET Compétences'!H26=$O$2,'LIVRET Compétences'!C26,\"\")","v":""},{"$f":"IF('LIVRET Compétences'!H26=$S$2,'LIVRET Compétences'!I26,\"\")","v":""},{"$f":"IF('LIVRET Compétences'!H26=$S$2,'LIVRET Compétences'!E26,\"\")","v":""},{"$f":"IF('LIVRET Compétences'!H26=$S$2,'LIVRET Compétences'!G26,\"\")","v":""},{"$f":"IF('LIVRET Compétences'!H26=$S$2,'LIVRET Compétences'!C26,\"\")","v":""},{"$f":"IF('LIVRET Compétences'!H26=$W$2,'LIVRET Compétences'!I26,\"\")","v":""},{"$f":"IF('LIVRET Compétences'!H26=$W$2,'LIVRET Compétences'!E26,\"\")","v":""},{"$f":"IF('LIVRET Compétences'!H26=$W$2,'LIVRET Compétences'!G26,\"\")","v":""},{"$f":"IF('LIVRET Compétences'!H26=$W$2,'LIVRET Compétences'!C26,\"\")","v":""},null,null,null,null,null,null,null,null,null,null,null,null,null,null,null,null,null,null,null,null,null,null,"Nb sollicitations des EP  CA5"]
[null,null,null,null,null,null,null,null,null,null,null,null,null,null,{"$f":"IF('LIVRET Compétences'!H27=$O$2,'LIVRET Compétences'!I27,\"\")","v":""},{"$f":"IF('LIVRET Compétences'!H27=$O$2,'LIVRET Compétences'!E27,\"\")","v":""},{"$f":"IF('LIVRET Compétences'!H27=$O$2,'LIVRET Compétences'!G27,\"\")","v":""},{"$f":"IF('LIVRET Compétences'!H27=$O$2,'LIVRET Compétences'!C27,\"\")","v":""},{"$f":"IF('LIVRET Compétences'!H27=$S$2,'LIVRET Compétences'!I27,\"\")","v":""},{"$f":"IF('LIVRET Compétences'!H27=$S$2,'LIVRET Compétences'!E27,\"\")","v":""},{"$f":"IF('LIVRET Compétences'!H27=$S$2,'LIVRET Compétences'!G27,\"\")","v":""},{"$f":"IF('LIVRET Compétences'!H27=$S$2,'LIVRET Compétences'!C27,\"\")","v":""},{"$f":"IF('LIVRET Compétences'!H27=$W$2,'LIVRET Compétences'!I27,\"\")","v":""},{"$f":"IF('LIVRET Compétences'!H27=$W$2,'LIVRET Compétences'!E27,\"\")","v":""},{"$f":"IF('LIVRET Compétences'!H27=$W$2,'LIVRET Compétences'!G27,\"\")","v":""},{"$f":"IF('LIVRET Compétences'!H27=$W$2,'LIVRET Compétences'!C27,\"\")","v":""},null,null,null,null,null,null,null,null,null,null,null,null,null,null,null,null,null,null,null,null,null,null,"EP1","EP2","EP3","EP4","EP5","EP6","EP7","EP8","EP9"]
[null,null,null,null,null,null,null,null,null,null,"Objectif 2",{"$f":"Listes!AR8","v":"Savoir se préparer et s'entraîner"},null,null,{"$f":"IF('LIVRET Compétences'!H28=$O$2,'LIVRET Compétences'!I28,\"\")","v":""},{"$f":"IF('LIVRET Compétences'!H28=$O$2,'LIVRET Compétences'!E28,\"\")","v":""},{"$f":"IF('LIVRET Compétences'!H28=$O$2,'LIVRET Compétences'!G28,\"\")","v":""},{"$f":"IF('LIVRET Compétences'!H28=$O$2,'LIVRET Compétences'!C28,\"\")","v":""},{"$f":"IF('LIVRET Compétences'!H28=$S$2,'LIVRET Compétences'!I28,\"\")","v":""},{"$f":"IF('LIVRET Compétences'!H28=$S$2,'LIVRET Compétences'!E28,\"\")","v":""},{"$f":"IF('LIVRET Compétences'!H28=$S$2,'LIVRET Compétences'!G28,\"\")","v":""},{"$f":"IF('LIVRET Compétences'!H28=$S$2,'LIVRET Compétences'!C28,\"\")","v":""},{"$f":"IF('LIVRET Compétences'!H28=$W$2,'LIVRET Compétences'!I28,\"\")","v":""},{"$f":"IF('LIVRET Compétences'!H28=$W$2,'LIVRET Compétences'!E28,\"\")","v":""},{"$f":"IF('LIVRET Compétences'!H28=$W$2,'LIVRET Compétences'!G28,\"\")","v":""},{"$f":"IF('LIVRET Compétences'!H28=$W$2,'LIVRET Compétences'!C28,\"\")","v":""},null,null,null,null,null,null,null,null,null,null,null,null,null,null,null,null,null,null,null,null,null,"2nde",{"$f":"COUNTIFS($P$3:$P$396,\"CA5\",$Q$3:$Q$396,Listes!$AI7)","v":0},{"$f":"COUNTIFS($P$3:$P$396,\"CA5\",$Q$3:$Q$396,Listes!$AI8)","v":0},{"$f":"COUNTIFS($P$3:$P$396,\"CA5\",$Q$3:$Q$396,Listes!$AI9)","v":0},{"$f":"COUNTIFS($P$3:$P$396,\"CA5\",$Q$3:$Q$396,Listes!$AI10)","v":0},{"$f":"COUNTIFS($P$3:$P$396,\"CA5\",$Q$3:$Q$396,Listes!$AI11)","v":0},{"$f":"COUNTIFS($P$3:$P$396,\"CA5\",$Q$3:$Q$396,Listes!$AI12)","v":0},{"$f":"COUNTIFS($P$3:$P$396,\"CA5\",$Q$3:$Q$396,Listes!$AI13)","v":0},{"$f":"COUNTIFS($P$3:$P$396,\"CA5\",$Q$3:$Q$396,Listes!$AI14)","v":0},{"$f":"COUNTIFS($P$3:$P$396,\"CA5\",$Q$3:$Q$396,Listes!$AI15)","v":0}]
[null,null,null,null,null,null,null,null,null,null,null,null,null,null,{"$f":"IF('LIVRET Compétences'!H29=$O$2,'LIVRET Compétences'!I29,\"\")","v":""},{"$f":"IF('LIVRET Compétences'!H29=$O$2,'LIVRET Compétences'!E29,\"\")","v":""},{"$f":"IF('LIVRET Compétences'!H29=$O$2,'LIVRET Compétences'!G29,\"\")","v":""},{"$f":"IF('LIVRET Compétences'!H29=$O$2,'LIVRET Compétences'!C29,\"\")","v":""},{"$f":"IF('LIVRET Compétences'!H29=$S$2,'LIVRET Compétences'!I29,\"\")","v":""},{"$f":"IF('LIVRET Compétences'!H29=$S$2,'LIVRET Compétences'!E29,\"\")","v":""},{"$f":"IF('LIVRET Compétences'!H29=$S$2,'LIVRET Compétences'!G29,\"\")","v":""},{"$f":"IF('LIVRET Compétences'!H29=$S$2,'LIVRET Compétences'!C29,\"\")","v":""},{"$f":"IF('LIVRET Compétences'!H29=$W$2,'LIVRET Compétences'!I29,\"\")","v":""},{"$f":"IF('LIVRET Compétences'!H29=$W$2,'LIVRET Compétences'!E29,\"\")","v":""},{"$f":"IF('LIVRET Compétences'!H29=$W$2,'LIVRET Compétences'!G29,\"\")","v":""},{"$f":"IF('LIVRET Compétences'!H29=$W$2,'LIVRET Compétences'!C29,\"\")","v":""},null,null,null,null,null,null,null,null,null,null,null,null,null,null,null,null,null,null,null,null,null,"1ère",{"$f":"COUNTIFS($T$3:$T$396,\"CA5\",$U$3:$U$396,Listes!$AI7)","v":0},{"$f":"COUNTIFS($T$3:$T$396,\"CA5\",$U$3:$U$396,Listes!$AI8)","v":0},{"$f":"COUNTIFS($T$3:$T$396,\"CA5\",$U$3:$U$396,Listes!$AI9)","v":0},{"$f":"COUNTIFS($T$3:$T$396,\"CA5\",$U$3:$U$396,Listes!$AI10)","v":0},{"$f":"COUNTIFS($T$3:$T$396,\"CA5\",$U$3:$U$396,Listes!$AI11)","v":0},{"$f":"COUNTIFS($T$3:$T$396,\"CA5\",$U$3:$U$396,Listes!$AI12)","v":0},{"$f":"COUNTIFS($T$3:$T$396,\"CA5\",$U$3:$U$396,Listes!$AI13)","v":0},{"$f":"COUNTIFS($T$3:$T$396,\"CA5\",$U$3:$U$396,Listes!$AI14)","v":0},{"$f":"COUNTIFS($T$3:$T$396,\"CA5\",$U$3:$U$396,Listes!$AI15)","v":0}]
[null,null,null,null,null,null,null,null,null,null,"Objectif 3",{"$f":"Listes!AR9","v":"Exercer sa responsabilité individuelle au sein d'un collectif"},null,null,{"$f":"IF('LIVRET Compétences'!H30=$O$2,'LIVRET Compétences'!I30,\"\")","v":""},{"$f":"IF('LIVRET Compétences'!H30=$O$2,'LIVRET Compétences'!E30,\"\")","v":""},{"$f":"IF('LIVRET Compétences'!H30=$O$2,'LIVRET Compétences'!G30,\"\")","v":""},{"$f":"IF('LIVRET Compétences'!H30=$O$2,'LIVRET Compétences'!C30,\"\")","v":""},{"$f":"IF('LIVRET Compétences'!H30=$S$2,'LIVRET Compétences'!I30,\"\")","v":""},{"$f":"IF('LIVRET Compétences'!H30=$S$2,'LIVRET Compétences'!E30,\"\")","v":""},{"$f":"IF('LIVRET Compétences'!H30=$S$2,'LIVRET Compétences'!G30,\"\")","v":""},{"$f":"IF('LIVRET Compétences'!H30=$S$2,'LIVRET Compétences'!C30,\"\")","v":""},{"$f":"IF('LIVRET Compétences'!H30=$W$2,'LIVRET Compétences'!I30,\"\")","v":""},{"$f":"IF('LIVRET Compétences'!H30=$W$2,'LIVRET Compétences'!E30,\"\")","v":""},{"$f":"IF('LIVRET Compétences'!H30=$W$2,'LIVRET Compétences'!G30,\"\")","v":""},{"$f":"IF('LIVRET Compétences'!H30=$W$2,'LIVRET Compétences'!C30,\"\")","v":""},null,null,null,null,null,null,null,null,null,null,null,null,null,null,null,null,null,null,null,null,null,"Term",{"$f":"COUNTIFS($X$3:$X$396,\"CA5\",$Y$3:$Y$396,Listes!$AI7)","v":0},{"$f":"COUNTIFS($X$3:$X$396,\"CA5\",$Y$3:$Y$396,Listes!$AI8)","v":0},{"$f":"COUNTIFS($X$3:$X$396,\"CA5\",$Y$3:$Y$396,Listes!$AI9)","v":0},{"$f":"COUNTIFS($X$3:$X$396,\"CA5\",$Y$3:$Y$396,Listes!$AI10)","v":0},{"$f":"COUNTIFS($X$3:$X$396,\"CA5\",$Y$3:$Y$396,Listes!$AI11)","v":0},{"$f":"COUNTIFS($X$3:$X$396,\"CA5\",$Y$3:$Y$396,Listes!$AI12)","v":0},{"$f":"COUNTIFS($X$3:$X$396,\"CA5\",$Y$3:$Y$396,Listes!$AI13)","v":0},{"$f":"COUNTIFS($X$3:$X$396,\"CA5\",$Y$3:$Y$396,Listes!$AI14)","v":0},{"$f":"COUNTIFS($X$3:$X$396,\"CA5\",$Y$3:$Y$396,Listes!$AI15)","v":0}]
[null,null,null,null,null,null,null,null,null,null,null,null,null,null,{"$f":"IF('LIVRET Compétences'!H31=$O$2,'LIVRET Compétences'!I31,\"\")","v":""},{"$f":"IF('LIVRET Compétences'!H31=$O$2,'LIVRET Compétences'!E31,\"\")","v":""},{"$f":"IF('LIVRET Compétences'!H31=$O$2,'LIVRET Compétences'!G31,\"\")","v":""},{"$f":"IF('LIVRET Compétences'!H31=$O$2,'LIVRET Compétences'!C31,\"\")","v":""},{"$f":"IF('LIVRET Compétences'!H31=$S$2,'LIVRET Compétences'!I31,\"\")","v":""},{"$f":"IF('LIVRET Compétences'!H31=$S$2,'LIVRET Compétences'!E31,\"\")","v":""},{"$f":"IF('LIVRET Compétences'!H31=$S$2,'LIVRET Compétences'!G31,\"\")","v":""},{"$f":"IF('LIVRET Compétences'!H31=$S$2,'LIVRET Compétences'!C31,\"\")","v":""},{"$f":"IF('LIVRET Compétences'!H31=$W$2,'LIVRET Compétences'!I31,\"\")","v":""},{"$f":"IF('LIVRET Compétences'!H31=$W$2,'LIVRET Compétences'!E31,\"\")","v":""},{"$f":"IF('LIVRET Compétences'!H31=$W$2,'LIVRET Compétences'!G31,\"\")","v":""},{"$f":"IF('LIVRET Compétences'!H31=$W$2,'LIVRET Compétences'!C31,\"\")","v":""},null,null,null,null,null,null,null,null,null,null,null,null,null,null,null,null,null,null,null,null,null,"Lycée",{"$f":"SUM(AW32:AW34)","v":0},{"$f":"SUM(AX32:AX34)","v":0},0,0,0,0,0,0,0]
[null,null,null,null,null,null,null,null,null,null,"Objectif 4",{"$f":"Listes!AR10","v":"Construire durablement sa santé"},null,null,{"$f":"IF('LIVRET Compétences'!H32=$O$2,'LIVRET Compétences'!I32,\"\")","v":""},{"$f":"IF('LIVRET Compétences'!H32=$O$2,'LIVRET Compétences'!E32,\"\")","v":""},{"$f":"IF('LIVRET Compétences'!H32=$O$2,'LIVRET Compétences'!G32,\"\")","v":""},{"$f":"IF('LIVRET Compétences'!H32=$O$2,'LIVRET Compétences'!C32,\"\")","v":""},{"$f":"IF('LIVRET Compétences'!H32=$S$2,'LIVRET Compétences'!I32,\"\")","v":""},{"$f":"IF('LIVRET Compétences'!H32=$S$2,'LIVRET Compétences'!E32,\"\")","v":""},{"$f":"IF('LIVRET Compétences'!H32=$S$2,'LIVRET Compétences'!G32,\"\")","v":""},{"$f":"IF('LIVRET Compétences'!H32=$S$2,'LIVRET Compétences'!C32,\"\")","v":""},{"$f":"IF('LIVRET Compétences'!H32=$W$2,'LIVRET Compétences'!I32,\"\")","v":""},{"$f":"IF('LIVRET Compétences'!H32=$W$2,'LIVRET Compétences'!E32,\"\")","v":""},{"$f":"IF('LIVRET Compétences'!H32=$W$2,'LIVRET Compétences'!G32,\"\")","v":""},{"$f":"IF('LIVRET Compétences'!H32=$W$2,'LIVRET Compétences'!C32,\"\")","v":""}]
[null,null,null,null,null,null,null,null,null,null,null,null,null,null,{"$f":"IF('LIVRET Compétences'!H33=$O$2,'LIVRET Compétences'!I33,\"\")","v":""},{"$f":"IF('LIVRET Compétences'!H33=$O$2,'LIVRET Compétences'!E33,\"\")","v":""},{"$f":"IF('LIVRET Compétences'!H33=$O$2,'LIVRET Compétences'!G33,\"\")","v":""},{"$f":"IF('LIVRET Compétences'!H33=$O$2,'LIVRET Compétences'!C33,\"\")","v":""},{"$f":"IF('LIVRET Compétences'!H33=$S$2,'LIVRET Compétences'!I33,\"\")","v":""},{"$f":"IF('LIVRET Compétences'!H33=$S$2,'LIVRET Compétences'!E33,\"\")","v":""},{"$f":"IF('LIVRET Compétences'!H33=$S$2,'LIVRET Compétences'!G33,\"\")","v":""},{"$f":"IF('LIVRET Compétences'!H33=$S$2,'LIVRET Compétences'!C33,\"\")","v":""},{"$f":"IF('LIVRET Compétences'!H33=$W$2,'LIVRET Compétences'!I33,\"\")","v":""},{"$f":"IF('LIVRET Compétences'!H33=$W$2,'LIVRET Compétences'!E33,\"\")","v":""},{"$f":"IF('LIVRET Compétences'!H33=$W$2,'LIVRET Compétences'!G33,\"\")","v":""},{"$f":"IF('LIVRET Compétences'!H33=$W$2,'LIVRET Compétences'!C33,\"\")","v":""}]
[null,null,null,null,null,null,null,null,null,null,"Objectif 5",{"$f":"Listes!AR11","v":"Accéder au patrimoine culturel"},null,null,{"$f":"IF('LIVRET Compétences'!H34=$O$2,'LIVRET Compétences'!I34,\"\")","v":""},{"$f":"IF('LIVRET Compétences'!H34=$O$2,'LIVRET Compétences'!E34,\"\")","v":""},{"$f":"IF('LIVRET Compétences'!H34=$O$2,'LIVRET Compétences'!G34,\"\")","v":""},{"$f":"IF('LIVRET Compétences'!H34=$O$2,'LIVRET Compétences'!C34,\"\")","v":""},{"$f":"IF('LIVRET Compétences'!H34=$S$2,'LIVRET Compétences'!I34,\"\")","v":""},{"$f":"IF('LIVRET Compétences'!H34=$S$2,'LIVRET Compétences'!E34,\"\")","v":""},{"$f":"IF('LIVRET Compétences'!H34=$S$2,'LIVRET Compétences'!G34,\"\")","v":""},{"$f":"IF('LIVRET Compétences'!H34=$S$2,'LIVRET Compétences'!C34,\"\")","v":""},{"$f":"IF('LIVRET Compétences'!H34=$W$2,'LIVRET Compétences'!I34,\"\")","v":""},{"$f":"IF('LIVRET Compétences'!H34=$W$2,'LIVRET Compétences'!E34,\"\")","v":""},{"$f":"IF('LIVRET Compétences'!H34=$W$2,'LIVRET Compétences'!G34,\"\")","v":""},{"$f":"IF('LIVRET Compétences'!H34=$W$2,'LIVRET Compétences'!C34,\"\")","v":""}]
[null,null,null,null,null,null,null,null,null,null,null,null,null,null,{"$f":"IF('LIVRET Compétences'!H35=$O$2,'LIVRET Compétences'!I35,\"\")","v":""},{"$f":"IF('LIVRET Compétences'!H35=$O$2,'LIVRET Compétences'!E35,\"\")","v":""},{"$f":"IF('LIVRET Compétences'!H35=$O$2,'LIVRET Compétences'!G35,\"\")","v":""},{"$f":"IF('LIVRET Compétences'!H35=$O$2,'LIVRET Compétences'!C35,\"\")","v":""},{"$f":"IF('LIVRET Compétences'!H35=$S$2,'LIVRET Compétences'!I35,\"\")","v":""},{"$f":"IF('LIVRET Compétences'!H35=$S$2,'LIVRET Compétences'!E35,\"\")","v":""},{"$f":"IF('LIVRET Compétences'!H35=$S$2,'LIVRET Compétences'!G35,\"\")","v":""},{"$f":"IF('LIVRET Compétences'!H35=$S$2,'LIVRET Compétences'!C35,\"\")","v":""},{"$f":"IF('LIVRET Compétences'!H35=$W$2,'LIVRET Compétences'!I35,\"\")","v":""},{"$f":"IF('LIVRET Compétences'!H35=$W$2,'LIVRET Compétences'!E35,\"\")","v":""},{"$f":"IF('LIVRET Compétences'!H35=$W$2,'LIVRET Compétences'!G35,\"\")","v":""},{"$f":"IF('LIVRET Compétences'!H35=$W$2,'LIVRET Compétences'!C35,\"\")","v":""}]
[null,null,null,null,null,null,null,null,null,null,null,null,null,null,{"$f":"IF('LIVRET Compétences'!H36=$O$2,'LIVRET Compétences'!I36,\"\")","v":""},{"$f":"IF('LIVRET Compétences'!H36=$O$2,'LIVRET Compétences'!E36,\"\")","v":""},{"$f":"IF('LIVRET Compétences'!H36=$O$2,'LIVRET Compétences'!G36,\"\")","v":""},{"$f":"IF('LIVRET Compétences'!H36=$O$2,'LIVRET Compétences'!C36,\"\")","v":""},{"$f":"IF('LIVRET Compétences'!H36=$S$2,'LIVRET Compétences'!I36,\"\")","v":""},{"$f":"IF('LIVRET Compétences'!H36=$S$2,'LIVRET Compétences'!E36,\"\")","v":""},{"$f":"IF('LIVRET Compétences'!H36=$S$2,'LIVRET Compétences'!G36,\"\")","v":""},{"$f":"IF('LIVRET Compétences'!H36=$S$2,'LIVRET Compétences'!C36,\"\")","v":""},{"$f":"IF('LIVRET Compétences'!H36=$W$2,'LIVRET Compétences'!I36,\"\")","v":""},{"$f":"IF('LIVRET Compétences'!H36=$W$2,'LIVRET Compétences'!E36,\"\")","v":""},{"$f":"IF('LIVRET Compétences'!H36=$W$2,'LIVRET Compétences'!G36,\"\")","v":""},{"$f":"IF('LIVRET Compétences'!H36=$W$2,'LIVRET Compétences'!C36,\"\")","v":""}]
[null,null,null,null,null,null,null,null,null,null,null,null,null,null,{"$f":"IF('LIVRET Compétences'!H37=$O$2,'LIVRET Compétences'!I37,\"\")","v":""},{"$f":"IF('LIVRET Compétences'!H37=$O$2,'LIVRET Compétences'!E37,\"\")","v":""},{"$f":"IF('LIVRET Compétences'!H37=$O$2,'LIVRET Compétences'!G37,\"\")","v":""},{"$f":"IF('LIVRET Compétences'!H37=$O$2,'LIVRET Compétences'!C37,\"\")","v":""},{"$f":"IF('LIVRET Compétences'!H37=$S$2,'LIVRET Compétences'!I37,\"\")","v":""},{"$f":"IF('LIVRET Compétences'!H37=$S$2,'LIVRET Compétences'!E37,\"\")","v":""},{"$f":"IF('LIVRET Compétences'!H37=$S$2,'LIVRET Compétences'!G37,\"\")","v":""},{"$f":"IF('LIVRET Compétences'!H37=$S$2,'LIVRET Compétences'!C37,\"\")","v":""},{"$f":"IF('LIVRET Compétences'!H37=$W$2,'LIVRET Compétences'!I37,\"\")","v":""},{"$f":"IF('LIVRET Compétences'!H37=$W$2,'LIVRET Compétences'!E37,\"\")","v":""},{"$f":"IF('LIVRET Compétences'!H37=$W$2,'LIVRET Compétences'!G37,\"\")","v":""},{"$f":"IF('LIVRET Compétences'!H37=$W$2,'LIVRET Compétences'!C37,\"\")","v":""}]
[null,null,null,null,null,null,null,null,null,null,null,null,null,null,{"$f":"IF('LIVRET Compétences'!H38=$O$2,'LIVRET Compétences'!I38,\"\")","v":""},{"$f":"IF('LIVRET Compétences'!H38=$O$2,'LIVRET Compétences'!E38,\"\")","v":""},{"$f":"IF('LIVRET Compétences'!H38=$O$2,'LIVRET Compétences'!G38,\"\")","v":""},{"$f":"IF('LIVRET Compétences'!H38=$O$2,'LIVRET Compétences'!C38,\"\")","v":""},{"$f":"IF('LIVRET Compétences'!H38=$S$2,'LIVRET Compétences'!I38,\"\")","v":""},{"$f":"IF('LIVRET Compétences'!H38=$S$2,'LIVRET Compétences'!E38,\"\")","v":""},{"$f":"IF('LIVRET Compétences'!H38=$S$2,'LIVRET Compétences'!G38,\"\")","v":""},{"$f":"IF('LIVRET Compétences'!H38=$S$2,'LIVRET Compétences'!C38,\"\")","v":""},{"$f":"IF('LIVRET Compétences'!H38=$W$2,'LIVRET Compétences'!I38,\"\")","v":""},{"$f":"IF('LIVRET Compétences'!H38=$W$2,'LIVRET Compétences'!E38,\"\")","v":""},{"$f":"IF('LIVRET Compétences'!H38=$W$2,'LIVRET Compétences'!G38,\"\")","v":""},{"$f":"IF('LIVRET Compétences'!H38=$W$2,'LIVRET Compétences'!C38,\"\")","v":""}]
[null,null,null,null,null,null,null,null,null,null,null,null,null,null,{"$f":"IF('LIVRET Compétences'!H39=$O$2,'LIVRET Compétences'!I39,\"\")","v":""},{"$f":"IF('LIVRET Compétences'!H39=$O$2,'LIVRET Compétences'!E39,\"\")","v":""},{"$f":"IF('LIVRET Compétences'!H39=$O$2,'LIVRET Compétences'!G39,\"\")","v":""},{"$f":"IF('LIVRET Compétences'!H39=$O$2,'LIVRET Compétences'!C39,\"\")","v":""},{"$f":"IF('LIVRET Compétences'!H39=$S$2,'LIVRET Compétences'!I39,\"\")","v":""},{"$f":"IF('LIVRET Compétences'!H39=$S$2,'LIVRET Compétences'!E39,\"\")","v":""},{"$f":"IF('LIVRET Compétences'!H39=$S$2,'LIVRET Compétences'!G39,\"\")","v":""},{"$f":"IF('LIVRET Compétences'!H39=$S$2,'LIVRET Compétences'!C39,\"\")","v":""},{"$f":"IF('LIVRET Compétences'!H39=$W$2,'LIVRET Compétences'!I39,\"\")","v":""},{"$f":"IF('LIVRET Compétences'!H39=$W$2,'LIVRET Compétences'!E39,\"\")","v":""},{"$f":"IF('LIVRET Compétences'!H39=$W$2,'LIVRET Compétences'!G39,\"\")","v":""},{"$f":"IF('LIVRET Compétences'!H39=$W$2,'LIVRET Compétences'!C39,\"\")","v":""}]
[null,null,null,null,null,null,null,null,null,null,null,null,null,null,{"$f":"IF('LIVRET Compétences'!H40=$O$2,'LIVRET Compétences'!I40,\"\")","v":""},{"$f":"IF('LIVRET Compétences'!H40=$O$2,'LIVRET Compétences'!E40,\"\")","v":""},{"$f":"IF('LIVRET Compétences'!H40=$O$2,'LIVRET Compétences'!G40,\"\")","v":""},{"$f":"IF('LIVRET Compétences'!H40=$O$2,'LIVRET Compétences'!C40,\"\")","v":""},{"$f":"IF('LIVRET Compétences'!H40=$S$2,'LIVRET Compétences'!I40,\"\")","v":""},{"$f":"IF('LIVRET Compétences'!H40=$S$2,'LIVRET Compétences'!E40,\"\")","v":""},{"$f":"IF('LIVRET Compétences'!H40=$S$2,'LIVRET Compétences'!G40,\"\")","v":""},{"$f":"IF('LIVRET Compétences'!H40=$S$2,'LIVRET Compétences'!C40,\"\")","v":""},{"$f":"IF('LIVRET Compétences'!H40=$W$2,'LIVRET Compétences'!I40,\"\")","v":""},{"$f":"IF('LIVRET Compétences'!H40=$W$2,'LIVRET Compétences'!E40,\"\")","v":""},{"$f":"IF('LIVRET Compétences'!H40=$W$2,'LIVRET Compétences'!G40,\"\")","v":""},{"$f":"IF('LIVRET Compétences'!H40=$W$2,'LIVRET Compétences'!C40,\"\")","v":""}]
[null,null,null,null,null,null,null,null,null,null,null,null,null,null,{"$f":"IF('LIVRET Compétences'!H41=$O$2,'LIVRET Compétences'!I41,\"\")","v":""},{"$f":"IF('LIVRET Compétences'!H41=$O$2,'LIVRET Compétences'!E41,\"\")","v":""},{"$f":"IF('LIVRET Compétences'!H41=$O$2,'LIVRET Compétences'!G41,\"\")","v":""},{"$f":"IF('LIVRET Compétences'!H41=$O$2,'LIVRET Compétences'!C41,\"\")","v":""},{"$f":"IF('LIVRET Compétences'!H41=$S$2,'LIVRET Compétences'!I41,\"\")","v":""},{"$f":"IF('LIVRET Compétences'!H41=$S$2,'LIVRET Compétences'!E41,\"\")","v":""},{"$f":"IF('LIVRET Compétences'!H41=$S$2,'LIVRET Compétences'!G41,\"\")","v":""},{"$f":"IF('LIVRET Compétences'!H41=$S$2,'LIVRET Compétences'!C41,\"\")","v":""},{"$f":"IF('LIVRET Compétences'!H41=$W$2,'LIVRET Compétences'!I41,\"\")","v":""},{"$f":"IF('LIVRET Compétences'!H41=$W$2,'LIVRET Compétences'!E41,\"\")","v":""},{"$f":"IF('LIVRET Compétences'!H41=$W$2,'LIVRET Compétences'!G41,\"\")","v":""},{"$f":"IF('LIVRET Compétences'!H41=$W$2,'LIVRET Compétences'!C41,\"\")","v":""}]
[null,null,null,null,null,null,null,null,null,null,null,null,null,null,{"$f":"IF('LIVRET Compétences'!H42=$O$2,'LIVRET Compétences'!I42,\"\")","v":""},{"$f":"IF('LIVRET Compétences'!H42=$O$2,'LIVRET Compétences'!E42,\"\")","v":""},{"$f":"IF('LIVRET Compétences'!H42=$O$2,'LIVRET Compétences'!G42,\"\")","v":""},{"$f":"IF('LIVRET Compétences'!H42=$O$2,'LIVRET Compétences'!C42,\"\")","v":""},{"$f":"IF('LIVRET Compétences'!H42=$S$2,'LIVRET Compétences'!I42,\"\")","v":""},{"$f":"IF('LIVRET Compétences'!H42=$S$2,'LIVRET Compétences'!E42,\"\")","v":""},{"$f":"IF('LIVRET Compétences'!H42=$S$2,'LIVRET Compétences'!G42,\"\")","v":""},{"$f":"IF('LIVRET Compétences'!H42=$S$2,'LIVRET Compétences'!C42,\"\")","v":""},{"$f":"IF('LIVRET Compétences'!H42=$W$2,'LIVRET Compétences'!I42,\"\")","v":""},{"$f":"IF('LIVRET Compétences'!H42=$W$2,'LIVRET Compétences'!E42,\"\")","v":""},{"$f":"IF('LIVRET Compétences'!H42=$W$2,'LIVRET Compétences'!G42,\"\")","v":""},{"$f":"IF('LIVRET Compétences'!H42=$W$2,'LIVRET Compétences'!C42,\"\")","v":""}]
[null,null,null,null,null,null,null,null,"ELEMENTS PRIORITAIRES CA1",null,null,null,null,null,{"$f":"IF('LIVRET Compétences'!H43=$O$2,'LIVRET Compétences'!I43,\"\")","v":""},{"$f":"IF('LIVRET Compétences'!H43=$O$2,'LIVRET Compétences'!E43,\"\")","v":""},{"$f":"IF('LIVRET Compétences'!H43=$O$2,'LIVRET Compétences'!G43,\"\")","v":""},{"$f":"IF('LIVRET Compétences'!H43=$O$2,'LIVRET Compétences'!C43,\"\")","v":""},{"$f":"IF('LIVRET Compétences'!H43=$S$2,'LIVRET Compétences'!I43,\"\")","v":""},{"$f":"IF('LIVRET Compétences'!H43=$S$2,'LIVRET Compétences'!E43,\"\")","v":""},{"$f":"IF('LIVRET Compétences'!H43=$S$2,'LIVRET Compétences'!G43,\"\")","v":""},{"$f":"IF('LIVRET Compétences'!H43=$S$2,'LIVRET Compétences'!C43,\"\")","v":""},{"$f":"IF('LIVRET Compétences'!H43=$W$2,'LIVRET Compétences'!I43,\"\")","v":""},{"$f":"IF('LIVRET Compétences'!H43=$W$2,'LIVRET Compétences'!E43,\"\")","v":""},{"$f":"IF('LIVRET Compétences'!H43=$W$2,'LIVRET Compétences'!G43,\"\")","v":""},{"$f":"IF('LIVRET Compétences'!H43=$W$2,'LIVRET Compétences'!C43,\"\")","v":""}]
[null,null,null,null,null,null,null,"EP 1",{"$f":"Listes!F7","v":"Accroître son efficience motrice par l’acquisition de techniques efficaces et la coordination des actions"},null,null,null,null,null,{"$f":"IF('LIVRET Compétences'!H44=$O$2,'LIVRET Compétences'!I44,\"\")","v":""},{"$f":"IF('LIVRET Compétences'!H44=$O$2,'LIVRET Compétences'!E44,\"\")","v":""},{"$f":"IF('LIVRET Compétences'!H44=$O$2,'LIVRET Compétences'!G44,\"\")","v":""},{"$f":"IF('LIVRET Compétences'!H44=$O$2,'LIVRET Compétences'!C44,\"\")","v":""},{"$f":"IF('LIVRET Compétences'!H44=$S$2,'LIVRET Compétences'!I44,\"\")","v":""},{"$f":"IF('LIVRET Compétences'!H44=$S$2,'LIVRET Compétences'!E44,\"\")","v":""},{"$f":"IF('LIVRET Compétences'!H44=$S$2,'LIVRET Compétences'!G44,\"\")","v":""},{"$f":"IF('LIVRET Compétences'!H44=$S$2,'LIVRET Compétences'!C44,\"\")","v":""},{"$f":"IF('LIVRET Compétences'!H44=$W$2,'LIVRET Compétences'!I44,\"\")","v":""},{"$f":"IF('LIVRET Compétences'!H44=$W$2,'LIVRET Compétences'!E44,\"\")","v":""},{"$f":"IF('LIVRET Compétences'!H44=$W$2,'LIVRET Compétences'!G44,\"\")","v":""},{"$f":"IF('LIVRET Compétences'!H44=$W$2,'LIVRET Compétences'!C44,\"\")","v":""}]
[null,null,null,null,null,null,null,"EP 2",{"$f":"Listes!F8","v":"Identifier et utiliser des principes mécaniques et ses ressentis (musculaires, respiratoires, émotionnels, psychologiques...) pour transformer efficacement sa motricité"},null,null,null,null,null,{"$f":"IF('LIVRET Compétences'!H45=$O$2,'LIVRET Compétences'!I45,\"\")","v":""},{"$f":"IF('LIVRET Compétences'!H45=$O$2,'LIVRET Compétences'!E45,\"\")","v":""},{"$f":"IF('LIVRET Compétences'!H45=$O$2,'LIVRET Compétences'!G45,\"\")","v":""},{"$f":"IF('LIVRET Compétences'!H45=$O$2,'LIVRET Compétences'!C45,\"\")","v":""},{"$f":"IF('LIVRET Compétences'!H45=$S$2,'LIVRET Compétences'!I45,\"\")","v":""},{"$f":"IF('LIVRET Compétences'!H45=$S$2,'LIVRET Compétences'!E45,\"\")","v":""},{"$f":"IF('LIVRET Compétences'!H45=$S$2,'LIVRET Compétences'!G45,\"\")","v":""},{"$f":"IF('LIVRET Compétences'!H45=$S$2,'LIVRET Compétences'!C45,\"\")","v":""},{"$f":"IF('LIVRET Compétences'!H45=$W$2,'LIVRET Compétences'!I45,\"\")","v":""},{"$f":"IF('LIVRET Compétences'!H45=$W$2,'LIVRET Compétences'!E45,\"\")","v":""},{"$f":"IF('LIVRET Compétences'!H45=$W$2,'LIVRET Compétences'!G45,\"\")","v":""},{"$f":"IF('LIVRET Compétences'!H45=$W$2,'LIVRET Compétences'!C45,\"\")","v":""}]
[null,null,null,null,null,null,null,"EP 3",{"$f":"Listes!F9","v":"Reconnaître et interpréter des sensations corporelles, les relier avec des repères externes pour réguler son effort"},null,null,null,null,null,{"$f":"IF('LIVRET Compétences'!H46=$O$2,'LIVRET Compétences'!I46,\"\")","v":""},{"$f":"IF('LIVRET Compétences'!H46=$O$2,'LIVRET Compétences'!E46,\"\")","v":""},{"$f":"IF('LIVRET Compétences'!H46=$O$2,'LIVRET Compétences'!G46,\"\")","v":""},{"$f":"IF('LIVRET Compétences'!H46=$O$2,'LIVRET Compétences'!C46,\"\")","v":""},{"$f":"IF('LIVRET Compétences'!H46=$S$2,'LIVRET Compétences'!I46,\"\")","v":""},{"$f":"IF('LIVRET Compétences'!H46=$S$2,'LIVRET Compétences'!E46,\"\")","v":""},{"$f":"IF('LIVRET Compétences'!H46=$S$2,'LIVRET Compétences'!G46,\"\")","v":""},{"$f":"IF('LIVRET Compétences'!H46=$S$2,'LIVRET Compétences'!C46,\"\")","v":""},{"$f":"IF('LIVRET Compétences'!H46=$W$2,'LIVRET Compétences'!I46,\"\")","v":""},{"$f":"IF('LIVRET Compétences'!H46=$W$2,'LIVRET Compétences'!E46,\"\")","v":""},{"$f":"IF('LIVRET Compétences'!H46=$W$2,'LIVRET Compétences'!G46,\"\")","v":""},{"$f":"IF('LIVRET Compétences'!H46=$W$2,'LIVRET Compétences'!C46,\"\")","v":""}]
[null,null,null,null,null,null,null,"EP 4",{"$f":"Listes!F10","v":"Se préparer à un effort spécifique, récupérer"},null,null,null,null,null,{"$f":"IF('LIVRET Compétences'!H47=$O$2,'LIVRET Compétences'!I47,\"\")","v":""},{"$f":"IF('LIVRET Compétences'!H47=$O$2,'LIVRET Compétences'!E47,\"\")","v":""},{"$f":"IF('LIVRET Compétences'!H47=$O$2,'LIVRET Compétences'!G47,\"\")","v":""},{"$f":"IF('LIVRET Compétences'!H47=$O$2,'LIVRET Compétences'!C47,\"\")","v":""},{"$f":"IF('LIVRET Compétences'!H47=$S$2,'LIVRET Compétences'!I47,\"\")","v":""},{"$f":"IF('LIVRET Compétences'!H47=$S$2,'LIVRET Compétences'!E47,\"\")","v":""},{"$f":"IF('LIVRET Compétences'!H47=$S$2,'LIVRET Compétences'!G47,\"\")","v":""},{"$f":"IF('LIVRET Compétences'!H47=$S$2,'LIVRET Compétences'!C47,\"\")","v":""},{"$f":"IF('LIVRET Compétences'!H47=$W$2,'LIVRET Compétences'!I47,\"\")","v":""},{"$f":"IF('LIVRET Compétences'!H47=$W$2,'LIVRET Compétences'!E47,\"\")","v":""},{"$f":"IF('LIVRET Compétences'!H47=$W$2,'LIVRET Compétences'!G47,\"\")","v":""},{"$f":"IF('LIVRET Compétences'!H47=$W$2,'LIVRET Compétences'!C47,\"\")","v":""}]
[null,null,null,null,null,null,null,"EP 5",{"$f":"Listes!F11","v":"Répéter et persévérer pour améliorer l’efficacité de ses actions"},null,null,null,null,null,{"$f":"IF('LIVRET Compétences'!H48=$O$2,'LIVRET Compétences'!I48,\"\")","v":""},{"$f":"IF('LIVRET Compétences'!H48=$O$2,'LIVRET Compétences'!E48,\"\")","v":""},{"$f":"IF('LIVRET Compétences'!H48=$O$2,'LIVRET Compétences'!G48,\"\")","v":""},{"$f":"IF('LIVRET Compétences'!H48=$O$2,'LIVRET Compétences'!C48,\"\")","v":""},{"$f":"IF('LIVRET Compétences'!H48=$S$2,'LIVRET Compétences'!I48,\"\")","v":""},{"$f":"IF('LIVRET Compétences'!H48=$S$2,'LIVRET Compétences'!E48,\"\")","v":""},{"$f":"IF('LIVRET Compétences'!H48=$S$2,'LIVRET Compétences'!G48,\"\")","v":""},{"$f":"IF('LIVRET Compétences'!H48=$S$2,'LIVRET Compétences'!C48,\"\")","v":""},{"$f":"IF('LIVRET Compétences'!H48=$W$2,'LIVRET Compétences'!I48,\"\")","v":""},{"$f":"IF('LIVRET Compétences'!H48=$W$2,'LIVRET Compétences'!E48,\"\")","v":""},{"$f":"IF('LIVRET Compétences'!H48=$W$2,'LIVRET Compétences'!G48,\"\")","v":""},{"$f":"IF('LIVRET Compétences'!H48=$W$2,'LIVRET Compétences'!C48,\"\")","v":""}]
[null,null,null,null,null,null,null,"EP 6",{"$f":"Listes!F12","v":"Utiliser différents supports d’observation et d’analyse pour apprécier des prestations"},null,null,null,null,null,{"$f":"IF('LIVRET Compétences'!H49=$O$2,'LIVRET Compétences'!I49,\"\")","v":""},{"$f":"IF('LIVRET Compétences'!H49=$O$2,'LIVRET Compétences'!E49,\"\")","v":""},{"$f":"IF('LIVRET Compétences'!H49=$O$2,'LIVRET Compétences'!G49,\"\")","v":""},{"$f":"IF('LIVRET Compétences'!H49=$O$2,'LIVRET Compétences'!C49,\"\")","v":""},{"$f":"IF('LIVRET Compétences'!H49=$S$2,'LIVRET Compétences'!I49,\"\")","v":""},{"$f":"IF('LIVRET Compétences'!H49=$S$2,'LIVRET Compétences'!E49,\"\")","v":""},{"$f":"IF('LIVRET Compétences'!H49=$S$2,'LIVRET Compétences'!G49,\"\")","v":""},{"$f":"IF('LIVRET Compétences'!H49=$S$2,'LIVRET Compétences'!C49,\"\")","v":""},{"$f":"IF('LIVRET Compétences'!H49=$W$2,'LIVRET Compétences'!I49,\"\")","v":""},{"$f":"IF('LIVRET Compétences'!H49=$W$2,'LIVRET Compétences'!E49,\"\")","v":""},{"$f":"IF('LIVRET Compétences'!H49=$W$2,'LIVRET Compétences'!G49,\"\")","v":""},{"$f":"IF('LIVRET Compétences'!H49=$W$2,'LIVRET Compétences'!C49,\"\")","v":""}]
[null,null,null,null,null,null,null,"EP 7",{"$f":"Listes!F13","v":"Choisir, mettre en oeuvre et réguler un projet individuel et/ou collectif de performance"},null,null,null,null,null,{"$f":"IF('LIVRET Compétences'!H50=$O$2,'LIVRET Compétences'!I50,\"\")","v":""},{"$f":"IF('LIVRET Compétences'!H50=$O$2,'LIVRET Compétences'!E50,\"\")","v":""},{"$f":"IF('LIVRET Compétences'!H50=$O$2,'LIVRET Compétences'!G50,\"\")","v":""},{"$f":"IF('LIVRET Compétences'!H50=$O$2,'LIVRET Compétences'!C50,\"\")","v":""},{"$f":"IF('LIVRET Compétences'!H50=$S$2,'LIVRET Compétences'!I50,\"\")","v":""},{"$f":"IF('LIVRET Compétences'!H50=$S$2,'LIVRET Compétences'!E50,\"\")","v":""},{"$f":"IF('LIVRET Compétences'!H50=$S$2,'LIVRET Compétences'!G50,\"\")","v":""},{"$f":"IF('LIVRET Compétences'!H50=$S$2,'LIVRET Compétences'!C50,\"\")","v":""},{"$f":"IF('LIVRET Compétences'!H50=$W$2,'LIVRET Compétences'!I50,\"\")","v":""},{"$f":"IF('LIVRET Compétences'!H50=$W$2,'LIVRET Compétences'!E50,\"\")","v":""},{"$f":"IF('LIVRET Compétences'!H50=$W$2,'LIVRET Compétences'!G50,\"\")","v":""},{"$f":"IF('LIVRET Compétences'!H50=$W$2,'LIVRET Compétences'!C50,\"\")","v":""}]
[null,null,null,null,null,null,null,"EP 8",{"$f":"Listes!F14","v":"Assumer des rôles d’organisateur, de coach et d’entraîneur pour performer collectivement"},null,null,null,null,null,{"$f":"IF('LIVRET Compétences'!H51=$O$2,'LIVRET Compétences'!I51,\"\")","v":""},{"$f":"IF('LIVRET Compétences'!H51=$O$2,'LIVRET Compétences'!E51,\"\")","v":""},{"$f":"IF('LIVRET Compétences'!H51=$O$2,'LIVRET Compétences'!G51,\"\")","v":""},{"$f":"IF('LIVRET Compétences'!H51=$O$2,'LIVRET Compétences'!C51,\"\")","v":""},{"$f":"IF('LIVRET Compétences'!H51=$S$2,'LIVRET Compétences'!I51,\"\")","v":""},{"$f":"IF('LIVRET Compétences'!H51=$S$2,'LIVRET Compétences'!E51,\"\")","v":""},{"$f":"IF('LIVRET Compétences'!H51=$S$2,'LIVRET Compétences'!G51,\"\")","v":""},{"$f":"IF('LIVRET Compétences'!H51=$S$2,'LIVRET Compétences'!C51,\"\")","v":""},{"$f":"IF('LIVRET Compétences'!H51=$W$2,'LIVRET Compétences'!I51,\"\")","v":""},{"$f":"IF('LIVRET Compétences'!H51=$W$2,'LIVRET Compétences'!E51,\"\")","v":""},{"$f":"IF('LIVRET Compétences'!H51=$W$2,'LIVRET Compétences'!G51,\"\")","v":""},{"$f":"IF('LIVRET Compétences'!H51=$W$2,'LIVRET Compétences'!C51,\"\")","v":""}]
[null,null,null,null,null,null,null,null,null,null,null,null,null,null,{"$f":"IF('LIVRET Compétences'!H52=$O$2,'LIVRET Compétences'!I52,\"\")","v":""},{"$f":"IF('LIVRET Compétences'!H52=$O$2,'LIVRET Compétences'!E52,\"\")","v":""},{"$f":"IF('LIVRET Compétences'!H52=$O$2,'LIVRET Compétences'!G52,\"\")","v":""},{"$f":"IF('LIVRET Compétences'!H52=$O$2,'LIVRET Compétences'!C52,\"\")","v":""},{"$f":"IF('LIVRET Compétences'!H52=$S$2,'LIVRET Compétences'!I52,\"\")","v":""},{"$f":"IF('LIVRET Compétences'!H52=$S$2,'LIVRET Compétences'!E52,\"\")","v":""},{"$f":"IF('LIVRET Compétences'!H52=$S$2,'LIVRET Compétences'!G52,\"\")","v":""},{"$f":"IF('LIVRET Compétences'!H52=$S$2,'LIVRET Compétences'!C52,\"\")","v":""},{"$f":"IF('LIVRET Compétences'!H52=$W$2,'LIVRET Compétences'!I52,\"\")","v":""},{"$f":"IF('LIVRET Compétences'!H52=$W$2,'LIVRET Compétences'!E52,\"\")","v":""},{"$f":"IF('LIVRET Compétences'!H52=$W$2,'LIVRET Compétences'!G52,\"\")","v":""},{"$f":"IF('LIVRET Compétences'!H52=$W$2,'LIVRET Compétences'!C52,\"\")","v":""}]
[null,null,null,null,null,null,null,null,"ELEMENTS PRIORITAIRES CA2",null,null,null,null,null,{"$f":"IF('LIVRET Compétences'!H53=$O$2,'LIVRET Compétences'!I53,\"\")","v":""},{"$f":"IF('LIVRET Compétences'!H53=$O$2,'LIVRET Compétences'!E53,\"\")","v":""},{"$f":"IF('LIVRET Compétences'!H53=$O$2,'LIVRET Compétences'!G53,\"\")","v":""},{"$f":"IF('LIVRET Compétences'!H53=$O$2,'LIVRET Compétences'!C53,\"\")","v":""},{"$f":"IF('LIVRET Compétences'!H53=$S$2,'LIVRET Compétences'!I53,\"\")","v":""},{"$f":"IF('LIVRET Compétences'!H53=$S$2,'LIVRET Compétences'!E53,\"\")","v":""},{"$f":"IF('LIVRET Compétences'!H53=$S$2,'LIVRET Compétences'!G53,\"\")","v":""},{"$f":"IF('LIVRET Compétences'!H53=$S$2,'LIVRET Compétences'!C53,\"\")","v":""},{"$f":"IF('LIVRET Compétences'!H53=$W$2,'LIVRET Compétences'!I53,\"\")","v":""},{"$f":"IF('LIVRET Compétences'!H53=$W$2,'LIVRET Compétences'!E53,\"\")","v":""},{"$f":"IF('LIVRET Compétences'!H53=$W$2,'LIVRET Compétences'!G53,\"\")","v":""},{"$f":"IF('LIVRET Compétences'!H53=$W$2,'LIVRET Compétences'!C53,\"\")","v":""}]
[null,null,null,null,null,null,null,"EP 1",{"$f":"Listes!M7","v":"Comprendre et mettre en oeuvre, seul et/ou à plusieurs, les principes et procédures d’une pratique qui garantit la sécurité de tous"},null,null,null,null,null,{"$f":"IF('LIVRET Compétences'!H54=$O$2,'LIVRET Compétences'!I54,\"\")","v":""},{"$f":"IF('LIVRET Compétences'!H54=$O$2,'LIVRET Compétences'!E54,\"\")","v":""},{"$f":"IF('LIVRET Compétences'!H54=$O$2,'LIVRET Compétences'!G54,\"\")","v":""},{"$f":"IF('LIVRET Compétences'!H54=$O$2,'LIVRET Compétences'!C54,\"\")","v":""},{"$f":"IF('LIVRET Compétences'!H54=$S$2,'LIVRET Compétences'!I54,\"\")","v":""},{"$f":"IF('LIVRET Compétences'!H54=$S$2,'LIVRET Compétences'!E54,\"\")","v":""},{"$f":"IF('LIVRET Compétences'!H54=$S$2,'LIVRET Compétences'!G54,\"\")","v":""},{"$f":"IF('LIVRET Compétences'!H54=$S$2,'LIVRET Compétences'!C54,\"\")","v":""},{"$f":"IF('LIVRET Compétences'!H54=$W$2,'LIVRET Compétences'!I54,\"\")","v":""},{"$f":"IF('LIVRET Compétences'!H54=$W$2,'LIVRET Compétences'!E54,\"\")","v":""},{"$f":"IF('LIVRET Compétences'!H54=$W$2,'LIVRET Compétences'!G54,\"\")","v":""},{"$f":"IF('LIVRET Compétences'!H54=$W$2,'LIVRET Compétences'!C54,\"\")","v":""}]
[null,null,null,null,null,null,null,"EP 2",{"$f":"Listes!M8","v":"Développer des appuis adaptés à l’itinéraire choisi et utiliser les principes mécaniques d’une motricité efficace"},null,null,null,null,null,{"$f":"IF('LIVRET Compétences'!H55=$O$2,'LIVRET Compétences'!I55,\"\")","v":""},{"$f":"IF('LIVRET Compétences'!H55=$O$2,'LIVRET Compétences'!E55,\"\")","v":""},{"$f":"IF('LIVRET Compétences'!H55=$O$2,'LIVRET Compétences'!G55,\"\")","v":""},{"$f":"IF('LIVRET Compétences'!H55=$O$2,'LIVRET Compétences'!C55,\"\")","v":""},{"$f":"IF('LIVRET Compétences'!H55=$S$2,'LIVRET Compétences'!I55,\"\")","v":""},{"$f":"IF('LIVRET Compétences'!H55=$S$2,'LIVRET Compétences'!E55,\"\")","v":""},{"$f":"IF('LIVRET Compétences'!H55=$S$2,'LIVRET Compétences'!G55,\"\")","v":""},{"$f":"IF('LIVRET Compétences'!H55=$S$2,'LIVRET Compétences'!C55,\"\")","v":""},{"$f":"IF('LIVRET Compétences'!H55=$W$2,'LIVRET Compétences'!I55,\"\")","v":""},{"$f":"IF('LIVRET Compétences'!H55=$W$2,'LIVRET Compétences'!E55,\"\")","v":""},{"$f":"IF('LIVRET Compétences'!H55=$W$2,'LIVRET Compétences'!G55,\"\")","v":""},{"$f":"IF('LIVRET Compétences'!H55=$W$2,'LIVRET Compétences'!C55,\"\")","v":""}]
[null,null,null,null,null,null,null,"EP 3",{"$f":"Listes!M9","v":"Gérer ses efforts en fonction des contraintes du milieu et de ses ressentis (musculaires, respiratoires, émotionnels, psychologiques…) pour réaliser les déplacements"},null,null,null,null,null,{"$f":"IF('LIVRET Compétences'!H56=$O$2,'LIVRET Compétences'!I56,\"\")","v":""},{"$f":"IF('LIVRET Compétences'!H56=$O$2,'LIVRET Compétences'!E56,\"\")","v":""},{"$f":"IF('LIVRET Compétences'!H56=$O$2,'LIVRET Compétences'!G56,\"\")","v":""},{"$f":"IF('LIVRET Compétences'!H56=$O$2,'LIVRET Compétences'!C56,\"\")","v":""},{"$f":"IF('LIVRET Compétences'!H56=$S$2,'LIVRET Compétences'!I56,\"\")","v":""},{"$f":"IF('LIVRET Compétences'!H56=$S$2,'LIVRET Compétences'!E56,\"\")","v":""},{"$f":"IF('LIVRET Compétences'!H56=$S$2,'LIVRET Compétences'!G56,\"\")","v":""},{"$f":"IF('LIVRET Compétences'!H56=$S$2,'LIVRET Compétences'!C56,\"\")","v":""},{"$f":"IF('LIVRET Compétences'!H56=$W$2,'LIVRET Compétences'!I56,\"\")","v":""},{"$f":"IF('LIVRET Compétences'!H56=$W$2,'LIVRET Compétences'!E56,\"\")","v":""},{"$f":"IF('LIVRET Compétences'!H56=$W$2,'LIVRET Compétences'!G56,\"\")","v":""},{"$f":"IF('LIVRET Compétences'!H56=$W$2,'LIVRET Compétences'!C56,\"\")","v":""}]
[null,null,null,null,null,null,null,"EP 4",{"$f":"Listes!M10","v":"Maintenir un engagement physique tout en restant lucide dans ses choix"},null,null,null,null,null,{"$f":"IF('LIVRET Compétences'!H57=$O$2,'LIVRET Compétences'!I57,\"\")","v":""},{"$f":"IF('LIVRET Compétences'!H57=$O$2,'LIVRET Compétences'!E57,\"\")","v":""},{"$f":"IF('LIVRET Compétences'!H57=$O$2,'LIVRET Compétences'!G57,\"\")","v":""},{"$f":"IF('LIVRET Compétences'!H57=$O$2,'LIVRET Compétences'!C57,\"\")","v":""},{"$f":"IF('LIVRET Compétences'!H57=$S$2,'LIVRET Compétences'!I57,\"\")","v":""},{"$f":"IF('LIVRET Compétences'!H57=$S$2,'LIVRET Compétences'!E57,\"\")","v":""},{"$f":"IF('LIVRET Compétences'!H57=$S$2,'LIVRET Compétences'!G57,\"\")","v":""},{"$f":"IF('LIVRET Compétences'!H57=$S$2,'LIVRET Compétences'!C57,\"\")","v":""},{"$f":"IF('LIVRET Compétences'!H57=$W$2,'LIVRET Compétences'!I57,\"\")","v":""},{"$f":"IF('LIVRET Compétences'!H57=$W$2,'LIVRET Compétences'!E57,\"\")","v":""},{"$f":"IF('LIVRET Compétences'!H57=$W$2,'LIVRET Compétences'!G57,\"\")","v":""},{"$f":"IF('LIVRET Compétences'!H57=$W$2,'LIVRET Compétences'!C57,\"\")","v":""}]
[null,null,null,null,null,null,null,"EP 5",{"$f":"Listes!M11","v":"Se préparer à un effort spécifique, récupérer"},null,null,null,null,null,{"$f":"IF('LIVRET Compétences'!H58=$O$2,'LIVRET Compétences'!I58,\"\")","v":""},{"$f":"IF('LIVRET Compétences'!H58=$O$2,'LIVRET Compétences'!E58,\"\")","v":""},{"$f":"IF('LIVRET Compétences'!H58=$O$2,'LIVRET Compétences'!G58,\"\")","v":""},{"$f":"IF('LIVRET Compétences'!H58=$O$2,'LIVRET Compétences'!C58,\"\")","v":""},{"$f":"IF('LIVRET Compétences'!H58=$S$2,'LIVRET Compétences'!I58,\"\")","v":""},{"$f":"IF('LIVRET Compétences'!H58=$S$2,'LIVRET Compétences'!E58,\"\")","v":""},{"$f":"IF('LIVRET Compétences'!H58=$S$2,'LIVRET Compétences'!G58,\"\")","v":""},{"$f":"IF('LIVRET Compétences'!H58=$S$2,'LIVRET Compétences'!C58,\"\")","v":""},{"$f":"IF('LIVRET Compétences'!H58=$W$2,'LIVRET Compétences'!I58,\"\")","v":""},{"$f":"IF('LIVRET Compétences'!H58=$W$2,'LIVRET Compétences'!E58,\"\")","v":""},{"$f":"IF('LIVRET Compétences'!H58=$W$2,'LIVRET Compétences'!G58,\"\")","v":""},{"$f":"IF('LIVRET Compétences'!H58=$W$2,'LIVRET Compétences'!C58,\"\")","v":""}]
[null,null,null,null,null,null,null,"EP 6",{"$f":"Listes!M12","v":"Choisir, mettre en oeuvre et réguler un projet de déplacement"},null,null,null,null,null,{"$f":"IF('LIVRET Compétences'!H59=$O$2,'LIVRET Compétences'!I59,\"\")","v":""},{"$f":"IF('LIVRET Compétences'!H59=$O$2,'LIVRET Compétences'!E59,\"\")","v":""},{"$f":"IF('LIVRET Compétences'!H59=$O$2,'LIVRET Compétences'!G59,\"\")","v":""},{"$f":"IF('LIVRET Compétences'!H59=$O$2,'LIVRET Compétences'!C59,\"\")","v":""},{"$f":"IF('LIVRET Compétences'!H59=$S$2,'LIVRET Compétences'!I59,\"\")","v":""},{"$f":"IF('LIVRET Compétences'!H59=$S$2,'LIVRET Compétences'!E59,\"\")","v":""},{"$f":"IF('LIVRET Compétences'!H59=$S$2,'LIVRET Compétences'!G59,\"\")","v":""},{"$f":"IF('LIVRET Compétences'!H59=$S$2,'LIVRET Compétences'!C59,\"\")","v":""},{"$f":"IF('LIVRET Compétences'!H59=$W$2,'LIVRET Compétences'!I59,\"\")","v":""},{"$f":"IF('LIVRET Compétences'!H59=$W$2,'LIVRET Compétences'!E59,\"\")","v":""},{"$f":"IF('LIVRET Compétences'!H59=$W$2,'LIVRET Compétences'!G59,\"\")","v":""},{"$f":"IF('LIVRET Compétences'!H59=$W$2,'LIVRET Compétences'!C59,\"\")","v":""}]
[null,null,null,null,null,null,null,"EP 7",{"$f":"Listes!M13","v":"Utiliser différents supports d’observation et d’analyse pour apprécier des prestations"},null,null,null,null,null,{"$f":"IF('LIVRET Compétences'!H60=$O$2,'LIVRET Compétences'!I60,\"\")","v":""},{"$f":"IF('LIVRET Compétences'!H60=$O$2,'LIVRET Compétences'!E60,\"\")","v":""},{"$f":"IF('LIVRET Compétences'!H60=$O$2,'LIVRET Compétences'!G60,\"\")","v":""},{"$f":"IF('LIVRET Compétences'!H60=$O$2,'LIVRET Compétences'!C60,\"\")","v":""},{"$f":"IF('LIVRET Compétences'!H60=$S$2,'LIVRET Compétences'!I60,\"\")","v":""},{"$f":"IF('LIVRET Compétences'!H60=$S$2,'LIVRET Compétences'!E60,\"\")","v":""},{"$f":"IF('LIVRET Compétences'!H60=$S$2,'LIVRET Compétences'!G60,\"\")","v":""},{"$f":"IF('LIVRET Compétences'!H60=$S$2,'LIVRET Compétences'!C60,\"\")","v":""},{"$f":"IF('LIVRET Compétences'!H60=$W$2,'LIVRET Compétences'!I60,\"\")","v":""},{"$f":"IF('LIVRET Compétences'!H60=$W$2,'LIVRET Compétences'!E60,\"\")","v":""},{"$f":"IF('LIVRET Compétences'!H60=$W$2,'LIVRET Compétences'!G60,\"\")","v":""},{"$f":"IF('LIVRET Compétences'!H60=$W$2,'LIVRET Compétences'!C60,\"\")","v":""}]
[null,null,null,null,null,null,null,"EP 8",{"$f":"Listes!M14","v":"Répéter et persévérer pour améliorer l’efficacité de ses actions"},null,null,null,null,null,{"$f":"IF('LIVRET Compétences'!H61=$O$2,'LIVRET Compétences'!I61,\"\")","v":""},{"$f":"IF('LIVRET Compétences'!H61=$O$2,'LIVRET Compétences'!E61,\"\")","v":""},{"$f":"IF('LIVRET Compétences'!H61=$O$2,'LIVRET Compétences'!G61,\"\")","v":""},{"$f":"IF('LIVRET Compétences'!H61=$O$2,'LIVRET Compétences'!C61,\"\")","v":""},{"$f":"IF('LIVRET Compétences'!H61=$S$2,'LIVRET Compétences'!I61,\"\")","v":""},{"$f":"IF('LIVRET Compétences'!H61=$S$2,'LIVRET Compétences'!E61,\"\")","v":""},{"$f":"IF('LIVRET Compétences'!H61=$S$2,'LIVRET Compétences'!G61,\"\")","v":""},{"$f":"IF('LIVRET Compétences'!H61=$S$2,'LIVRET Compétences'!C61,\"\")","v":""},{"$f":"IF('LIVRET Compétences'!H61=$W$2,'LIVRET Compétences'!I61,\"\")","v":""},{"$f":"IF('LIVRET Compétences'!H61=$W$2,'LIVRET Compétences'!E61,\"\")","v":""},{"$f":"IF('LIVRET Compétences'!H61=$W$2,'LIVRET Compétences'!G61,\"\")","v":""},{"$f":"IF('LIVRET Compétences'!H61=$W$2,'LIVRET Compétences'!C61,\"\")","v":""}]
[null,null,null,null,null,null,null,"EP 9",{"$f":"Listes!M15","v":"S’entraider pour donner confiance"},null,null,null,null,null,{"$f":"IF('LIVRET Compétences'!H62=$O$2,'LIVRET Compétences'!I62,\"\")","v":""},{"$f":"IF('LIVRET Compétences'!H62=$O$2,'LIVRET Compétences'!E62,\"\")","v":""},{"$f":"IF('LIVRET Compétences'!H62=$O$2,'LIVRET Compétences'!G62,\"\")","v":""},{"$f":"IF('LIVRET Compétences'!H62=$O$2,'LIVRET Compétences'!C62,\"\")","v":""},{"$f":"IF('LIVRET Compétences'!H62=$S$2,'LIVRET Compétences'!I62,\"\")","v":""},{"$f":"IF('LIVRET Compétences'!H62=$S$2,'LIVRET Compétences'!E62,\"\")","v":""},{"$f":"IF('LIVRET Compétences'!H62=$S$2,'LIVRET Compétences'!G62,\"\")","v":""},{"$f":"IF('LIVRET Compétences'!H62=$S$2,'LIVRET Compétences'!C62,\"\")","v":""},{"$f":"IF('LIVRET Compétences'!H62=$W$2,'LIVRET Compétences'!I62,\"\")","v":""},{"$f":"IF('LIVRET Compétences'!H62=$W$2,'LIVRET Compétences'!E62,\"\")","v":""},{"$f":"IF('LIVRET Compétences'!H62=$W$2,'LIVRET Compétences'!G62,\"\")","v":""},{"$f":"IF('LIVRET Compétences'!H62=$W$2,'LIVRET Compétences'!C62,\"\")","v":""}]
[null,null,null,null,null,null,null,"EP 10",{"$f":"Listes!M16","v":"Sélectionner et prendre en compte les informations utiles pour définir son itinéraire"},null,null,null,null,null,{"$f":"IF('LIVRET Compétences'!H63=$O$2,'LIVRET Compétences'!I63,\"\")","v":""},{"$f":"IF('LIVRET Compétences'!H63=$O$2,'LIVRET Compétences'!E63,\"\")","v":""},{"$f":"IF('LIVRET Compétences'!H63=$O$2,'LIVRET Compétences'!G63,\"\")","v":""},{"$f":"IF('LIVRET Compétences'!H63=$O$2,'LIVRET Compétences'!C63,\"\")","v":""},{"$f":"IF('LIVRET Compétences'!H63=$S$2,'LIVRET Compétences'!I63,\"\")","v":""},{"$f":"IF('LIVRET Compétences'!H63=$S$2,'LIVRET Compétences'!E63,\"\")","v":""},{"$f":"IF('LIVRET Compétences'!H63=$S$2,'LIVRET Compétences'!G63,\"\")","v":""},{"$f":"IF('LIVRET Compétences'!H63=$S$2,'LIVRET Compétences'!C63,\"\")","v":""},{"$f":"IF('LIVRET Compétences'!H63=$W$2,'LIVRET Compétences'!I63,\"\")","v":""},{"$f":"IF('LIVRET Compétences'!H63=$W$2,'LIVRET Compétences'!E63,\"\")","v":""},{"$f":"IF('LIVRET Compétences'!H63=$W$2,'LIVRET Compétences'!G63,\"\")","v":""},{"$f":"IF('LIVRET Compétences'!H63=$W$2,'LIVRET Compétences'!C63,\"\")","v":""}]
[null,null,null,null,null,null,null,null,null,null,null,null,null,null,{"$f":"IF('LIVRET Compétences'!H64=$O$2,'LIVRET Compétences'!I64,\"\")","v":""},{"$f":"IF('LIVRET Compétences'!H64=$O$2,'LIVRET Compétences'!E64,\"\")","v":""},{"$f":"IF('LIVRET Compétences'!H64=$O$2,'LIVRET Compétences'!G64,\"\")","v":""},{"$f":"IF('LIVRET Compétences'!H64=$O$2,'LIVRET Compétences'!C64,\"\")","v":""},{"$f":"IF('LIVRET Compétences'!H64=$S$2,'LIVRET Compétences'!I64,\"\")","v":""},{"$f":"IF('LIVRET Compétences'!H64=$S$2,'LIVRET Compétences'!E64,\"\")","v":""},{"$f":"IF('LIVRET Compétences'!H64=$S$2,'LIVRET Compétences'!G64,\"\")","v":""},{"$f":"IF('LIVRET Compétences'!H64=$S$2,'LIVRET Compétences'!C64,\"\")","v":""},{"$f":"IF('LIVRET Compétences'!H64=$W$2,'LIVRET Compétences'!I64,\"\")","v":""},{"$f":"IF('LIVRET Compétences'!H64=$W$2,'LIVRET Compétences'!E64,\"\")","v":""},{"$f":"IF('LIVRET Compétences'!H64=$W$2,'LIVRET Compétences'!G64,\"\")","v":""},{"$f":"IF('LIVRET Compétences'!H64=$W$2,'LIVRET Compétences'!C64,\"\")","v":""}]
[null,null,null,null,null,null,null,null,"ELEMENTS PRIORITAIRES CA3",null,null,null,null,null,{"$f":"IF('LIVRET Compétences'!H65=$O$2,'LIVRET Compétences'!I65,\"\")","v":""},{"$f":"IF('LIVRET Compétences'!H65=$O$2,'LIVRET Compétences'!E65,\"\")","v":""},{"$f":"IF('LIVRET Compétences'!H65=$O$2,'LIVRET Compétences'!G65,\"\")","v":""},{"$f":"IF('LIVRET Compétences'!H65=$O$2,'LIVRET Compétences'!C65,\"\")","v":""},{"$f":"IF('LIVRET Compétences'!H65=$S$2,'LIVRET Compétences'!I65,\"\")","v":""},{"$f":"IF('LIVRET Compétences'!H65=$S$2,'LIVRET Compétences'!E65,\"\")","v":""},{"$f":"IF('LIVRET Compétences'!H65=$S$2,'LIVRET Compétences'!G65,\"\")","v":""},{"$f":"IF('LIVRET Compétences'!H65=$S$2,'LIVRET Compétences'!C65,\"\")","v":""},{"$f":"IF('LIVRET Compétences'!H65=$W$2,'LIVRET Compétences'!I65,\"\")","v":""},{"$f":"IF('LIVRET Compétences'!H65=$W$2,'LIVRET Compétences'!E65,\"\")","v":""},{"$f":"IF('LIVRET Compétences'!H65=$W$2,'LIVRET Compétences'!G65,\"\")","v":""},{"$f":"IF('LIVRET Compétences'!H65=$W$2,'LIVRET Compétences'!C65,\"\")","v":""}]
[null,null,null,null,null,null,null,"EP 1",{"$f":"Listes!U7","v":"Développer et enrichir une motricité expressive à l’aide de divers paramètres (espace, temps, énergie) pour provoquer une émotion"},null,null,null,null,null,{"$f":"IF('LIVRET Compétences'!H66=$O$2,'LIVRET Compétences'!I66,\"\")","v":""},{"$f":"IF('LIVRET Compétences'!H66=$O$2,'LIVRET Compétences'!E66,\"\")","v":""},{"$f":"IF('LIVRET Compétences'!H66=$O$2,'LIVRET Compétences'!G66,\"\")","v":""},{"$f":"IF('LIVRET Compétences'!H66=$O$2,'LIVRET Compétences'!C66,\"\")","v":""},{"$f":"IF('LIVRET Compétences'!H66=$S$2,'LIVRET Compétences'!I66,\"\")","v":""},{"$f":"IF('LIVRET Compétences'!H66=$S$2,'LIVRET Compétences'!E66,\"\")","v":""},{"$f":"IF('LIVRET Compétences'!H66=$S$2,'LIVRET Compétences'!G66,\"\")","v":""},{"$f":"IF('LIVRET Compétences'!H66=$S$2,'LIVRET Compétences'!C66,\"\")","v":""},{"$f":"IF('LIVRET Compétences'!H66=$W$2,'LIVRET Compétences'!I66,\"\")","v":""},{"$f":"IF('LIVRET Compétences'!H66=$W$2,'LIVRET Compétences'!E66,\"\")","v":""},{"$f":"IF('LIVRET Compétences'!H66=$W$2,'LIVRET Compétences'!G66,\"\")","v":""},{"$f":"IF('LIVRET Compétences'!H66=$W$2,'LIVRET Compétences'!C66,\"\")","v":""}]
[null,null,null,null,null,null,null,"EP 2",{"$f":"Listes!U8","v":"Explorer et choisir des procédés de composition au service de la relation avec ses partenaires"},null,null,null,null,null,{"$f":"IF('LIVRET Compétences'!H67=$O$2,'LIVRET Compétences'!I67,\"\")","v":""},{"$f":"IF('LIVRET Compétences'!H67=$O$2,'LIVRET Compétences'!E67,\"\")","v":""},{"$f":"IF('LIVRET Compétences'!H67=$O$2,'LIVRET Compétences'!G67,\"\")","v":""},{"$f":"IF('LIVRET Compétences'!H67=$O$2,'LIVRET Compétences'!C67,\"\")","v":""},{"$f":"IF('LIVRET Compétences'!H67=$S$2,'LIVRET Compétences'!I67,\"\")","v":""},{"$f":"IF('LIVRET Compétences'!H67=$S$2,'LIVRET Compétences'!E67,\"\")","v":""},{"$f":"IF('LIVRET Compétences'!H67=$S$2,'LIVRET Compétences'!G67,\"\")","v":""},{"$f":"IF('LIVRET Compétences'!H67=$S$2,'LIVRET Compétences'!C67,\"\")","v":""},{"$f":"IF('LIVRET Compétences'!H67=$W$2,'LIVRET Compétences'!I67,\"\")","v":""},{"$f":"IF('LIVRET Compétences'!H67=$W$2,'LIVRET Compétences'!E67,\"\")","v":""},{"$f":"IF('LIVRET Compétences'!H67=$W$2,'LIVRET Compétences'!G67,\"\")","v":""},{"$f":"IF('LIVRET Compétences'!H67=$W$2,'LIVRET Compétences'!C67,\"\")","v":""}]
[null,null,null,null,null,null,null,"EP 3",{"$f":"Listes!U9","v":"Assurer différents rôles (interprète, chorégraphe, spectateur, juge, voltigeur, pareur, porteur, meneur…)"},null,null,null,null,null,{"$f":"IF('LIVRET Compétences'!H68=$O$2,'LIVRET Compétences'!I68,\"\")","v":""},{"$f":"IF('LIVRET Compétences'!H68=$O$2,'LIVRET Compétences'!E68,\"\")","v":""},{"$f":"IF('LIVRET Compétences'!H68=$O$2,'LIVRET Compétences'!G68,\"\")","v":""},{"$f":"IF('LIVRET Compétences'!H68=$O$2,'LIVRET Compétences'!C68,\"\")","v":""},{"$f":"IF('LIVRET Compétences'!H68=$S$2,'LIVRET Compétences'!I68,\"\")","v":""},{"$f":"IF('LIVRET Compétences'!H68=$S$2,'LIVRET Compétences'!E68,\"\")","v":""},{"$f":"IF('LIVRET Compétences'!H68=$S$2,'LIVRET Compétences'!G68,\"\")","v":""},{"$f":"IF('LIVRET Compétences'!H68=$S$2,'LIVRET Compétences'!C68,\"\")","v":""},{"$f":"IF('LIVRET Compétences'!H68=$W$2,'LIVRET Compétences'!I68,\"\")","v":""},{"$f":"IF('LIVRET Compétences'!H68=$W$2,'LIVRET Compétences'!E68,\"\")","v":""},{"$f":"IF('LIVRET Compétences'!H68=$W$2,'LIVRET Compétences'!G68,\"\")","v":""},{"$f":"IF('LIVRET Compétences'!H68=$W$2,'LIVRET Compétences'!C68,\"\")","v":""}]
[null,null,null,null,null,null,null,"EP 4",{"$f":"Listes!U10","v":"Gérer la prise de risque dans le choix de ses actions"},null,null,null,null,null,{"$f":"IF('LIVRET Compétences'!H69=$O$2,'LIVRET Compétences'!I69,\"\")","v":""},{"$f":"IF('LIVRET Compétences'!H69=$O$2,'LIVRET Compétences'!E69,\"\")","v":""},{"$f":"IF('LIVRET Compétences'!H69=$O$2,'LIVRET Compétences'!G69,\"\")","v":""},{"$f":"IF('LIVRET Compétences'!H69=$O$2,'LIVRET Compétences'!C69,\"\")","v":""},{"$f":"IF('LIVRET Compétences'!H69=$S$2,'LIVRET Compétences'!I69,\"\")","v":""},{"$f":"IF('LIVRET Compétences'!H69=$S$2,'LIVRET Compétences'!E69,\"\")","v":""},{"$f":"IF('LIVRET Compétences'!H69=$S$2,'LIVRET Compétences'!G69,\"\")","v":""},{"$f":"IF('LIVRET Compétences'!H69=$S$2,'LIVRET Compétences'!C69,\"\")","v":""},{"$f":"IF('LIVRET Compétences'!H69=$W$2,'LIVRET Compétences'!I69,\"\")","v":""},{"$f":"IF('LIVRET Compétences'!H69=$W$2,'LIVRET Compétences'!E69,\"\")","v":""},{"$f":"IF('LIVRET Compétences'!H69=$W$2,'LIVRET Compétences'!G69,\"\")","v":""},{"$f":"IF('LIVRET Compétences'!H69=$W$2,'LIVRET Compétences'!C69,\"\")","v":""}]
[null,null,null,null,null,null,null,"EP 5",{"$f":"Listes!U11","v":"Choisir, mettre en oeuvre et réguler, seul et à plusieurs, un projet de composition ou d’enchaînement"},null,null,null,null,null,{"$f":"IF('LIVRET Compétences'!H70=$O$2,'LIVRET Compétences'!I70,\"\")","v":""},{"$f":"IF('LIVRET Compétences'!H70=$O$2,'LIVRET Compétences'!E70,\"\")","v":""},{"$f":"IF('LIVRET Compétences'!H70=$O$2,'LIVRET Compétences'!G70,\"\")","v":""},{"$f":"IF('LIVRET Compétences'!H70=$O$2,'LIVRET Compétences'!C70,\"\")","v":""},{"$f":"IF('LIVRET Compétences'!H70=$S$2,'LIVRET Compétences'!I70,\"\")","v":""},{"$f":"IF('LIVRET Compétences'!H70=$S$2,'LIVRET Compétences'!E70,\"\")","v":""},{"$f":"IF('LIVRET Compétences'!H70=$S$2,'LIVRET Compétences'!G70,\"\")","v":""},{"$f":"IF('LIVRET Compétences'!H70=$S$2,'LIVRET Compétences'!C70,\"\")","v":""},{"$f":"IF('LIVRET Compétences'!H70=$W$2,'LIVRET Compétences'!I70,\"\")","v":""},{"$f":"IF('LIVRET Compétences'!H70=$W$2,'LIVRET Compétences'!E70,\"\")","v":""},{"$f":"IF('LIVRET Compétences'!H70=$W$2,'LIVRET Compétences'!G70,\"\")","v":""},{"$f":"IF('LIVRET Compétences'!H70=$W$2,'LIVRET Compétences'!C70,\"\")","v":""}]
[null,null,null,null,null,null,null,"EP 6",{"$f":"Listes!U12","v":"Utiliser différents supports d’observation et d’analyse pour apprécier des prestations et définir des pistes d’amélioration"},null,null,null,null,null,{"$f":"IF('LIVRET Compétences'!H71=$O$2,'LIVRET Compétences'!I71,\"\")","v":""},{"$f":"IF('LIVRET Compétences'!H71=$O$2,'LIVRET Compétences'!E71,\"\")","v":""},{"$f":"IF('LIVRET Compétences'!H71=$O$2,'LIVRET Compétences'!G71,\"\")","v":""},{"$f":"IF('LIVRET Compétences'!H71=$O$2,'LIVRET Compétences'!C71,\"\")","v":""},{"$f":"IF('LIVRET Compétences'!H71=$S$2,'LIVRET Compétences'!I71,\"\")","v":""},{"$f":"IF('LIVRET Compétences'!H71=$S$2,'LIVRET Compétences'!E71,\"\")","v":""},{"$f":"IF('LIVRET Compétences'!H71=$S$2,'LIVRET Compétences'!G71,\"\")","v":""},{"$f":"IF('LIVRET Compétences'!H71=$S$2,'LIVRET Compétences'!C71,\"\")","v":""},{"$f":"IF('LIVRET Compétences'!H71=$W$2,'LIVRET Compétences'!I71,\"\")","v":""},{"$f":"IF('LIVRET Compétences'!H71=$W$2,'LIVRET Compétences'!E71,\"\")","v":""},{"$f":"IF('LIVRET Compétences'!H71=$W$2,'LIVRET Compétences'!G71,\"\")","v":""},{"$f":"IF('LIVRET Compétences'!H71=$W$2,'LIVRET Compétences'!C71,\"\")","v":""}]
[null,null,null,null,null,null,null,"EP 7",{"$f":"Listes!U13","v":"Se préparer, se concentrer pour se produire devant un public"},null,null,null,null,null,{"$f":"IF('LIVRET Compétences'!H72=$O$2,'LIVRET Compétences'!I72,\"\")","v":""},{"$f":"IF('LIVRET Compétences'!H72=$O$2,'LIVRET Compétences'!E72,\"\")","v":""},{"$f":"IF('LIVRET Compétences'!H72=$O$2,'LIVRET Compétences'!G72,\"\")","v":""},{"$f":"IF('LIVRET Compétences'!H72=$O$2,'LIVRET Compétences'!C72,\"\")","v":""},{"$f":"IF('LIVRET Compétences'!H72=$S$2,'LIVRET Compétences'!I72,\"\")","v":""},{"$f":"IF('LIVRET Compétences'!H72=$S$2,'LIVRET Compétences'!E72,\"\")","v":""},{"$f":"IF('LIVRET Compétences'!H72=$S$2,'LIVRET Compétences'!G72,\"\")","v":""},{"$f":"IF('LIVRET Compétences'!H72=$S$2,'LIVRET Compétences'!C72,\"\")","v":""},{"$f":"IF('LIVRET Compétences'!H72=$W$2,'LIVRET Compétences'!I72,\"\")","v":""},{"$f":"IF('LIVRET Compétences'!H72=$W$2,'LIVRET Compétences'!E72,\"\")","v":""},{"$f":"IF('LIVRET Compétences'!H72=$W$2,'LIVRET Compétences'!G72,\"\")","v":""},{"$f":"IF('LIVRET Compétences'!H72=$W$2,'LIVRET Compétences'!C72,\"\")","v":""}]
[null,null,null,null,null,null,null,"EP 8",{"$f":"Listes!U14","v":"Maîtriser la réalisation individuelle de sa prestation pour la mettre au service de la production collective"},null,null,null,null,null,{"$f":"IF('LIVRET Compétences'!H73=$O$2,'LIVRET Compétences'!I73,\"\")","v":""},{"$f":"IF('LIVRET Compétences'!H73=$O$2,'LIVRET Compétences'!E73,\"\")","v":""},{"$f":"IF('LIVRET Compétences'!H73=$O$2,'LIVRET Compétences'!G73,\"\")","v":""},{"$f":"IF('LIVRET Compétences'!H73=$O$2,'LIVRET Compétences'!C73,\"\")","v":""},{"$f":"IF('LIVRET Compétences'!H73=$S$2,'LIVRET Compétences'!I73,\"\")","v":""},{"$f":"IF('LIVRET Compétences'!H73=$S$2,'LIVRET Compétences'!E73,\"\")","v":""},{"$f":"IF('LIVRET Compétences'!H73=$S$2,'LIVRET Compétences'!G73,\"\")","v":""},{"$f":"IF('LIVRET Compétences'!H73=$S$2,'LIVRET Compétences'!C73,\"\")","v":""},{"$f":"IF('LIVRET Compétences'!H73=$W$2,'LIVRET Compétences'!I73,\"\")","v":""},{"$f":"IF('LIVRET Compétences'!H73=$W$2,'LIVRET Compétences'!E73,\"\")","v":""},{"$f":"IF('LIVRET Compétences'!H73=$W$2,'LIVRET Compétences'!G73,\"\")","v":""},{"$f":"IF('LIVRET Compétences'!H73=$W$2,'LIVRET Compétences'!C73,\"\")","v":""}]
[null,null,null,null,null,null,null,"EP 9",{"$f":"Listes!U15","v":"Répéter et persévérer pour améliorer l’efficacité de ses actions"},null,null,null,null,null,{"$f":"IF('LIVRET Compétences'!H74=$O$2,'LIVRET Compétences'!I74,\"\")","v":""},{"$f":"IF('LIVRET Compétences'!H74=$O$2,'LIVRET Compétences'!E74,\"\")","v":""},{"$f":"IF('LIVRET Compétences'!H74=$O$2,'LIVRET Compétences'!G74,\"\")","v":""},{"$f":"IF('LIVRET Compétences'!H74=$O$2,'LIVRET Compétences'!C74,\"\")","v":""},{"$f":"IF('LIVRET Compétences'!H74=$S$2,'LIVRET Compétences'!I74,\"\")","v":""},{"$f":"IF('LIVRET Compétences'!H74=$S$2,'LIVRET Compétences'!E74,\"\")","v":""},{"$f":"IF('LIVRET Compétences'!H74=$S$2,'LIVRET Compétences'!G74,\"\")","v":""},{"$f":"IF('LIVRET Compétences'!H74=$S$2,'LIVRET Compétences'!C74,\"\")","v":""},{"$f":"IF('LIVRET Compétences'!H74=$W$2,'LIVRET Compétences'!I74,\"\")","v":""},{"$f":"IF('LIVRET Compétences'!H74=$W$2,'LIVRET Compétences'!E74,\"\")","v":""},{"$f":"IF('LIVRET Compétences'!H74=$W$2,'LIVRET Compétences'!G74,\"\")","v":""},{"$f":"IF('LIVRET Compétences'!H74=$W$2,'LIVRET Compétences'!C74,\"\")","v":""}]
[null,null,null,null,null,null,null,null,null,null,null,null,null,null,{"$f":"IF('LIVRET Compétences'!H75=$O$2,'LIVRET Compétences'!I75,\"\")","v":""},{"$f":"IF('LIVRET Compétences'!H75=$O$2,'LIVRET Compétences'!E75,\"\")","v":""},{"$f":"IF('LIVRET Compétences'!H75=$O$2,'LIVRET Compétences'!G75,\"\")","v":""},{"$f":"IF('LIVRET Compétences'!H75=$O$2,'LIVRET Compétences'!C75,\"\")","v":""},{"$f":"IF('LIVRET Compétences'!H75=$S$2,'LIVRET Compétences'!I75,\"\")","v":""},{"$f":"IF('LIVRET Compétences'!H75=$S$2,'LIVRET Compétences'!E75,\"\")","v":""},{"$f":"IF('LIVRET Compétences'!H75=$S$2,'LIVRET Compétences'!G75,\"\")","v":""},{"$f":"IF('LIVRET Compétences'!H75=$S$2,'LIVRET Compétences'!C75,\"\")","v":""},{"$f":"IF('LIVRET Compétences'!H75=$W$2,'LIVRET Compétences'!I75,\"\")","v":""},{"$f":"IF('LIVRET Compétences'!H75=$W$2,'LIVRET Compétences'!E75,\"\")","v":""},{"$f":"IF('LIVRET Compétences'!H75=$W$2,'LIVRET Compétences'!G75,\"\")","v":""},{"$f":"IF('LIVRET Compétences'!H75=$W$2,'LIVRET Compétences'!C75,\"\")","v":""}]
[null,null,null,null,null,null,null,null,"ELEMENTS PRIORITAIRES CA4",null,null,null,null,null,{"$f":"IF('LIVRET Compétences'!H76=$O$2,'LIVRET Compétences'!I76,\"\")","v":""},{"$f":"IF('LIVRET Compétences'!H76=$O$2,'LIVRET Compétences'!E76,\"\")","v":""},{"$f":"IF('LIVRET Compétences'!H76=$O$2,'LIVRET Compétences'!G76,\"\")","v":""},{"$f":"IF('LIVRET Compétences'!H76=$O$2,'LIVRET Compétences'!C76,\"\")","v":""},{"$f":"IF('LIVRET Compétences'!H76=$S$2,'LIVRET Compétences'!I76,\"\")","v":""},{"$f":"IF('LIVRET Compétences'!H76=$S$2,'LIVRET Compétences'!E76,\"\")","v":""},{"$f":"IF('LIVRET Compétences'!H76=$S$2,'LIVRET Compétences'!G76,\"\")","v":""},{"$f":"IF('LIVRET Compétences'!H76=$S$2,'LIVRET Compétences'!C76,\"\")","v":""},{"$f":"IF('LIVRET Compétences'!H76=$W$2,'LIVRET Compétences'!I76,\"\")","v":""},{"$f":"IF('LIVRET Compétences'!H76=$W$2,'LIVRET Compétences'!E76,\"\")","v":""},{"$f":"IF('LIVRET Compétences'!H76=$W$2,'LIVRET Compétences'!G76,\"\")","v":""},{"$f":"IF('LIVRET Compétences'!H76=$W$2,'LIVRET Compétences'!C76,\"\")","v":""}]
[null,null,null,null,null,null,null,"EP 1",{"$f":"Listes!AB7","v":"Réaliser des actions techniques d’attaque et de défense en relation avec son projet et ses choix tactiques"},null,null,null,null,null,{"$f":"IF('LIVRET Compétences'!H77=$O$2,'LIVRET Compétences'!I77,\"\")","v":""},{"$f":"IF('LIVRET Compétences'!H77=$O$2,'LIVRET Compétences'!E77,\"\")","v":""},{"$f":"IF('LIVRET Compétences'!H77=$O$2,'LIVRET Compétences'!G77,\"\")","v":""},{"$f":"IF('LIVRET Compétences'!H77=$O$2,'LIVRET Compétences'!C77,\"\")","v":""},{"$f":"IF('LIVRET Compétences'!H77=$S$2,'LIVRET Compétences'!I77,\"\")","v":""},{"$f":"IF('LIVRET Compétences'!H77=$S$2,'LIVRET Compétences'!E77,\"\")","v":""},{"$f":"IF('LIVRET Compétences'!H77=$S$2,'LIVRET Compétences'!G77,\"\")","v":""},{"$f":"IF('LIVRET Compétences'!H77=$S$2,'LIVRET Compétences'!C77,\"\")","v":""},{"$f":"IF('LIVRET Compétences'!H77=$W$2,'LIVRET Compétences'!I77,\"\")","v":""},{"$f":"IF('LIVRET Compétences'!H77=$W$2,'LIVRET Compétences'!E77,\"\")","v":""},{"$f":"IF('LIVRET Compétences'!H77=$W$2,'LIVRET Compétences'!G77,\"\")","v":""},{"$f":"IF('LIVRET Compétences'!H77=$W$2,'LIVRET Compétences'!C77,\"\")","v":""}]
[null,null,null,null,null,null,null,"EP 2",{"$f":"Listes!AB8","v":"Identifier les forces et faiblesses de son adversaire pour définir, mettre en oeuvre et réguler un projet tactique"},null,null,null,null,null,{"$f":"IF('LIVRET Compétences'!H78=$O$2,'LIVRET Compétences'!I78,\"\")","v":""},{"$f":"IF('LIVRET Compétences'!H78=$O$2,'LIVRET Compétences'!E78,\"\")","v":""},{"$f":"IF('LIVRET Compétences'!H78=$O$2,'LIVRET Compétences'!G78,\"\")","v":""},{"$f":"IF('LIVRET Compétences'!H78=$O$2,'LIVRET Compétences'!C78,\"\")","v":""},{"$f":"IF('LIVRET Compétences'!H78=$S$2,'LIVRET Compétences'!I78,\"\")","v":""},{"$f":"IF('LIVRET Compétences'!H78=$S$2,'LIVRET Compétences'!E78,\"\")","v":""},{"$f":"IF('LIVRET Compétences'!H78=$S$2,'LIVRET Compétences'!G78,\"\")","v":""},{"$f":"IF('LIVRET Compétences'!H78=$S$2,'LIVRET Compétences'!C78,\"\")","v":""},{"$f":"IF('LIVRET Compétences'!H78=$W$2,'LIVRET Compétences'!I78,\"\")","v":""},{"$f":"IF('LIVRET Compétences'!H78=$W$2,'LIVRET Compétences'!E78,\"\")","v":""},{"$f":"IF('LIVRET Compétences'!H78=$W$2,'LIVRET Compétences'!G78,\"\")","v":""},{"$f":"IF('LIVRET Compétences'!H78=$W$2,'LIVRET Compétences'!C78,\"\")","v":""}]
[null,null,null,null,null,null,null,"EP 3",{"$f":"Listes!AB9","v":"Identifier l’évolution des caractéristiques du rapport de force pour adapter ses actions"},null,null,null,null,null,{"$f":"IF('LIVRET Compétences'!H79=$O$2,'LIVRET Compétences'!I79,\"\")","v":""},{"$f":"IF('LIVRET Compétences'!H79=$O$2,'LIVRET Compétences'!E79,\"\")","v":""},{"$f":"IF('LIVRET Compétences'!H79=$O$2,'LIVRET Compétences'!G79,\"\")","v":""},{"$f":"IF('LIVRET Compétences'!H79=$O$2,'LIVRET Compétences'!C79,\"\")","v":""},{"$f":"IF('LIVRET Compétences'!H79=$S$2,'LIVRET Compétences'!I79,\"\")","v":""},{"$f":"IF('LIVRET Compétences'!H79=$S$2,'LIVRET Compétences'!E79,\"\")","v":""},{"$f":"IF('LIVRET Compétences'!H79=$S$2,'LIVRET Compétences'!G79,\"\")","v":""},{"$f":"IF('LIVRET Compétences'!H79=$S$2,'LIVRET Compétences'!C79,\"\")","v":""},{"$f":"IF('LIVRET Compétences'!H79=$W$2,'LIVRET Compétences'!I79,\"\")","v":""},{"$f":"IF('LIVRET Compétences'!H79=$W$2,'LIVRET Compétences'!E79,\"\")","v":""},{"$f":"IF('LIVRET Compétences'!H79=$W$2,'LIVRET Compétences'!G79,\"\")","v":""},{"$f":"IF('LIVRET Compétences'!H79=$W$2,'LIVRET Compétences'!C79,\"\")","v":""}]
[null,null,null,null,null,null,null,"EP 4",{"$f":"Listes!AB10","v":"Adapter son engagement en fonction du rapport de force et de ses ressentis"},null,null,null,null,null,{"$f":"IF('LIVRET Compétences'!H80=$O$2,'LIVRET Compétences'!I80,\"\")","v":""},{"$f":"IF('LIVRET Compétences'!H80=$O$2,'LIVRET Compétences'!E80,\"\")","v":""},{"$f":"IF('LIVRET Compétences'!H80=$O$2,'LIVRET Compétences'!G80,\"\")","v":""},{"$f":"IF('LIVRET Compétences'!H80=$O$2,'LIVRET Compétences'!C80,\"\")","v":""},{"$f":"IF('LIVRET Compétences'!H80=$S$2,'LIVRET Compétences'!I80,\"\")","v":""},{"$f":"IF('LIVRET Compétences'!H80=$S$2,'LIVRET Compétences'!E80,\"\")","v":""},{"$f":"IF('LIVRET Compétences'!H80=$S$2,'LIVRET Compétences'!G80,\"\")","v":""},{"$f":"IF('LIVRET Compétences'!H80=$S$2,'LIVRET Compétences'!C80,\"\")","v":""},{"$f":"IF('LIVRET Compétences'!H80=$W$2,'LIVRET Compétences'!I80,\"\")","v":""},{"$f":"IF('LIVRET Compétences'!H80=$W$2,'LIVRET Compétences'!E80,\"\")","v":""},{"$f":"IF('LIVRET Compétences'!H80=$W$2,'LIVRET Compétences'!G80,\"\")","v":""},{"$f":"IF('LIVRET Compétences'!H80=$W$2,'LIVRET Compétences'!C80,\"\")","v":""}]
[null,null,null,null,null,null,null,"EP 5",{"$f":"Listes!AB11","v":"Répéter et persévérer pour améliorer l’efficacité de ses actions"},null,null,null,null,null,{"$f":"IF('LIVRET Compétences'!H81=$O$2,'LIVRET Compétences'!I81,\"\")","v":""},{"$f":"IF('LIVRET Compétences'!H81=$O$2,'LIVRET Compétences'!E81,\"\")","v":""},{"$f":"IF('LIVRET Compétences'!H81=$O$2,'LIVRET Compétences'!G81,\"\")","v":""},{"$f":"IF('LIVRET Compétences'!H81=$O$2,'LIVRET Compétences'!C81,\"\")","v":""},{"$f":"IF('LIVRET Compétences'!H81=$S$2,'LIVRET Compétences'!I81,\"\")","v":""},{"$f":"IF('LIVRET Compétences'!H81=$S$2,'LIVRET Compétences'!E81,\"\")","v":""},{"$f":"IF('LIVRET Compétences'!H81=$S$2,'LIVRET Compétences'!G81,\"\")","v":""},{"$f":"IF('LIVRET Compétences'!H81=$S$2,'LIVRET Compétences'!C81,\"\")","v":""},{"$f":"IF('LIVRET Compétences'!H81=$W$2,'LIVRET Compétences'!I81,\"\")","v":""},{"$f":"IF('LIVRET Compétences'!H81=$W$2,'LIVRET Compétences'!E81,\"\")","v":""},{"$f":"IF('LIVRET Compétences'!H81=$W$2,'LIVRET Compétences'!G81,\"\")","v":""},{"$f":"IF('LIVRET Compétences'!H81=$W$2,'LIVRET Compétences'!C81,\"\")","v":""}]
[null,null,null,null,null,null,null,"EP 6",{"$f":"Listes!AB12","v":"Utiliser différents supports d’observation et d’analyse pour apprécier des prestations et l’état du rapport de force entre deux équipes ou deux adversaires"},null,null,null,null,null,{"$f":"IF('LIVRET Compétences'!H82=$O$2,'LIVRET Compétences'!I82,\"\")","v":""},{"$f":"IF('LIVRET Compétences'!H82=$O$2,'LIVRET Compétences'!E82,\"\")","v":""},{"$f":"IF('LIVRET Compétences'!H82=$O$2,'LIVRET Compétences'!G82,\"\")","v":""},{"$f":"IF('LIVRET Compétences'!H82=$O$2,'LIVRET Compétences'!C82,\"\")","v":""},{"$f":"IF('LIVRET Compétences'!H82=$S$2,'LIVRET Compétences'!I82,\"\")","v":""},{"$f":"IF('LIVRET Compétences'!H82=$S$2,'LIVRET Compétences'!E82,\"\")","v":""},{"$f":"IF('LIVRET Compétences'!H82=$S$2,'LIVRET Compétences'!G82,\"\")","v":""},{"$f":"IF('LIVRET Compétences'!H82=$S$2,'LIVRET Compétences'!C82,\"\")","v":""},{"$f":"IF('LIVRET Compétences'!H82=$W$2,'LIVRET Compétences'!I82,\"\")","v":""},{"$f":"IF('LIVRET Compétences'!H82=$W$2,'LIVRET Compétences'!E82,\"\")","v":""},{"$f":"IF('LIVRET Compétences'!H82=$W$2,'LIVRET Compétences'!G82,\"\")","v":""},{"$f":"IF('LIVRET Compétences'!H82=$W$2,'LIVRET Compétences'!C82,\"\")","v":""}]
[null,null,null,null,null,null,null,"EP 7",{"$f":"Listes!AB13","v":"Accepter la défaite, gagner avec humilité"},null,null,null,null,null,{"$f":"IF('LIVRET Compétences'!H83=$O$2,'LIVRET Compétences'!I83,\"\")","v":""},{"$f":"IF('LIVRET Compétences'!H83=$O$2,'LIVRET Compétences'!E83,\"\")","v":""},{"$f":"IF('LIVRET Compétences'!H83=$O$2,'LIVRET Compétences'!G83,\"\")","v":""},{"$f":"IF('LIVRET Compétences'!H83=$O$2,'LIVRET Compétences'!C83,\"\")","v":""},{"$f":"IF('LIVRET Compétences'!H83=$S$2,'LIVRET Compétences'!I83,\"\")","v":""},{"$f":"IF('LIVRET Compétences'!H83=$S$2,'LIVRET Compétences'!E83,\"\")","v":""},{"$f":"IF('LIVRET Compétences'!H83=$S$2,'LIVRET Compétences'!G83,\"\")","v":""},{"$f":"IF('LIVRET Compétences'!H83=$S$2,'LIVRET Compétences'!C83,\"\")","v":""},{"$f":"IF('LIVRET Compétences'!H83=$W$2,'LIVRET Compétences'!I83,\"\")","v":""},{"$f":"IF('LIVRET Compétences'!H83=$W$2,'LIVRET Compétences'!E83,\"\")","v":""},{"$f":"IF('LIVRET Compétences'!H83=$W$2,'LIVRET Compétences'!G83,\"\")","v":""},{"$f":"IF('LIVRET Compétences'!H83=$W$2,'LIVRET Compétences'!C83,\"\")","v":""}]
[null,null,null,null,null,null,null,"EP 8",{"$f":"Listes!AB14","v":"Etre solidaire de ses partenaires"},null,null,null,null,null,{"$f":"IF('LIVRET Compétences'!H84=$O$2,'LIVRET Compétences'!I84,\"\")","v":""},{"$f":"IF('LIVRET Compétences'!H84=$O$2,'LIVRET Compétences'!E84,\"\")","v":""},{"$f":"IF('LIVRET Compétences'!H84=$O$2,'LIVRET Compétences'!G84,\"\")","v":""},{"$f":"IF('LIVRET Compétences'!H84=$O$2,'LIVRET Compétences'!C84,\"\")","v":""},{"$f":"IF('LIVRET Compétences'!H84=$S$2,'LIVRET Compétences'!I84,\"\")","v":""},{"$f":"IF('LIVRET Compétences'!H84=$S$2,'LIVRET Compétences'!E84,\"\")","v":""},{"$f":"IF('LIVRET Compétences'!H84=$S$2,'LIVRET Compétences'!G84,\"\")","v":""},{"$f":"IF('LIVRET Compétences'!H84=$S$2,'LIVRET Compétences'!C84,\"\")","v":""},{"$f":"IF('LIVRET Compétences'!H84=$W$2,'LIVRET Compétences'!I84,\"\")","v":""},{"$f":"IF('LIVRET Compétences'!H84=$W$2,'LIVRET Compétences'!E84,\"\")","v":""},{"$f":"IF('LIVRET Compétences'!H84=$W$2,'LIVRET Compétences'!G84,\"\")","v":""},{"$f":"IF('LIVRET Compétences'!H84=$W$2,'LIVRET Compétences'!C84,\"\")","v":""}]
[null,null,null,null,null,null,null,"EP 9",{"$f":"Listes!AB15","v":"Assurer différents rôles (partenaire, adversaire, arbitre, coach, observateur)"},null,null,null,null,null,{"$f":"IF('LIVRET Compétences'!H85=$O$2,'LIVRET Compétences'!I85,\"\")","v":""},{"$f":"IF('LIVRET Compétences'!H85=$O$2,'LIVRET Compétences'!E85,\"\")","v":""},{"$f":"IF('LIVRET Compétences'!H85=$O$2,'LIVRET Compétences'!G85,\"\")","v":""},{"$f":"IF('LIVRET Compétences'!H85=$O$2,'LIVRET Compétences'!C85,\"\")","v":""},{"$f":"IF('LIVRET Compétences'!H85=$S$2,'LIVRET Compétences'!I85,\"\")","v":""},{"$f":"IF('LIVRET Compétences'!H85=$S$2,'LIVRET Compétences'!E85,\"\")","v":""},{"$f":"IF('LIVRET Compétences'!H85=$S$2,'LIVRET Compétences'!G85,\"\")","v":""},{"$f":"IF('LIVRET Compétences'!H85=$S$2,'LIVRET Compétences'!C85,\"\")","v":""},{"$f":"IF('LIVRET Compétences'!H85=$W$2,'LIVRET Compétences'!I85,\"\")","v":""},{"$f":"IF('LIVRET Compétences'!H85=$W$2,'LIVRET Compétences'!E85,\"\")","v":""},{"$f":"IF('LIVRET Compétences'!H85=$W$2,'LIVRET Compétences'!G85,\"\")","v":""},{"$f":"IF('LIVRET Compétences'!H85=$W$2,'LIVRET Compétences'!C85,\"\")","v":""}]
[null,null,null,null,null,null,null,"EP 10",{"$f":"Listes!AB16","v":"Connaître, respecter et faire respecter les règles"},null,null,null,null,null,{"$f":"IF('LIVRET Compétences'!H86=$O$2,'LIVRET Compétences'!I86,\"\")","v":""},{"$f":"IF('LIVRET Compétences'!H86=$O$2,'LIVRET Compétences'!E86,\"\")","v":""},{"$f":"IF('LIVRET Compétences'!H86=$O$2,'LIVRET Compétences'!G86,\"\")","v":""},{"$f":"IF('LIVRET Compétences'!H86=$O$2,'LIVRET Compétences'!C86,\"\")","v":""},{"$f":"IF('LIVRET Compétences'!H86=$S$2,'LIVRET Compétences'!I86,\"\")","v":""},{"$f":"IF('LIVRET Compétences'!H86=$S$2,'LIVRET Compétences'!E86,\"\")","v":""},{"$f":"IF('LIVRET Compétences'!H86=$S$2,'LIVRET Compétences'!G86,\"\")","v":""},{"$f":"IF('LIVRET Compétences'!H86=$S$2,'LIVRET Compétences'!C86,\"\")","v":""},{"$f":"IF('LIVRET Compétences'!H86=$W$2,'LIVRET Compétences'!I86,\"\")","v":""},{"$f":"IF('LIVRET Compétences'!H86=$W$2,'LIVRET Compétences'!E86,\"\")","v":""},{"$f":"IF('LIVRET Compétences'!H86=$W$2,'LIVRET Compétences'!G86,\"\")","v":""},{"$f":"IF('LIVRET Compétences'!H86=$W$2,'LIVRET Compétences'!C86,\"\")","v":""}]
[null,null,null,null,null,null,null,null,null,null,null,null,null,null,{"$f":"IF('LIVRET Compétences'!H87=$O$2,'LIVRET Compétences'!I87,\"\")","v":""},{"$f":"IF('LIVRET Compétences'!H87=$O$2,'LIVRET Compétences'!E87,\"\")","v":""},{"$f":"IF('LIVRET Compétences'!H87=$O$2,'LIVRET Compétences'!G87,\"\")","v":""},{"$f":"IF('LIVRET Compétences'!H87=$O$2,'LIVRET Compétences'!C87,\"\")","v":""},{"$f":"IF('LIVRET Compétences'!H87=$S$2,'LIVRET Compétences'!I87,\"\")","v":""},{"$f":"IF('LIVRET Compétences'!H87=$S$2,'LIVRET Compétences'!E87,\"\")","v":""},{"$f":"IF('LIVRET Compétences'!H87=$S$2,'LIVRET Compétences'!G87,\"\")","v":""},{"$f":"IF('LIVRET Compétences'!H87=$S$2,'LIVRET Compétences'!C87,\"\")","v":""},{"$f":"IF('LIVRET Compétences'!H87=$W$2,'LIVRET Compétences'!I87,\"\")","v":""},{"$f":"IF('LIVRET Compétences'!H87=$W$2,'LIVRET Compétences'!E87,\"\")","v":""},{"$f":"IF('LIVRET Compétences'!H87=$W$2,'LIVRET Compétences'!G87,\"\")","v":""},{"$f":"IF('LIVRET Compétences'!H87=$W$2,'LIVRET Compétences'!C87,\"\")","v":""}]
[null,null,null,null,null,null,null,null,"ELEMENTS PRIORITAIRES CA5",null,null,null,null,null,{"$f":"IF('LIVRET Compétences'!H88=$O$2,'LIVRET Compétences'!I88,\"\")","v":""},{"$f":"IF('LIVRET Compétences'!H88=$O$2,'LIVRET Compétences'!E88,\"\")","v":""},{"$f":"IF('LIVRET Compétences'!H88=$O$2,'LIVRET Compétences'!G88,\"\")","v":""},{"$f":"IF('LIVRET Compétences'!H88=$O$2,'LIVRET Compétences'!C88,\"\")","v":""},{"$f":"IF('LIVRET Compétences'!H88=$S$2,'LIVRET Compétences'!I88,\"\")","v":""},{"$f":"IF('LIVRET Compétences'!H88=$S$2,'LIVRET Compétences'!E88,\"\")","v":""},{"$f":"IF('LIVRET Compétences'!H88=$S$2,'LIVRET Compétences'!G88,\"\")","v":""},{"$f":"IF('LIVRET Compétences'!H88=$S$2,'LIVRET Compétences'!C88,\"\")","v":""},{"$f":"IF('LIVRET Compétences'!H88=$W$2,'LIVRET Compétences'!I88,\"\")","v":""},{"$f":"IF('LIVRET Compétences'!H88=$W$2,'LIVRET Compétences'!E88,\"\")","v":""},{"$f":"IF('LIVRET Compétences'!H88=$W$2,'LIVRET Compétences'!G88,\"\")","v":""},{"$f":"IF('LIVRET Compétences'!H88=$W$2,'LIVRET Compétences'!C88,\"\")","v":""}]
[null,null,null,null,null,null,null,"EP 1",{"$f":"Listes!AI7","v":"Développer une motricité spécifique pour réaliser une séquence de travail dans le respect de son intégrité physique"},null,null,null,null,null,{"$f":"IF('LIVRET Compétences'!H89=$O$2,'LIVRET Compétences'!I89,\"\")","v":""},{"$f":"IF('LIVRET Compétences'!H89=$O$2,'LIVRET Compétences'!E89,\"\")","v":""},{"$f":"IF('LIVRET Compétences'!H89=$O$2,'LIVRET Compétences'!G89,\"\")","v":""},{"$f":"IF('LIVRET Compétences'!H89=$O$2,'LIVRET Compétences'!C89,\"\")","v":""},{"$f":"IF('LIVRET Compétences'!H89=$S$2,'LIVRET Compétences'!I89,\"\")","v":""},{"$f":"IF('LIVRET Compétences'!H89=$S$2,'LIVRET Compétences'!E89,\"\")","v":""},{"$f":"IF('LIVRET Compétences'!H89=$S$2,'LIVRET Compétences'!G89,\"\")","v":""},{"$f":"IF('LIVRET Compétences'!H89=$S$2,'LIVRET Compétences'!C89,\"\")","v":""},{"$f":"IF('LIVRET Compétences'!H89=$W$2,'LIVRET Compétences'!I89,\"\")","v":""},{"$f":"IF('LIVRET Compétences'!H89=$W$2,'LIVRET Compétences'!E89,\"\")","v":""},{"$f":"IF('LIVRET Compétences'!H89=$W$2,'LIVRET Compétences'!G89,\"\")","v":""},{"$f":"IF('LIVRET Compétences'!H89=$W$2,'LIVRET Compétences'!C89,\"\")","v":""}]
[null,null,null,null,null,null,null,"EP 2",{"$f":"Listes!AI8","v":"S'appuyer sur les connaissances relatives au corps humain et à l'effort physique pour définir un projet d'entraînement"},null,null,null,null,null,{"$f":"IF('LIVRET Compétences'!H90=$O$2,'LIVRET Compétences'!I90,\"\")","v":""},{"$f":"IF('LIVRET Compétences'!H90=$O$2,'LIVRET Compétences'!E90,\"\")","v":""},{"$f":"IF('LIVRET Compétences'!H90=$O$2,'LIVRET Compétences'!G90,\"\")","v":""},{"$f":"IF('LIVRET Compétences'!H90=$O$2,'LIVRET Compétences'!C90,\"\")","v":""},{"$f":"IF('LIVRET Compétences'!H90=$S$2,'LIVRET Compétences'!I90,\"\")","v":""},{"$f":"IF('LIVRET Compétences'!H90=$S$2,'LIVRET Compétences'!E90,\"\")","v":""},{"$f":"IF('LIVRET Compétences'!H90=$S$2,'LIVRET Compétences'!G90,\"\")","v":""},{"$f":"IF('LIVRET Compétences'!H90=$S$2,'LIVRET Compétences'!C90,\"\")","v":""},{"$f":"IF('LIVRET Compétences'!H90=$W$2,'LIVRET Compétences'!I90,\"\")","v":""},{"$f":"IF('LIVRET Compétences'!H90=$W$2,'LIVRET Compétences'!E90,\"\")","v":""},{"$f":"IF('LIVRET Compétences'!H90=$W$2,'LIVRET Compétences'!G90,\"\")","v":""},{"$f":"IF('LIVRET Compétences'!H90=$W$2,'LIVRET Compétences'!C90,\"\")","v":""}]
[null,null,null,null,null,null,null,"EP 3",{"$f":"Listes!AI9","v":"Connaître et moduler différents paramètres d’entraînement (intensité, durée, répétition, complexité, charges, récupération...) pour produire et identifier des effets immédiats en lien avec un projet personnel et un thème d’entraînement retenu"},null,null,null,null,null,{"$f":"IF('LIVRET Compétences'!H91=$O$2,'LIVRET Compétences'!I91,\"\")","v":""},{"$f":"IF('LIVRET Compétences'!H91=$O$2,'LIVRET Compétences'!E91,\"\")","v":""},{"$f":"IF('LIVRET Compétences'!H91=$O$2,'LIVRET Compétences'!G91,\"\")","v":""},{"$f":"IF('LIVRET Compétences'!H91=$O$2,'LIVRET Compétences'!C91,\"\")","v":""},{"$f":"IF('LIVRET Compétences'!H91=$S$2,'LIVRET Compétences'!I91,\"\")","v":""},{"$f":"IF('LIVRET Compétences'!H91=$S$2,'LIVRET Compétences'!E91,\"\")","v":""},{"$f":"IF('LIVRET Compétences'!H91=$S$2,'LIVRET Compétences'!G91,\"\")","v":""},{"$f":"IF('LIVRET Compétences'!H91=$S$2,'LIVRET Compétences'!C91,\"\")","v":""},{"$f":"IF('LIVRET Compétences'!H91=$W$2,'LIVRET Compétences'!I91,\"\")","v":""},{"$f":"IF('LIVRET Compétences'!H91=$W$2,'LIVRET Compétences'!E91,\"\")","v":""},{"$f":"IF('LIVRET Compétences'!H91=$W$2,'LIVRET Compétences'!G91,\"\")","v":""},{"$f":"IF('LIVRET Compétences'!H91=$W$2,'LIVRET Compétences'!C91,\"\")","v":""}]
[null,null,null,null,null,null,null,"EP 4",{"$f":"Listes!AI10","v":"Choisir quelques paramètres et utiliser ses ressentis (musculaires, respiratoires, émotionnels, psychologiques…) pour personnaliser et réguler une séquence de travail"},null,null,null,null,null,{"$f":"IF('LIVRET Compétences'!H92=$O$2,'LIVRET Compétences'!I92,\"\")","v":""},{"$f":"IF('LIVRET Compétences'!H92=$O$2,'LIVRET Compétences'!E92,\"\")","v":""},{"$f":"IF('LIVRET Compétences'!H92=$O$2,'LIVRET Compétences'!G92,\"\")","v":""},{"$f":"IF('LIVRET Compétences'!H92=$O$2,'LIVRET Compétences'!C92,\"\")","v":""},{"$f":"IF('LIVRET Compétences'!H92=$S$2,'LIVRET Compétences'!I92,\"\")","v":""},{"$f":"IF('LIVRET Compétences'!H92=$S$2,'LIVRET Compétences'!E92,\"\")","v":""},{"$f":"IF('LIVRET Compétences'!H92=$S$2,'LIVRET Compétences'!G92,\"\")","v":""},{"$f":"IF('LIVRET Compétences'!H92=$S$2,'LIVRET Compétences'!C92,\"\")","v":""},{"$f":"IF('LIVRET Compétences'!H92=$W$2,'LIVRET Compétences'!I92,\"\")","v":""},{"$f":"IF('LIVRET Compétences'!H92=$W$2,'LIVRET Compétences'!E92,\"\")","v":""},{"$f":"IF('LIVRET Compétences'!H92=$W$2,'LIVRET Compétences'!G92,\"\")","v":""},{"$f":"IF('LIVRET Compétences'!H92=$W$2,'LIVRET Compétences'!C92,\"\")","v":""}]
[null,null,null,null,null,null,null,"EP 5",{"$f":"Listes!AI11","v":"Se mettre en condition pour s’engager dans l’effort choisi et récupérer de celui-ci"},null,null,null,null,null,{"$f":"IF('LIVRET Compétences'!H93=$O$2,'LIVRET Compétences'!I93,\"\")","v":""},{"$f":"IF('LIVRET Compétences'!H93=$O$2,'LIVRET Compétences'!E93,\"\")","v":""},{"$f":"IF('LIVRET Compétences'!H93=$O$2,'LIVRET Compétences'!G93,\"\")","v":""},{"$f":"IF('LIVRET Compétences'!H93=$O$2,'LIVRET Compétences'!C93,\"\")","v":""},{"$f":"IF('LIVRET Compétences'!H93=$S$2,'LIVRET Compétences'!I93,\"\")","v":""},{"$f":"IF('LIVRET Compétences'!H93=$S$2,'LIVRET Compétences'!E93,\"\")","v":""},{"$f":"IF('LIVRET Compétences'!H93=$S$2,'LIVRET Compétences'!G93,\"\")","v":""},{"$f":"IF('LIVRET Compétences'!H93=$S$2,'LIVRET Compétences'!C93,\"\")","v":""},{"$f":"IF('LIVRET Compétences'!H93=$W$2,'LIVRET Compétences'!I93,\"\")","v":""},{"$f":"IF('LIVRET Compétences'!H93=$W$2,'LIVRET Compétences'!E93,\"\")","v":""},{"$f":"IF('LIVRET Compétences'!H93=$W$2,'LIVRET Compétences'!G93,\"\")","v":""},{"$f":"IF('LIVRET Compétences'!H93=$W$2,'LIVRET Compétences'!C93,\"\")","v":""}]
[null,null,null,null,null,null,null,"EP 6",{"$f":"Listes!AI12","v":"Choisir, réaliser et réguler un projet d’entraînement définissant les ressources à mobiliser, en lien avec les effets recherchés"},null,null,null,null,null,{"$f":"IF('LIVRET Compétences'!H94=$O$2,'LIVRET Compétences'!I94,\"\")","v":""},{"$f":"IF('LIVRET Compétences'!H94=$O$2,'LIVRET Compétences'!E94,\"\")","v":""},{"$f":"IF('LIVRET Compétences'!H94=$O$2,'LIVRET Compétences'!G94,\"\")","v":""},{"$f":"IF('LIVRET Compétences'!H94=$O$2,'LIVRET Compétences'!C94,\"\")","v":""},{"$f":"IF('LIVRET Compétences'!H94=$S$2,'LIVRET Compétences'!I94,\"\")","v":""},{"$f":"IF('LIVRET Compétences'!H94=$S$2,'LIVRET Compétences'!E94,\"\")","v":""},{"$f":"IF('LIVRET Compétences'!H94=$S$2,'LIVRET Compétences'!G94,\"\")","v":""},{"$f":"IF('LIVRET Compétences'!H94=$S$2,'LIVRET Compétences'!C94,\"\")","v":""},{"$f":"IF('LIVRET Compétences'!H94=$W$2,'LIVRET Compétences'!I94,\"\")","v":""},{"$f":"IF('LIVRET Compétences'!H94=$W$2,'LIVRET Compétences'!E94,\"\")","v":""},{"$f":"IF('LIVRET Compétences'!H94=$W$2,'LIVRET Compétences'!G94,\"\")","v":""},{"$f":"IF('LIVRET Compétences'!H94=$W$2,'LIVRET Compétences'!C94,\"\")","v":""}]
[null,null,null,null,null,null,null,"EP 7",{"$f":"Listes!AI13","v":"Répéter et persévérer pour améliorer l’efficacité de ses actions"},null,null,null,null,null,{"$f":"IF('LIVRET Compétences'!H95=$O$2,'LIVRET Compétences'!I95,\"\")","v":""},{"$f":"IF('LIVRET Compétences'!H95=$O$2,'LIVRET Compétences'!E95,\"\")","v":""},{"$f":"IF('LIVRET Compétences'!H95=$O$2,'LIVRET Compétences'!G95,\"\")","v":""},{"$f":"IF('LIVRET Compétences'!H95=$O$2,'LIVRET Compétences'!C95,\"\")","v":""},{"$f":"IF('LIVRET Compétences'!H95=$S$2,'LIVRET Compétences'!I95,\"\")","v":""},{"$f":"IF('LIVRET Compétences'!H95=$S$2,'LIVRET Compétences'!E95,\"\")","v":""},{"$f":"IF('LIVRET Compétences'!H95=$S$2,'LIVRET Compétences'!G95,\"\")","v":""},{"$f":"IF('LIVRET Compétences'!H95=$S$2,'LIVRET Compétences'!C95,\"\")","v":""},{"$f":"IF('LIVRET Compétences'!H95=$W$2,'LIVRET Compétences'!I95,\"\")","v":""},{"$f":"IF('LIVRET Compétences'!H95=$W$2,'LIVRET Compétences'!E95,\"\")","v":""},{"$f":"IF('LIVRET Compétences'!H95=$W$2,'LIVRET Compétences'!G95,\"\")","v":""},{"$f":"IF('LIVRET Compétences'!H95=$W$2,'LIVRET Compétences'!C95,\"\")","v":""}]
[null,null,null,null,null,null,null,"EP 8",{"$f":"Listes!AI14","v":"Assumer différents rôles sociaux (aide, parade, coach, observateur) liés à la pratique"},null,null,null,null,null,{"$f":"IF('LIVRET Compétences'!H96=$O$2,'LIVRET Compétences'!I96,\"\")","v":""},{"$f":"IF('LIVRET Compétences'!H96=$O$2,'LIVRET Compétences'!E96,\"\")","v":""},{"$f":"IF('LIVRET Compétences'!H96=$O$2,'LIVRET Compétences'!G96,\"\")","v":""},{"$f":"IF('LIVRET Compétences'!H96=$O$2,'LIVRET Compétences'!C96,\"\")","v":""},{"$f":"IF('LIVRET Compétences'!H96=$S$2,'LIVRET Compétences'!I96,\"\")","v":""},{"$f":"IF('LIVRET Compétences'!H96=$S$2,'LIVRET Compétences'!E96,\"\")","v":""},{"$f":"IF('LIVRET Compétences'!H96=$S$2,'LIVRET Compétences'!G96,\"\")","v":""},{"$f":"IF('LIVRET Compétences'!H96=$S$2,'LIVRET Compétences'!C96,\"\")","v":""},{"$f":"IF('LIVRET Compétences'!H96=$W$2,'LIVRET Compétences'!I96,\"\")","v":""},{"$f":"IF('LIVRET Compétences'!H96=$W$2,'LIVRET Compétences'!E96,\"\")","v":""},{"$f":"IF('LIVRET Compétences'!H96=$W$2,'LIVRET Compétences'!G96,\"\")","v":""},{"$f":"IF('LIVRET Compétences'!H96=$W$2,'LIVRET Compétences'!C96,\"\")","v":""}]
[null,null,null,null,null,null,null,"EP 9",{"$f":"Listes!AI15","v":"Utiliser un carnet d’entraînement afin de suivre et réguler son plan de travail"},null,null,null,null,null,{"$f":"IF('LIVRET Compétences'!H97=$O$2,'LIVRET Compétences'!I97,\"\")","v":""},{"$f":"IF('LIVRET Compétences'!H97=$O$2,'LIVRET Compétences'!E97,\"\")","v":""},{"$f":"IF('LIVRET Compétences'!H97=$O$2,'LIVRET Compétences'!G97,\"\")","v":""},{"$f":"IF('LIVRET Compétences'!H97=$O$2,'LIVRET Compétences'!C97,\"\")","v":""},{"$f":"IF('LIVRET Compétences'!H97=$S$2,'LIVRET Compétences'!I97,\"\")","v":""},{"$f":"IF('LIVRET Compétences'!H97=$S$2,'LIVRET Compétences'!E97,\"\")","v":""},{"$f":"IF('LIVRET Compétences'!H97=$S$2,'LIVRET Compétences'!G97,\"\")","v":""},{"$f":"IF('LIVRET Compétences'!H97=$S$2,'LIVRET Compétences'!C97,\"\")","v":""},{"$f":"IF('LIVRET Compétences'!H97=$W$2,'LIVRET Compétences'!I97,\"\")","v":""},{"$f":"IF('LIVRET Compétences'!H97=$W$2,'LIVRET Compétences'!E97,\"\")","v":""},{"$f":"IF('LIVRET Compétences'!H97=$W$2,'LIVRET Compétences'!G97,\"\")","v":""},{"$f":"IF('LIVRET Compétences'!H97=$W$2,'LIVRET Compétences'!C97,\"\")","v":""}]
[null,null,null,null,null,null,null,null,null,null,null,null,null,null,{"$f":"IF('LIVRET Compétences'!H98=$O$2,'LIVRET Compétences'!I98,\"\")","v":""},{"$f":"IF('LIVRET Compétences'!H98=$O$2,'LIVRET Compétences'!E98,\"\")","v":""},{"$f":"IF('LIVRET Compétences'!H98=$O$2,'LIVRET Compétences'!G98,\"\")","v":""},{"$f":"IF('LIVRET Compétences'!H98=$O$2,'LIVRET Compétences'!C98,\"\")","v":""},{"$f":"IF('LIVRET Compétences'!H98=$S$2,'LIVRET Compétences'!I98,\"\")","v":""},{"$f":"IF('LIVRET Compétences'!H98=$S$2,'LIVRET Compétences'!E98,\"\")","v":""},{"$f":"IF('LIVRET Compétences'!H98=$S$2,'LIVRET Compétences'!G98,\"\")","v":""},{"$f":"IF('LIVRET Compétences'!H98=$S$2,'LIVRET Compétences'!C98,\"\")","v":""},{"$f":"IF('LIVRET Compétences'!H98=$W$2,'LIVRET Compétences'!I98,\"\")","v":""},{"$f":"IF('LIVRET Compétences'!H98=$W$2,'LIVRET Compétences'!E98,\"\")","v":""},{"$f":"IF('LIVRET Compétences'!H98=$W$2,'LIVRET Compétences'!G98,\"\")","v":""},{"$f":"IF('LIVRET Compétences'!H98=$W$2,'LIVRET Compétences'!C98,\"\")","v":""}]
[null,null,null,null,null,null,null,null,null,null,null,null,null,null,{"$f":"IF('LIVRET Compétences'!H99=$O$2,'LIVRET Compétences'!I99,\"\")","v":""},{"$f":"IF('LIVRET Compétences'!H99=$O$2,'LIVRET Compétences'!E99,\"\")","v":""},{"$f":"IF('LIVRET Compétences'!H99=$O$2,'LIVRET Compétences'!G99,\"\")","v":""},{"$f":"IF('LIVRET Compétences'!H99=$O$2,'LIVRET Compétences'!C99,\"\")","v":""},{"$f":"IF('LIVRET Compétences'!H99=$S$2,'LIVRET Compétences'!I99,\"\")","v":""},{"$f":"IF('LIVRET Compétences'!H99=$S$2,'LIVRET Compétences'!E99,\"\")","v":""},{"$f":"IF('LIVRET Compétences'!H99=$S$2,'LIVRET Compétences'!G99,\"\")","v":""},{"$f":"IF('LIVRET Compétences'!H99=$S$2,'LIVRET Compétences'!C99,\"\")","v":""},{"$f":"IF('LIVRET Compétences'!H99=$W$2,'LIVRET Compétences'!I99,\"\")","v":""},{"$f":"IF('LIVRET Compétences'!H99=$W$2,'LIVRET Compétences'!E99,\"\")","v":""},{"$f":"IF('LIVRET Compétences'!H99=$W$2,'LIVRET Compétences'!G99,\"\")","v":""},{"$f":"IF('LIVRET Compétences'!H99=$W$2,'LIVRET Compétences'!C99,\"\")","v":""}]
[null,null,null,null,null,null,null,null,null,null,null,null,null,null,{"$f":"IF('LIVRET Compétences'!H100=$O$2,'LIVRET Compétences'!I100,\"\")","v":""},{"$f":"IF('LIVRET Compétences'!H100=$O$2,'LIVRET Compétences'!E100,\"\")","v":""},{"$f":"IF('LIVRET Compétences'!H100=$O$2,'LIVRET Compétences'!G100,\"\")","v":""},{"$f":"IF('LIVRET Compétences'!H100=$O$2,'LIVRET Compétences'!C100,\"\")","v":""},{"$f":"IF('LIVRET Compétences'!H100=$S$2,'LIVRET Compétences'!I100,\"\")","v":""},{"$f":"IF('LIVRET Compétences'!H100=$S$2,'LIVRET Compétences'!E100,\"\")","v":""},{"$f":"IF('LIVRET Compétences'!H100=$S$2,'LIVRET Compétences'!G100,\"\")","v":""},{"$f":"IF('LIVRET Compétences'!H100=$S$2,'LIVRET Compétences'!C100,\"\")","v":""},{"$f":"IF('LIVRET Compétences'!H100=$W$2,'LIVRET Compétences'!I100,\"\")","v":""},{"$f":"IF('LIVRET Compétences'!H100=$W$2,'LIVRET Compétences'!E100,\"\")","v":""},{"$f":"IF('LIVRET Compétences'!H100=$W$2,'LIVRET Compétences'!G100,\"\")","v":""},{"$f":"IF('LIVRET Compétences'!H100=$W$2,'LIVRET Compétences'!C100,\"\")","v":""}]
[null,null,null,null,null,null,null,null,null,null,null,null,null,null,{"$f":"IF('LIVRET Compétences'!H101=$O$2,'LIVRET Compétences'!I101,\"\")","v":""},{"$f":"IF('LIVRET Compétences'!H101=$O$2,'LIVRET Compétences'!E101,\"\")","v":""},{"$f":"IF('LIVRET Compétences'!H101=$O$2,'LIVRET Compétences'!G101,\"\")","v":""},{"$f":"IF('LIVRET Compétences'!H101=$O$2,'LIVRET Compétences'!C101,\"\")","v":""},{"$f":"IF('LIVRET Compétences'!H101=$S$2,'LIVRET Compétences'!I101,\"\")","v":""},{"$f":"IF('LIVRET Compétences'!H101=$S$2,'LIVRET Compétences'!E101,\"\")","v":""},{"$f":"IF('LIVRET Compétences'!H101=$S$2,'LIVRET Compétences'!G101,\"\")","v":""},{"$f":"IF('LIVRET Compétences'!H101=$S$2,'LIVRET Compétences'!C101,\"\")","v":""},{"$f":"IF('LIVRET Compétences'!H101=$W$2,'LIVRET Compétences'!I101,\"\")","v":""},{"$f":"IF('LIVRET Compétences'!H101=$W$2,'LIVRET Compétences'!E101,\"\")","v":""},{"$f":"IF('LIVRET Compétences'!H101=$W$2,'LIVRET Compétences'!G101,\"\")","v":""},{"$f":"IF('LIVRET Compétences'!H101=$W$2,'LIVRET Compétences'!C101,\"\")","v":""}]
[null,null,null,null,null,null,null,null,null,null,null,null,null,null,{"$f":"IF('LIVRET Compétences'!H102=$O$2,'LIVRET Compétences'!I102,\"\")","v":""},{"$f":"IF('LIVRET Compétences'!H102=$O$2,'LIVRET Compétences'!E102,\"\")","v":""},{"$f":"IF('LIVRET Compétences'!H102=$O$2,'LIVRET Compétences'!G102,\"\")","v":""},{"$f":"IF('LIVRET Compétences'!H102=$O$2,'LIVRET Compétences'!C102,\"\")","v":""},{"$f":"IF('LIVRET Compétences'!H102=$S$2,'LIVRET Compétences'!I102,\"\")","v":""},{"$f":"IF('LIVRET Compétences'!H102=$S$2,'LIVRET Compétences'!E102,\"\")","v":""},{"$f":"IF('LIVRET Compétences'!H102=$S$2,'LIVRET Compétences'!G102,\"\")","v":""},{"$f":"IF('LIVRET Compétences'!H102=$S$2,'LIVRET Compétences'!C102,\"\")","v":""},{"$f":"IF('LIVRET Compétences'!H102=$W$2,'LIVRET Compétences'!I102,\"\")","v":""},{"$f":"IF('LIVRET Compétences'!H102=$W$2,'LIVRET Compétences'!E102,\"\")","v":""},{"$f":"IF('LIVRET Compétences'!H102=$W$2,'LIVRET Compétences'!G102,\"\")","v":""},{"$f":"IF('LIVRET Compétences'!H102=$W$2,'LIVRET Compétences'!C102,\"\")","v":""}]
[null,null,null,null,null,null,null,null,null,null,null,null,null,null,{"$f":"IF('LIVRET Compétences'!H103=$O$2,'LIVRET Compétences'!I103,\"\")","v":""},{"$f":"IF('LIVRET Compétences'!H103=$O$2,'LIVRET Compétences'!E103,\"\")","v":""},{"$f":"IF('LIVRET Compétences'!H103=$O$2,'LIVRET Compétences'!G103,\"\")","v":""},{"$f":"IF('LIVRET Compétences'!H103=$O$2,'LIVRET Compétences'!C103,\"\")","v":""},{"$f":"IF('LIVRET Compétences'!H103=$S$2,'LIVRET Compétences'!I103,\"\")","v":""},{"$f":"IF('LIVRET Compétences'!H103=$S$2,'LIVRET Compétences'!E103,\"\")","v":""},{"$f":"IF('LIVRET Compétences'!H103=$S$2,'LIVRET Compétences'!G103,\"\")","v":""},{"$f":"IF('LIVRET Compétences'!H103=$S$2,'LIVRET Compétences'!C103,\"\")","v":""},{"$f":"IF('LIVRET Compétences'!H103=$W$2,'LIVRET Compétences'!I103,\"\")","v":""},{"$f":"IF('LIVRET Compétences'!H103=$W$2,'LIVRET Compétences'!E103,\"\")","v":""},{"$f":"IF('LIVRET Compétences'!H103=$W$2,'LIVRET Compétences'!G103,\"\")","v":""},{"$f":"IF('LIVRET Compétences'!H103=$W$2,'LIVRET Compétences'!C103,\"\")","v":""}]
[null,null,null,null,null,null,null,null,null,null,null,null,null,null,{"$f":"IF('LIVRET Compétences'!H104=$O$2,'LIVRET Compétences'!I104,\"\")","v":""},{"$f":"IF('LIVRET Compétences'!H104=$O$2,'LIVRET Compétences'!E104,\"\")","v":""},{"$f":"IF('LIVRET Compétences'!H104=$O$2,'LIVRET Compétences'!G104,\"\")","v":""},{"$f":"IF('LIVRET Compétences'!H104=$O$2,'LIVRET Compétences'!C104,\"\")","v":""},{"$f":"IF('LIVRET Compétences'!H104=$S$2,'LIVRET Compétences'!I104,\"\")","v":""},{"$f":"IF('LIVRET Compétences'!H104=$S$2,'LIVRET Compétences'!E104,\"\")","v":""},{"$f":"IF('LIVRET Compétences'!H104=$S$2,'LIVRET Compétences'!G104,\"\")","v":""},{"$f":"IF('LIVRET Compétences'!H104=$S$2,'LIVRET Compétences'!C104,\"\")","v":""},{"$f":"IF('LIVRET Compétences'!H104=$W$2,'LIVRET Compétences'!I104,\"\")","v":""},{"$f":"IF('LIVRET Compétences'!H104=$W$2,'LIVRET Compétences'!E104,\"\")","v":""},{"$f":"IF('LIVRET Compétences'!H104=$W$2,'LIVRET Compétences'!G104,\"\")","v":""},{"$f":"IF('LIVRET Compétences'!H104=$W$2,'LIVRET Compétences'!C104,\"\")","v":""}]
[null,null,null,null,null,null,null,null,null,null,null,null,null,null,{"$f":"IF('LIVRET Compétences'!H105=$O$2,'LIVRET Compétences'!I105,\"\")","v":""},{"$f":"IF('LIVRET Compétences'!H105=$O$2,'LIVRET Compétences'!E105,\"\")","v":""},{"$f":"IF('LIVRET Compétences'!H105=$O$2,'LIVRET Compétences'!G105,\"\")","v":""},{"$f":"IF('LIVRET Compétences'!H105=$O$2,'LIVRET Compétences'!C105,\"\")","v":""},{"$f":"IF('LIVRET Compétences'!H105=$S$2,'LIVRET Compétences'!I105,\"\")","v":""},{"$f":"IF('LIVRET Compétences'!H105=$S$2,'LIVRET Compétences'!E105,\"\")","v":""},{"$f":"IF('LIVRET Compétences'!H105=$S$2,'LIVRET Compétences'!G105,\"\")","v":""},{"$f":"IF('LIVRET Compétences'!H105=$S$2,'LIVRET Compétences'!C105,\"\")","v":""},{"$f":"IF('LIVRET Compétences'!H105=$W$2,'LIVRET Compétences'!I105,\"\")","v":""},{"$f":"IF('LIVRET Compétences'!H105=$W$2,'LIVRET Compétences'!E105,\"\")","v":""},{"$f":"IF('LIVRET Compétences'!H105=$W$2,'LIVRET Compétences'!G105,\"\")","v":""},{"$f":"IF('LIVRET Compétences'!H105=$W$2,'LIVRET Compétences'!C105,\"\")","v":""}]
[null,null,null,null,null,null,null,null,null,null,null,null,null,null,{"$f":"IF('LIVRET Compétences'!H106=$O$2,'LIVRET Compétences'!I106,\"\")","v":""},{"$f":"IF('LIVRET Compétences'!H106=$O$2,'LIVRET Compétences'!E106,\"\")","v":""},{"$f":"IF('LIVRET Compétences'!H106=$O$2,'LIVRET Compétences'!G106,\"\")","v":""},{"$f":"IF('LIVRET Compétences'!H106=$O$2,'LIVRET Compétences'!C106,\"\")","v":""},{"$f":"IF('LIVRET Compétences'!H106=$S$2,'LIVRET Compétences'!I106,\"\")","v":""},{"$f":"IF('LIVRET Compétences'!H106=$S$2,'LIVRET Compétences'!E106,\"\")","v":""},{"$f":"IF('LIVRET Compétences'!H106=$S$2,'LIVRET Compétences'!G106,\"\")","v":""},{"$f":"IF('LIVRET Compétences'!H106=$S$2,'LIVRET Compétences'!C106,\"\")","v":""},{"$f":"IF('LIVRET Compétences'!H106=$W$2,'LIVRET Compétences'!I106,\"\")","v":""},{"$f":"IF('LIVRET Compétences'!H106=$W$2,'LIVRET Compétences'!E106,\"\")","v":""},{"$f":"IF('LIVRET Compétences'!H106=$W$2,'LIVRET Compétences'!G106,\"\")","v":""},{"$f":"IF('LIVRET Compétences'!H106=$W$2,'LIVRET Compétences'!C106,\"\")","v":""}]
[null,null,null,null,null,null,null,null,null,null,null,null,null,null,{"$f":"IF('LIVRET Compétences'!H107=$O$2,'LIVRET Compétences'!I107,\"\")","v":""},{"$f":"IF('LIVRET Compétences'!H107=$O$2,'LIVRET Compétences'!E107,\"\")","v":""},{"$f":"IF('LIVRET Compétences'!H107=$O$2,'LIVRET Compétences'!G107,\"\")","v":""},{"$f":"IF('LIVRET Compétences'!H107=$O$2,'LIVRET Compétences'!C107,\"\")","v":""},{"$f":"IF('LIVRET Compétences'!H107=$S$2,'LIVRET Compétences'!I107,\"\")","v":""},{"$f":"IF('LIVRET Compétences'!H107=$S$2,'LIVRET Compétences'!E107,\"\")","v":""},{"$f":"IF('LIVRET Compétences'!H107=$S$2,'LIVRET Compétences'!G107,\"\")","v":""},{"$f":"IF('LIVRET Compétences'!H107=$S$2,'LIVRET Compétences'!C107,\"\")","v":""},{"$f":"IF('LIVRET Compétences'!H107=$W$2,'LIVRET Compétences'!I107,\"\")","v":""},{"$f":"IF('LIVRET Compétences'!H107=$W$2,'LIVRET Compétences'!E107,\"\")","v":""},{"$f":"IF('LIVRET Compétences'!H107=$W$2,'LIVRET Compétences'!G107,\"\")","v":""},{"$f":"IF('LIVRET Compétences'!H107=$W$2,'LIVRET Compétences'!C107,\"\")","v":""}]
[null,null,null,null,null,null,null,null,null,null,null,null,null,null,{"$f":"IF('LIVRET Compétences'!H108=$O$2,'LIVRET Compétences'!I108,\"\")","v":""},{"$f":"IF('LIVRET Compétences'!H108=$O$2,'LIVRET Compétences'!E108,\"\")","v":""},{"$f":"IF('LIVRET Compétences'!H108=$O$2,'LIVRET Compétences'!G108,\"\")","v":""},{"$f":"IF('LIVRET Compétences'!H108=$O$2,'LIVRET Compétences'!C108,\"\")","v":""},{"$f":"IF('LIVRET Compétences'!H108=$S$2,'LIVRET Compétences'!I108,\"\")","v":""},{"$f":"IF('LIVRET Compétences'!H108=$S$2,'LIVRET Compétences'!E108,\"\")","v":""},{"$f":"IF('LIVRET Compétences'!H108=$S$2,'LIVRET Compétences'!G108,\"\")","v":""},{"$f":"IF('LIVRET Compétences'!H108=$S$2,'LIVRET Compétences'!C108,\"\")","v":""},{"$f":"IF('LIVRET Compétences'!H108=$W$2,'LIVRET Compétences'!I108,\"\")","v":""},{"$f":"IF('LIVRET Compétences'!H108=$W$2,'LIVRET Compétences'!E108,\"\")","v":""},{"$f":"IF('LIVRET Compétences'!H108=$W$2,'LIVRET Compétences'!G108,\"\")","v":""},{"$f":"IF('LIVRET Compétences'!H108=$W$2,'LIVRET Compétences'!C108,\"\")","v":""}]
[null,null,null,null,null,null,null,null,null,null,null,null,null,null,{"$f":"IF('LIVRET Compétences'!H109=$O$2,'LIVRET Compétences'!I109,\"\")","v":""},{"$f":"IF('LIVRET Compétences'!H109=$O$2,'LIVRET Compétences'!E109,\"\")","v":""},{"$f":"IF('LIVRET Compétences'!H109=$O$2,'LIVRET Compétences'!G109,\"\")","v":""},{"$f":"IF('LIVRET Compétences'!H109=$O$2,'LIVRET Compétences'!C109,\"\")","v":""},{"$f":"IF('LIVRET Compétences'!H109=$S$2,'LIVRET Compétences'!I109,\"\")","v":""},{"$f":"IF('LIVRET Compétences'!H109=$S$2,'LIVRET Compétences'!E109,\"\")","v":""},{"$f":"IF('LIVRET Compétences'!H109=$S$2,'LIVRET Compétences'!G109,\"\")","v":""},{"$f":"IF('LIVRET Compétences'!H109=$S$2,'LIVRET Compétences'!C109,\"\")","v":""},{"$f":"IF('LIVRET Compétences'!H109=$W$2,'LIVRET Compétences'!I109,\"\")","v":""},{"$f":"IF('LIVRET Compétences'!H109=$W$2,'LIVRET Compétences'!E109,\"\")","v":""},{"$f":"IF('LIVRET Compétences'!H109=$W$2,'LIVRET Compétences'!G109,\"\")","v":""},{"$f":"IF('LIVRET Compétences'!H109=$W$2,'LIVRET Compétences'!C109,\"\")","v":""}]
[null,null,null,null,null,null,null,null,null,null,null,null,null,null,{"$f":"IF('LIVRET Compétences'!H110=$O$2,'LIVRET Compétences'!I110,\"\")","v":""},{"$f":"IF('LIVRET Compétences'!H110=$O$2,'LIVRET Compétences'!E110,\"\")","v":""},{"$f":"IF('LIVRET Compétences'!H110=$O$2,'LIVRET Compétences'!G110,\"\")","v":""},{"$f":"IF('LIVRET Compétences'!H110=$O$2,'LIVRET Compétences'!C110,\"\")","v":""},{"$f":"IF('LIVRET Compétences'!H110=$S$2,'LIVRET Compétences'!I110,\"\")","v":""},{"$f":"IF('LIVRET Compétences'!H110=$S$2,'LIVRET Compétences'!E110,\"\")","v":""},{"$f":"IF('LIVRET Compétences'!H110=$S$2,'LIVRET Compétences'!G110,\"\")","v":""},{"$f":"IF('LIVRET Compétences'!H110=$S$2,'LIVRET Compétences'!C110,\"\")","v":""},{"$f":"IF('LIVRET Compétences'!H110=$W$2,'LIVRET Compétences'!I110,\"\")","v":""},{"$f":"IF('LIVRET Compétences'!H110=$W$2,'LIVRET Compétences'!E110,\"\")","v":""},{"$f":"IF('LIVRET Compétences'!H110=$W$2,'LIVRET Compétences'!G110,\"\")","v":""},{"$f":"IF('LIVRET Compétences'!H110=$W$2,'LIVRET Compétences'!C110,\"\")","v":""}]
[null,null,null,null,null,null,null,null,null,null,null,null,null,null,{"$f":"IF('LIVRET Compétences'!H111=$O$2,'LIVRET Compétences'!I111,\"\")","v":""},{"$f":"IF('LIVRET Compétences'!H111=$O$2,'LIVRET Compétences'!E111,\"\")","v":""},{"$f":"IF('LIVRET Compétences'!H111=$O$2,'LIVRET Compétences'!G111,\"\")","v":""},{"$f":"IF('LIVRET Compétences'!H111=$O$2,'LIVRET Compétences'!C111,\"\")","v":""},{"$f":"IF('LIVRET Compétences'!H111=$S$2,'LIVRET Compétences'!I111,\"\")","v":""},{"$f":"IF('LIVRET Compétences'!H111=$S$2,'LIVRET Compétences'!E111,\"\")","v":""},{"$f":"IF('LIVRET Compétences'!H111=$S$2,'LIVRET Compétences'!G111,\"\")","v":""},{"$f":"IF('LIVRET Compétences'!H111=$S$2,'LIVRET Compétences'!C111,\"\")","v":""},{"$f":"IF('LIVRET Compétences'!H111=$W$2,'LIVRET Compétences'!I111,\"\")","v":""},{"$f":"IF('LIVRET Compétences'!H111=$W$2,'LIVRET Compétences'!E111,\"\")","v":""},{"$f":"IF('LIVRET Compétences'!H111=$W$2,'LIVRET Compétences'!G111,\"\")","v":""},{"$f":"IF('LIVRET Compétences'!H111=$W$2,'LIVRET Compétences'!C111,\"\")","v":""}]
[null,null,null,null,null,null,null,null,null,null,null,null,null,null,{"$f":"IF('LIVRET Compétences'!H112=$O$2,'LIVRET Compétences'!I112,\"\")","v":""},{"$f":"IF('LIVRET Compétences'!H112=$O$2,'LIVRET Compétences'!E112,\"\")","v":""},{"$f":"IF('LIVRET Compétences'!H112=$O$2,'LIVRET Compétences'!G112,\"\")","v":""},{"$f":"IF('LIVRET Compétences'!H112=$O$2,'LIVRET Compétences'!C112,\"\")","v":""},{"$f":"IF('LIVRET Compétences'!H112=$S$2,'LIVRET Compétences'!I112,\"\")","v":""},{"$f":"IF('LIVRET Compétences'!H112=$S$2,'LIVRET Compétences'!E112,\"\")","v":""},{"$f":"IF('LIVRET Compétences'!H112=$S$2,'LIVRET Compétences'!G112,\"\")","v":""},{"$f":"IF('LIVRET Compétences'!H112=$S$2,'LIVRET Compétences'!C112,\"\")","v":""},{"$f":"IF('LIVRET Compétences'!H112=$W$2,'LIVRET Compétences'!I112,\"\")","v":""},{"$f":"IF('LIVRET Compétences'!H112=$W$2,'LIVRET Compétences'!E112,\"\")","v":""},{"$f":"IF('LIVRET Compétences'!H112=$W$2,'LIVRET Compétences'!G112,\"\")","v":""},{"$f":"IF('LIVRET Compétences'!H112=$W$2,'LIVRET Compétences'!C112,\"\")","v":""}]
[null,null,null,null,null,null,null,null,null,null,null,null,null,null,{"$f":"IF('LIVRET Compétences'!H113=$O$2,'LIVRET Compétences'!I113,\"\")","v":""},{"$f":"IF('LIVRET Compétences'!H113=$O$2,'LIVRET Compétences'!E113,\"\")","v":""},{"$f":"IF('LIVRET Compétences'!H113=$O$2,'LIVRET Compétences'!G113,\"\")","v":""},{"$f":"IF('LIVRET Compétences'!H113=$O$2,'LIVRET Compétences'!C113,\"\")","v":""},{"$f":"IF('LIVRET Compétences'!H113=$S$2,'LIVRET Compétences'!I113,\"\")","v":""},{"$f":"IF('LIVRET Compétences'!H113=$S$2,'LIVRET Compétences'!E113,\"\")","v":""},{"$f":"IF('LIVRET Compétences'!H113=$S$2,'LIVRET Compétences'!G113,\"\")","v":""},{"$f":"IF('LIVRET Compétences'!H113=$S$2,'LIVRET Compétences'!C113,\"\")","v":""},{"$f":"IF('LIVRET Compétences'!H113=$W$2,'LIVRET Compétences'!I113,\"\")","v":""},{"$f":"IF('LIVRET Compétences'!H113=$W$2,'LIVRET Compétences'!E113,\"\")","v":""},{"$f":"IF('LIVRET Compétences'!H113=$W$2,'LIVRET Compétences'!G113,\"\")","v":""},{"$f":"IF('LIVRET Compétences'!H113=$W$2,'LIVRET Compétences'!C113,\"\")","v":""}]
[null,null,null,null,null,null,null,null,null,null,null,null,null,null,{"$f":"IF('LIVRET Compétences'!H114=$O$2,'LIVRET Compétences'!I114,\"\")","v":""},{"$f":"IF('LIVRET Compétences'!H114=$O$2,'LIVRET Compétences'!E114,\"\")","v":""},{"$f":"IF('LIVRET Compétences'!H114=$O$2,'LIVRET Compétences'!G114,\"\")","v":""},{"$f":"IF('LIVRET Compétences'!H114=$O$2,'LIVRET Compétences'!C114,\"\")","v":""},{"$f":"IF('LIVRET Compétences'!H114=$S$2,'LIVRET Compétences'!I114,\"\")","v":""},{"$f":"IF('LIVRET Compétences'!H114=$S$2,'LIVRET Compétences'!E114,\"\")","v":""},{"$f":"IF('LIVRET Compétences'!H114=$S$2,'LIVRET Compétences'!G114,\"\")","v":""},{"$f":"IF('LIVRET Compétences'!H114=$S$2,'LIVRET Compétences'!C114,\"\")","v":""},{"$f":"IF('LIVRET Compétences'!H114=$W$2,'LIVRET Compétences'!I114,\"\")","v":""},{"$f":"IF('LIVRET Compétences'!H114=$W$2,'LIVRET Compétences'!E114,\"\")","v":""},{"$f":"IF('LIVRET Compétences'!H114=$W$2,'LIVRET Compétences'!G114,\"\")","v":""},{"$f":"IF('LIVRET Compétences'!H114=$W$2,'LIVRET Compétences'!C114,\"\")","v":""}]
[null,null,null,null,null,null,null,null,null,null,null,null,null,null,{"$f":"IF('LIVRET Compétences'!H115=$O$2,'LIVRET Compétences'!I115,\"\")","v":""},{"$f":"IF('LIVRET Compétences'!H115=$O$2,'LIVRET Compétences'!E115,\"\")","v":""},{"$f":"IF('LIVRET Compétences'!H115=$O$2,'LIVRET Compétences'!G115,\"\")","v":""},{"$f":"IF('LIVRET Compétences'!H115=$O$2,'LIVRET Compétences'!C115,\"\")","v":""},{"$f":"IF('LIVRET Compétences'!H115=$S$2,'LIVRET Compétences'!I115,\"\")","v":""},{"$f":"IF('LIVRET Compétences'!H115=$S$2,'LIVRET Compétences'!E115,\"\")","v":""},{"$f":"IF('LIVRET Compétences'!H115=$S$2,'LIVRET Compétences'!G115,\"\")","v":""},{"$f":"IF('LIVRET Compétences'!H115=$S$2,'LIVRET Compétences'!C115,\"\")","v":""},{"$f":"IF('LIVRET Compétences'!H115=$W$2,'LIVRET Compétences'!I115,\"\")","v":""},{"$f":"IF('LIVRET Compétences'!H115=$W$2,'LIVRET Compétences'!E115,\"\")","v":""},{"$f":"IF('LIVRET Compétences'!H115=$W$2,'LIVRET Compétences'!G115,\"\")","v":""},{"$f":"IF('LIVRET Compétences'!H115=$W$2,'LIVRET Compétences'!C115,\"\")","v":""}]
[null,null,null,null,null,null,null,null,null,null,null,null,null,null,{"$f":"IF('LIVRET Compétences'!H116=$O$2,'LIVRET Compétences'!I116,\"\")","v":""},{"$f":"IF('LIVRET Compétences'!H116=$O$2,'LIVRET Compétences'!E116,\"\")","v":""},{"$f":"IF('LIVRET Compétences'!H116=$O$2,'LIVRET Compétences'!G116,\"\")","v":""},{"$f":"IF('LIVRET Compétences'!H116=$O$2,'LIVRET Compétences'!C116,\"\")","v":""},{"$f":"IF('LIVRET Compétences'!H116=$S$2,'LIVRET Compétences'!I116,\"\")","v":""},{"$f":"IF('LIVRET Compétences'!H116=$S$2,'LIVRET Compétences'!E116,\"\")","v":""},{"$f":"IF('LIVRET Compétences'!H116=$S$2,'LIVRET Compétences'!G116,\"\")","v":""},{"$f":"IF('LIVRET Compétences'!H116=$S$2,'LIVRET Compétences'!C116,\"\")","v":""},{"$f":"IF('LIVRET Compétences'!H116=$W$2,'LIVRET Compétences'!I116,\"\")","v":""},{"$f":"IF('LIVRET Compétences'!H116=$W$2,'LIVRET Compétences'!E116,\"\")","v":""},{"$f":"IF('LIVRET Compétences'!H116=$W$2,'LIVRET Compétences'!G116,\"\")","v":""},{"$f":"IF('LIVRET Compétences'!H116=$W$2,'LIVRET Compétences'!C116,\"\")","v":""}]
[null,null,null,null,null,null,null,null,null,null,null,null,null,null,{"$f":"IF('LIVRET Compétences'!H117=$O$2,'LIVRET Compétences'!I117,\"\")","v":""},{"$f":"IF('LIVRET Compétences'!H117=$O$2,'LIVRET Compétences'!E117,\"\")","v":""},{"$f":"IF('LIVRET Compétences'!H117=$O$2,'LIVRET Compétences'!G117,\"\")","v":""},{"$f":"IF('LIVRET Compétences'!H117=$O$2,'LIVRET Compétences'!C117,\"\")","v":""},{"$f":"IF('LIVRET Compétences'!H117=$S$2,'LIVRET Compétences'!I117,\"\")","v":""},{"$f":"IF('LIVRET Compétences'!H117=$S$2,'LIVRET Compétences'!E117,\"\")","v":""},{"$f":"IF('LIVRET Compétences'!H117=$S$2,'LIVRET Compétences'!G117,\"\")","v":""},{"$f":"IF('LIVRET Compétences'!H117=$S$2,'LIVRET Compétences'!C117,\"\")","v":""},{"$f":"IF('LIVRET Compétences'!H117=$W$2,'LIVRET Compétences'!I117,\"\")","v":""},{"$f":"IF('LIVRET Compétences'!H117=$W$2,'LIVRET Compétences'!E117,\"\")","v":""},{"$f":"IF('LIVRET Compétences'!H117=$W$2,'LIVRET Compétences'!G117,\"\")","v":""},{"$f":"IF('LIVRET Compétences'!H117=$W$2,'LIVRET Compétences'!C117,\"\")","v":""}]
[null,null,null,null,null,null,null,null,null,null,null,null,null,null,{"$f":"IF('LIVRET Compétences'!H118=$O$2,'LIVRET Compétences'!I118,\"\")","v":""},{"$f":"IF('LIVRET Compétences'!H118=$O$2,'LIVRET Compétences'!E118,\"\")","v":""},{"$f":"IF('LIVRET Compétences'!H118=$O$2,'LIVRET Compétences'!G118,\"\")","v":""},{"$f":"IF('LIVRET Compétences'!H118=$O$2,'LIVRET Compétences'!C118,\"\")","v":""},{"$f":"IF('LIVRET Compétences'!H118=$S$2,'LIVRET Compétences'!I118,\"\")","v":""},{"$f":"IF('LIVRET Compétences'!H118=$S$2,'LIVRET Compétences'!E118,\"\")","v":""},{"$f":"IF('LIVRET Compétences'!H118=$S$2,'LIVRET Compétences'!G118,\"\")","v":""},{"$f":"IF('LIVRET Compétences'!H118=$S$2,'LIVRET Compétences'!C118,\"\")","v":""},{"$f":"IF('LIVRET Compétences'!H118=$W$2,'LIVRET Compétences'!I118,\"\")","v":""},{"$f":"IF('LIVRET Compétences'!H118=$W$2,'LIVRET Compétences'!E118,\"\")","v":""},{"$f":"IF('LIVRET Compétences'!H118=$W$2,'LIVRET Compétences'!G118,\"\")","v":""},{"$f":"IF('LIVRET Compétences'!H118=$W$2,'LIVRET Compétences'!C118,\"\")","v":""}]
[null,null,null,null,null,null,null,null,null,null,null,null,null,null,{"$f":"IF('LIVRET Compétences'!H119=$O$2,'LIVRET Compétences'!I119,\"\")","v":""},{"$f":"IF('LIVRET Compétences'!H119=$O$2,'LIVRET Compétences'!E119,\"\")","v":""},{"$f":"IF('LIVRET Compétences'!H119=$O$2,'LIVRET Compétences'!G119,\"\")","v":""},{"$f":"IF('LIVRET Compétences'!H119=$O$2,'LIVRET Compétences'!C119,\"\")","v":""},{"$f":"IF('LIVRET Compétences'!H119=$S$2,'LIVRET Compétences'!I119,\"\")","v":""},{"$f":"IF('LIVRET Compétences'!H119=$S$2,'LIVRET Compétences'!E119,\"\")","v":""},{"$f":"IF('LIVRET Compétences'!H119=$S$2,'LIVRET Compétences'!G119,\"\")","v":""},{"$f":"IF('LIVRET Compétences'!H119=$S$2,'LIVRET Compétences'!C119,\"\")","v":""},{"$f":"IF('LIVRET Compétences'!H119=$W$2,'LIVRET Compétences'!I119,\"\")","v":""},{"$f":"IF('LIVRET Compétences'!H119=$W$2,'LIVRET Compétences'!E119,\"\")","v":""},{"$f":"IF('LIVRET Compétences'!H119=$W$2,'LIVRET Compétences'!G119,\"\")","v":""},{"$f":"IF('LIVRET Compétences'!H119=$W$2,'LIVRET Compétences'!C119,\"\")","v":""}]
[null,null,null,null,null,null,null,null,null,null,null,null,null,null,{"$f":"IF('LIVRET Compétences'!H120=$O$2,'LIVRET Compétences'!I120,\"\")","v":""},{"$f":"IF('LIVRET Compétences'!H120=$O$2,'LIVRET Compétences'!E120,\"\")","v":""},{"$f":"IF('LIVRET Compétences'!H120=$O$2,'LIVRET Compétences'!G120,\"\")","v":""},{"$f":"IF('LIVRET Compétences'!H120=$O$2,'LIVRET Compétences'!C120,\"\")","v":""},{"$f":"IF('LIVRET Compétences'!H120=$S$2,'LIVRET Compétences'!I120,\"\")","v":""},{"$f":"IF('LIVRET Compétences'!H120=$S$2,'LIVRET Compétences'!E120,\"\")","v":""},{"$f":"IF('LIVRET Compétences'!H120=$S$2,'LIVRET Compétences'!G120,\"\")","v":""},{"$f":"IF('LIVRET Compétences'!H120=$S$2,'LIVRET Compétences'!C120,\"\")","v":""},{"$f":"IF('LIVRET Compétences'!H120=$W$2,'LIVRET Compétences'!I120,\"\")","v":""},{"$f":"IF('LIVRET Compétences'!H120=$W$2,'LIVRET Compétences'!E120,\"\")","v":""},{"$f":"IF('LIVRET Compétences'!H120=$W$2,'LIVRET Compétences'!G120,\"\")","v":""},{"$f":"IF('LIVRET Compétences'!H120=$W$2,'LIVRET Compétences'!C120,\"\")","v":""}]
[null,null,null,null,null,null,null,null,null,null,null,null,null,null,{"$f":"IF('LIVRET Compétences'!H121=$O$2,'LIVRET Compétences'!I121,\"\")","v":""},{"$f":"IF('LIVRET Compétences'!H121=$O$2,'LIVRET Compétences'!E121,\"\")","v":""},{"$f":"IF('LIVRET Compétences'!H121=$O$2,'LIVRET Compétences'!G121,\"\")","v":""},{"$f":"IF('LIVRET Compétences'!H121=$O$2,'LIVRET Compétences'!C121,\"\")","v":""},{"$f":"IF('LIVRET Compétences'!H121=$S$2,'LIVRET Compétences'!I121,\"\")","v":""},{"$f":"IF('LIVRET Compétences'!H121=$S$2,'LIVRET Compétences'!E121,\"\")","v":""},{"$f":"IF('LIVRET Compétences'!H121=$S$2,'LIVRET Compétences'!G121,\"\")","v":""},{"$f":"IF('LIVRET Compétences'!H121=$S$2,'LIVRET Compétences'!C121,\"\")","v":""},{"$f":"IF('LIVRET Compétences'!H121=$W$2,'LIVRET Compétences'!I121,\"\")","v":""},{"$f":"IF('LIVRET Compétences'!H121=$W$2,'LIVRET Compétences'!E121,\"\")","v":""},{"$f":"IF('LIVRET Compétences'!H121=$W$2,'LIVRET Compétences'!G121,\"\")","v":""},{"$f":"IF('LIVRET Compétences'!H121=$W$2,'LIVRET Compétences'!C121,\"\")","v":""}]
[null,null,null,null,null,null,null,null,null,null,null,null,null,null,{"$f":"IF('LIVRET Compétences'!H122=$O$2,'LIVRET Compétences'!I122,\"\")","v":""},{"$f":"IF('LIVRET Compétences'!H122=$O$2,'LIVRET Compétences'!E122,\"\")","v":""},{"$f":"IF('LIVRET Compétences'!H122=$O$2,'LIVRET Compétences'!G122,\"\")","v":""},{"$f":"IF('LIVRET Compétences'!H122=$O$2,'LIVRET Compétences'!C122,\"\")","v":""},{"$f":"IF('LIVRET Compétences'!H122=$S$2,'LIVRET Compétences'!I122,\"\")","v":""},{"$f":"IF('LIVRET Compétences'!H122=$S$2,'LIVRET Compétences'!E122,\"\")","v":""},{"$f":"IF('LIVRET Compétences'!H122=$S$2,'LIVRET Compétences'!G122,\"\")","v":""},{"$f":"IF('LIVRET Compétences'!H122=$S$2,'LIVRET Compétences'!C122,\"\")","v":""},{"$f":"IF('LIVRET Compétences'!H122=$W$2,'LIVRET Compétences'!I122,\"\")","v":""},{"$f":"IF('LIVRET Compétences'!H122=$W$2,'LIVRET Compétences'!E122,\"\")","v":""},{"$f":"IF('LIVRET Compétences'!H122=$W$2,'LIVRET Compétences'!G122,\"\")","v":""},{"$f":"IF('LIVRET Compétences'!H122=$W$2,'LIVRET Compétences'!C122,\"\")","v":""}]
[null,null,null,null,null,null,null,null,null,null,null,null,null,null,{"$f":"IF('LIVRET Compétences'!H123=$O$2,'LIVRET Compétences'!I123,\"\")","v":""},{"$f":"IF('LIVRET Compétences'!H123=$O$2,'LIVRET Compétences'!E123,\"\")","v":""},{"$f":"IF('LIVRET Compétences'!H123=$O$2,'LIVRET Compétences'!G123,\"\")","v":""},{"$f":"IF('LIVRET Compétences'!H123=$O$2,'LIVRET Compétences'!C123,\"\")","v":""},{"$f":"IF('LIVRET Compétences'!H123=$S$2,'LIVRET Compétences'!I123,\"\")","v":""},{"$f":"IF('LIVRET Compétences'!H123=$S$2,'LIVRET Compétences'!E123,\"\")","v":""},{"$f":"IF('LIVRET Compétences'!H123=$S$2,'LIVRET Compétences'!G123,\"\")","v":""},{"$f":"IF('LIVRET Compétences'!H123=$S$2,'LIVRET Compétences'!C123,\"\")","v":""},{"$f":"IF('LIVRET Compétences'!H123=$W$2,'LIVRET Compétences'!I123,\"\")","v":""},{"$f":"IF('LIVRET Compétences'!H123=$W$2,'LIVRET Compétences'!E123,\"\")","v":""},{"$f":"IF('LIVRET Compétences'!H123=$W$2,'LIVRET Compétences'!G123,\"\")","v":""},{"$f":"IF('LIVRET Compétences'!H123=$W$2,'LIVRET Compétences'!C123,\"\")","v":""}]
[null,null,null,null,null,null,null,null,null,null,null,null,null,null,{"$f":"IF('LIVRET Compétences'!H124=$O$2,'LIVRET Compétences'!I124,\"\")","v":""},{"$f":"IF('LIVRET Compétences'!H124=$O$2,'LIVRET Compétences'!E124,\"\")","v":""},{"$f":"IF('LIVRET Compétences'!H124=$O$2,'LIVRET Compétences'!G124,\"\")","v":""},{"$f":"IF('LIVRET Compétences'!H124=$O$2,'LIVRET Compétences'!C124,\"\")","v":""},{"$f":"IF('LIVRET Compétences'!H124=$S$2,'LIVRET Compétences'!I124,\"\")","v":""},{"$f":"IF('LIVRET Compétences'!H124=$S$2,'LIVRET Compétences'!E124,\"\")","v":""},{"$f":"IF('LIVRET Compétences'!H124=$S$2,'LIVRET Compétences'!G124,\"\")","v":""},{"$f":"IF('LIVRET Compétences'!H124=$S$2,'LIVRET Compétences'!C124,\"\")","v":""},{"$f":"IF('LIVRET Compétences'!H124=$W$2,'LIVRET Compétences'!I124,\"\")","v":""},{"$f":"IF('LIVRET Compétences'!H124=$W$2,'LIVRET Compétences'!E124,\"\")","v":""},{"$f":"IF('LIVRET Compétences'!H124=$W$2,'LIVRET Compétences'!G124,\"\")","v":""},{"$f":"IF('LIVRET Compétences'!H124=$W$2,'LIVRET Compétences'!C124,\"\")","v":""}]
[null,null,null,null,null,null,null,null,null,null,null,null,null,null,{"$f":"IF('LIVRET Compétences'!H125=$O$2,'LIVRET Compétences'!I125,\"\")","v":""},{"$f":"IF('LIVRET Compétences'!H125=$O$2,'LIVRET Compétences'!E125,\"\")","v":""},{"$f":"IF('LIVRET Compétences'!H125=$O$2,'LIVRET Compétences'!G125,\"\")","v":""},{"$f":"IF('LIVRET Compétences'!H125=$O$2,'LIVRET Compétences'!C125,\"\")","v":""},{"$f":"IF('LIVRET Compétences'!H125=$S$2,'LIVRET Compétences'!I125,\"\")","v":""},{"$f":"IF('LIVRET Compétences'!H125=$S$2,'LIVRET Compétences'!E125,\"\")","v":""},{"$f":"IF('LIVRET Compétences'!H125=$S$2,'LIVRET Compétences'!G125,\"\")","v":""},{"$f":"IF('LIVRET Compétences'!H125=$S$2,'LIVRET Compétences'!C125,\"\")","v":""},{"$f":"IF('LIVRET Compétences'!H125=$W$2,'LIVRET Compétences'!I125,\"\")","v":""},{"$f":"IF('LIVRET Compétences'!H125=$W$2,'LIVRET Compétences'!E125,\"\")","v":""},{"$f":"IF('LIVRET Compétences'!H125=$W$2,'LIVRET Compétences'!G125,\"\")","v":""},{"$f":"IF('LIVRET Compétences'!H125=$W$2,'LIVRET Compétences'!C125,\"\")","v":""}]
[null,null,null,null,null,null,null,null,null,null,null,null,null,null,{"$f":"IF('LIVRET Compétences'!H126=$O$2,'LIVRET Compétences'!I126,\"\")","v":""},{"$f":"IF('LIVRET Compétences'!H126=$O$2,'LIVRET Compétences'!E126,\"\")","v":""},{"$f":"IF('LIVRET Compétences'!H126=$O$2,'LIVRET Compétences'!G126,\"\")","v":""},{"$f":"IF('LIVRET Compétences'!H126=$O$2,'LIVRET Compétences'!C126,\"\")","v":""},{"$f":"IF('LIVRET Compétences'!H126=$S$2,'LIVRET Compétences'!I126,\"\")","v":""},{"$f":"IF('LIVRET Compétences'!H126=$S$2,'LIVRET Compétences'!E126,\"\")","v":""},{"$f":"IF('LIVRET Compétences'!H126=$S$2,'LIVRET Compétences'!G126,\"\")","v":""},{"$f":"IF('LIVRET Compétences'!H126=$S$2,'LIVRET Compétences'!C126,\"\")","v":""},{"$f":"IF('LIVRET Compétences'!H126=$W$2,'LIVRET Compétences'!I126,\"\")","v":""},{"$f":"IF('LIVRET Compétences'!H126=$W$2,'LIVRET Compétences'!E126,\"\")","v":""},{"$f":"IF('LIVRET Compétences'!H126=$W$2,'LIVRET Compétences'!G126,\"\")","v":""},{"$f":"IF('LIVRET Compétences'!H126=$W$2,'LIVRET Compétences'!C126,\"\")","v":""}]
[null,null,null,null,null,null,null,null,null,null,null,null,null,null,{"$f":"IF('LIVRET Compétences'!H127=$O$2,'LIVRET Compétences'!I127,\"\")","v":""},{"$f":"IF('LIVRET Compétences'!H127=$O$2,'LIVRET Compétences'!E127,\"\")","v":""},{"$f":"IF('LIVRET Compétences'!H127=$O$2,'LIVRET Compétences'!G127,\"\")","v":""},{"$f":"IF('LIVRET Compétences'!H127=$O$2,'LIVRET Compétences'!C127,\"\")","v":""},{"$f":"IF('LIVRET Compétences'!H127=$S$2,'LIVRET Compétences'!I127,\"\")","v":""},{"$f":"IF('LIVRET Compétences'!H127=$S$2,'LIVRET Compétences'!E127,\"\")","v":""},{"$f":"IF('LIVRET Compétences'!H127=$S$2,'LIVRET Compétences'!G127,\"\")","v":""},{"$f":"IF('LIVRET Compétences'!H127=$S$2,'LIVRET Compétences'!C127,\"\")","v":""},{"$f":"IF('LIVRET Compétences'!H127=$W$2,'LIVRET Compétences'!I127,\"\")","v":""},{"$f":"IF('LIVRET Compétences'!H127=$W$2,'LIVRET Compétences'!E127,\"\")","v":""},{"$f":"IF('LIVRET Compétences'!H127=$W$2,'LIVRET Compétences'!G127,\"\")","v":""},{"$f":"IF('LIVRET Compétences'!H127=$W$2,'LIVRET Compétences'!C127,\"\")","v":""}]
[null,null,null,null,null,null,null,null,null,null,null,null,null,null,{"$f":"IF('LIVRET Compétences'!H128=$O$2,'LIVRET Compétences'!I128,\"\")","v":""},{"$f":"IF('LIVRET Compétences'!H128=$O$2,'LIVRET Compétences'!E128,\"\")","v":""},{"$f":"IF('LIVRET Compétences'!H128=$O$2,'LIVRET Compétences'!G128,\"\")","v":""},{"$f":"IF('LIVRET Compétences'!H128=$O$2,'LIVRET Compétences'!C128,\"\")","v":""},{"$f":"IF('LIVRET Compétences'!H128=$S$2,'LIVRET Compétences'!I128,\"\")","v":""},{"$f":"IF('LIVRET Compétences'!H128=$S$2,'LIVRET Compétences'!E128,\"\")","v":""},{"$f":"IF('LIVRET Compétences'!H128=$S$2,'LIVRET Compétences'!G128,\"\")","v":""},{"$f":"IF('LIVRET Compétences'!H128=$S$2,'LIVRET Compétences'!C128,\"\")","v":""},{"$f":"IF('LIVRET Compétences'!H128=$W$2,'LIVRET Compétences'!I128,\"\")","v":""},{"$f":"IF('LIVRET Compétences'!H128=$W$2,'LIVRET Compétences'!E128,\"\")","v":""},{"$f":"IF('LIVRET Compétences'!H128=$W$2,'LIVRET Compétences'!G128,\"\")","v":""},{"$f":"IF('LIVRET Compétences'!H128=$W$2,'LIVRET Compétences'!C128,\"\")","v":""}]
[null,null,null,null,null,null,null,null,null,null,null,null,null,null,{"$f":"IF('LIVRET Compétences'!H129=$O$2,'LIVRET Compétences'!I129,\"\")","v":""},{"$f":"IF('LIVRET Compétences'!H129=$O$2,'LIVRET Compétences'!E129,\"\")","v":""},{"$f":"IF('LIVRET Compétences'!H129=$O$2,'LIVRET Compétences'!G129,\"\")","v":""},{"$f":"IF('LIVRET Compétences'!H129=$O$2,'LIVRET Compétences'!C129,\"\")","v":""},{"$f":"IF('LIVRET Compétences'!H129=$S$2,'LIVRET Compétences'!I129,\"\")","v":""},{"$f":"IF('LIVRET Compétences'!H129=$S$2,'LIVRET Compétences'!E129,\"\")","v":""},{"$f":"IF('LIVRET Compétences'!H129=$S$2,'LIVRET Compétences'!G129,\"\")","v":""},{"$f":"IF('LIVRET Compétences'!H129=$S$2,'LIVRET Compétences'!C129,\"\")","v":""},{"$f":"IF('LIVRET Compétences'!H129=$W$2,'LIVRET Compétences'!I129,\"\")","v":""},{"$f":"IF('LIVRET Compétences'!H129=$W$2,'LIVRET Compétences'!E129,\"\")","v":""},{"$f":"IF('LIVRET Compétences'!H129=$W$2,'LIVRET Compétences'!G129,\"\")","v":""},{"$f":"IF('LIVRET Compétences'!H129=$W$2,'LIVRET Compétences'!C129,\"\")","v":""}]
[null,null,null,null,null,null,null,null,null,null,null,null,null,null,{"$f":"IF('LIVRET Compétences'!H130=$O$2,'LIVRET Compétences'!I130,\"\")","v":""},{"$f":"IF('LIVRET Compétences'!H130=$O$2,'LIVRET Compétences'!E130,\"\")","v":""},{"$f":"IF('LIVRET Compétences'!H130=$O$2,'LIVRET Compétences'!G130,\"\")","v":""},{"$f":"IF('LIVRET Compétences'!H130=$O$2,'LIVRET Compétences'!C130,\"\")","v":""},{"$f":"IF('LIVRET Compétences'!H130=$S$2,'LIVRET Compétences'!I130,\"\")","v":""},{"$f":"IF('LIVRET Compétences'!H130=$S$2,'LIVRET Compétences'!E130,\"\")","v":""},{"$f":"IF('LIVRET Compétences'!H130=$S$2,'LIVRET Compétences'!G130,\"\")","v":""},{"$f":"IF('LIVRET Compétences'!H130=$S$2,'LIVRET Compétences'!C130,\"\")","v":""},{"$f":"IF('LIVRET Compétences'!H130=$W$2,'LIVRET Compétences'!I130,\"\")","v":""},{"$f":"IF('LIVRET Compétences'!H130=$W$2,'LIVRET Compétences'!E130,\"\")","v":""},{"$f":"IF('LIVRET Compétences'!H130=$W$2,'LIVRET Compétences'!G130,\"\")","v":""},{"$f":"IF('LIVRET Compétences'!H130=$W$2,'LIVRET Compétences'!C130,\"\")","v":""}]
[null,null,null,null,null,null,null,null,null,null,null,null,null,null,{"$f":"IF('LIVRET Compétences'!H131=$O$2,'LIVRET Compétences'!I131,\"\")","v":""},{"$f":"IF('LIVRET Compétences'!H131=$O$2,'LIVRET Compétences'!E131,\"\")","v":""},{"$f":"IF('LIVRET Compétences'!H131=$O$2,'LIVRET Compétences'!G131,\"\")","v":""},{"$f":"IF('LIVRET Compétences'!H131=$O$2,'LIVRET Compétences'!C131,\"\")","v":""},{"$f":"IF('LIVRET Compétences'!H131=$S$2,'LIVRET Compétences'!I131,\"\")","v":""},{"$f":"IF('LIVRET Compétences'!H131=$S$2,'LIVRET Compétences'!E131,\"\")","v":""},{"$f":"IF('LIVRET Compétences'!H131=$S$2,'LIVRET Compétences'!G131,\"\")","v":""},{"$f":"IF('LIVRET Compétences'!H131=$S$2,'LIVRET Compétences'!C131,\"\")","v":""},{"$f":"IF('LIVRET Compétences'!H131=$W$2,'LIVRET Compétences'!I131,\"\")","v":""},{"$f":"IF('LIVRET Compétences'!H131=$W$2,'LIVRET Compétences'!E131,\"\")","v":""},{"$f":"IF('LIVRET Compétences'!H131=$W$2,'LIVRET Compétences'!G131,\"\")","v":""},{"$f":"IF('LIVRET Compétences'!H131=$W$2,'LIVRET Compétences'!C131,\"\")","v":""}]
[null,null,null,null,null,null,null,null,null,null,null,null,null,null,{"$f":"IF('LIVRET Compétences'!H132=$O$2,'LIVRET Compétences'!I132,\"\")","v":""},{"$f":"IF('LIVRET Compétences'!H132=$O$2,'LIVRET Compétences'!E132,\"\")","v":""},{"$f":"IF('LIVRET Compétences'!H132=$O$2,'LIVRET Compétences'!G132,\"\")","v":""},{"$f":"IF('LIVRET Compétences'!H132=$O$2,'LIVRET Compétences'!C132,\"\")","v":""},{"$f":"IF('LIVRET Compétences'!H132=$S$2,'LIVRET Compétences'!I132,\"\")","v":""},{"$f":"IF('LIVRET Compétences'!H132=$S$2,'LIVRET Compétences'!E132,\"\")","v":""},{"$f":"IF('LIVRET Compétences'!H132=$S$2,'LIVRET Compétences'!G132,\"\")","v":""},{"$f":"IF('LIVRET Compétences'!H132=$S$2,'LIVRET Compétences'!C132,\"\")","v":""},{"$f":"IF('LIVRET Compétences'!H132=$W$2,'LIVRET Compétences'!I132,\"\")","v":""},{"$f":"IF('LIVRET Compétences'!H132=$W$2,'LIVRET Compétences'!E132,\"\")","v":""},{"$f":"IF('LIVRET Compétences'!H132=$W$2,'LIVRET Compétences'!G132,\"\")","v":""},{"$f":"IF('LIVRET Compétences'!H132=$W$2,'LIVRET Compétences'!C132,\"\")","v":""}]
[null,null,null,null,null,null,null,null,null,null,null,null,null,null,{"$f":"IF('LIVRET Compétences'!H133=$O$2,'LIVRET Compétences'!I133,\"\")","v":""},{"$f":"IF('LIVRET Compétences'!H133=$O$2,'LIVRET Compétences'!E133,\"\")","v":""},{"$f":"IF('LIVRET Compétences'!H133=$O$2,'LIVRET Compétences'!G133,\"\")","v":""},{"$f":"IF('LIVRET Compétences'!H133=$O$2,'LIVRET Compétences'!C133,\"\")","v":""},{"$f":"IF('LIVRET Compétences'!H133=$S$2,'LIVRET Compétences'!I133,\"\")","v":""},{"$f":"IF('LIVRET Compétences'!H133=$S$2,'LIVRET Compétences'!E133,\"\")","v":""},{"$f":"IF('LIVRET Compétences'!H133=$S$2,'LIVRET Compétences'!G133,\"\")","v":""},{"$f":"IF('LIVRET Compétences'!H133=$S$2,'LIVRET Compétences'!C133,\"\")","v":""},{"$f":"IF('LIVRET Compétences'!H133=$W$2,'LIVRET Compétences'!I133,\"\")","v":""},{"$f":"IF('LIVRET Compétences'!H133=$W$2,'LIVRET Compétences'!E133,\"\")","v":""},{"$f":"IF('LIVRET Compétences'!H133=$W$2,'LIVRET Compétences'!G133,\"\")","v":""},{"$f":"IF('LIVRET Compétences'!H133=$W$2,'LIVRET Compétences'!C133,\"\")","v":""}]
[null,null,null,null,null,null,null,null,null,null,null,null,null,null,{"$f":"IF('LIVRET Compétences'!H134=$O$2,'LIVRET Compétences'!I134,\"\")","v":""},{"$f":"IF('LIVRET Compétences'!H134=$O$2,'LIVRET Compétences'!E134,\"\")","v":""},{"$f":"IF('LIVRET Compétences'!H134=$O$2,'LIVRET Compétences'!G134,\"\")","v":""},{"$f":"IF('LIVRET Compétences'!H134=$O$2,'LIVRET Compétences'!C134,\"\")","v":""},{"$f":"IF('LIVRET Compétences'!H134=$S$2,'LIVRET Compétences'!I134,\"\")","v":""},{"$f":"IF('LIVRET Compétences'!H134=$S$2,'LIVRET Compétences'!E134,\"\")","v":""},{"$f":"IF('LIVRET Compétences'!H134=$S$2,'LIVRET Compétences'!G134,\"\")","v":""},{"$f":"IF('LIVRET Compétences'!H134=$S$2,'LIVRET Compétences'!C134,\"\")","v":""},{"$f":"IF('LIVRET Compétences'!H134=$W$2,'LIVRET Compétences'!I134,\"\")","v":""},{"$f":"IF('LIVRET Compétences'!H134=$W$2,'LIVRET Compétences'!E134,\"\")","v":""},{"$f":"IF('LIVRET Compétences'!H134=$W$2,'LIVRET Compétences'!G134,\"\")","v":""},{"$f":"IF('LIVRET Compétences'!H134=$W$2,'LIVRET Compétences'!C134,\"\")","v":""}]
[null,null,null,null,null,null,null,null,null,null,null,null,null,null,{"$f":"IF('LIVRET Compétences'!H135=$O$2,'LIVRET Compétences'!I135,\"\")","v":""},{"$f":"IF('LIVRET Compétences'!H135=$O$2,'LIVRET Compétences'!E135,\"\")","v":""},{"$f":"IF('LIVRET Compétences'!H135=$O$2,'LIVRET Compétences'!G135,\"\")","v":""},{"$f":"IF('LIVRET Compétences'!H135=$O$2,'LIVRET Compétences'!C135,\"\")","v":""},{"$f":"IF('LIVRET Compétences'!H135=$S$2,'LIVRET Compétences'!I135,\"\")","v":""},{"$f":"IF('LIVRET Compétences'!H135=$S$2,'LIVRET Compétences'!E135,\"\")","v":""},{"$f":"IF('LIVRET Compétences'!H135=$S$2,'LIVRET Compétences'!G135,\"\")","v":""},{"$f":"IF('LIVRET Compétences'!H135=$S$2,'LIVRET Compétences'!C135,\"\")","v":""},{"$f":"IF('LIVRET Compétences'!H135=$W$2,'LIVRET Compétences'!I135,\"\")","v":""},{"$f":"IF('LIVRET Compétences'!H135=$W$2,'LIVRET Compétences'!E135,\"\")","v":""},{"$f":"IF('LIVRET Compétences'!H135=$W$2,'LIVRET Compétences'!G135,\"\")","v":""},{"$f":"IF('LIVRET Compétences'!H135=$W$2,'LIVRET Compétences'!C135,\"\")","v":""}]
[null,null,null,null,null,null,null,null,null,null,null,null,null,null,{"$f":"IF('LIVRET Compétences'!H136=$O$2,'LIVRET Compétences'!I136,\"\")","v":""},{"$f":"IF('LIVRET Compétences'!H136=$O$2,'LIVRET Compétences'!E136,\"\")","v":""},{"$f":"IF('LIVRET Compétences'!H136=$O$2,'LIVRET Compétences'!G136,\"\")","v":""},{"$f":"IF('LIVRET Compétences'!H136=$O$2,'LIVRET Compétences'!C136,\"\")","v":""},{"$f":"IF('LIVRET Compétences'!H136=$S$2,'LIVRET Compétences'!I136,\"\")","v":""},{"$f":"IF('LIVRET Compétences'!H136=$S$2,'LIVRET Compétences'!E136,\"\")","v":""},{"$f":"IF('LIVRET Compétences'!H136=$S$2,'LIVRET Compétences'!G136,\"\")","v":""},{"$f":"IF('LIVRET Compétences'!H136=$S$2,'LIVRET Compétences'!C136,\"\")","v":""},{"$f":"IF('LIVRET Compétences'!H136=$W$2,'LIVRET Compétences'!I136,\"\")","v":""},{"$f":"IF('LIVRET Compétences'!H136=$W$2,'LIVRET Compétences'!E136,\"\")","v":""},{"$f":"IF('LIVRET Compétences'!H136=$W$2,'LIVRET Compétences'!G136,\"\")","v":""},{"$f":"IF('LIVRET Compétences'!H136=$W$2,'LIVRET Compétences'!C136,\"\")","v":""}]
[null,null,null,null,null,null,null,null,null,null,null,null,null,null,{"$f":"IF('LIVRET Compétences'!H137=$O$2,'LIVRET Compétences'!I137,\"\")","v":""},{"$f":"IF('LIVRET Compétences'!H137=$O$2,'LIVRET Compétences'!E137,\"\")","v":""},{"$f":"IF('LIVRET Compétences'!H137=$O$2,'LIVRET Compétences'!G137,\"\")","v":""},{"$f":"IF('LIVRET Compétences'!H137=$O$2,'LIVRET Compétences'!C137,\"\")","v":""},{"$f":"IF('LIVRET Compétences'!H137=$S$2,'LIVRET Compétences'!I137,\"\")","v":""},{"$f":"IF('LIVRET Compétences'!H137=$S$2,'LIVRET Compétences'!E137,\"\")","v":""},{"$f":"IF('LIVRET Compétences'!H137=$S$2,'LIVRET Compétences'!G137,\"\")","v":""},{"$f":"IF('LIVRET Compétences'!H137=$S$2,'LIVRET Compétences'!C137,\"\")","v":""},{"$f":"IF('LIVRET Compétences'!H137=$W$2,'LIVRET Compétences'!I137,\"\")","v":""},{"$f":"IF('LIVRET Compétences'!H137=$W$2,'LIVRET Compétences'!E137,\"\")","v":""},{"$f":"IF('LIVRET Compétences'!H137=$W$2,'LIVRET Compétences'!G137,\"\")","v":""},{"$f":"IF('LIVRET Compétences'!H137=$W$2,'LIVRET Compétences'!C137,\"\")","v":""}]
[null,null,null,null,null,null,null,null,null,null,null,null,null,null,{"$f":"IF('LIVRET Compétences'!H138=$O$2,'LIVRET Compétences'!I138,\"\")","v":""},{"$f":"IF('LIVRET Compétences'!H138=$O$2,'LIVRET Compétences'!E138,\"\")","v":""},{"$f":"IF('LIVRET Compétences'!H138=$O$2,'LIVRET Compétences'!G138,\"\")","v":""},{"$f":"IF('LIVRET Compétences'!H138=$O$2,'LIVRET Compétences'!C138,\"\")","v":""},{"$f":"IF('LIVRET Compétences'!H138=$S$2,'LIVRET Compétences'!I138,\"\")","v":""},{"$f":"IF('LIVRET Compétences'!H138=$S$2,'LIVRET Compétences'!E138,\"\")","v":""},{"$f":"IF('LIVRET Compétences'!H138=$S$2,'LIVRET Compétences'!G138,\"\")","v":""},{"$f":"IF('LIVRET Compétences'!H138=$S$2,'LIVRET Compétences'!C138,\"\")","v":""},{"$f":"IF('LIVRET Compétences'!H138=$W$2,'LIVRET Compétences'!I138,\"\")","v":""},{"$f":"IF('LIVRET Compétences'!H138=$W$2,'LIVRET Compétences'!E138,\"\")","v":""},{"$f":"IF('LIVRET Compétences'!H138=$W$2,'LIVRET Compétences'!G138,\"\")","v":""},{"$f":"IF('LIVRET Compétences'!H138=$W$2,'LIVRET Compétences'!C138,\"\")","v":""}]
[null,null,null,null,null,null,null,null,null,null,null,null,null,null,{"$f":"IF('LIVRET Compétences'!H139=$O$2,'LIVRET Compétences'!I139,\"\")","v":""},{"$f":"IF('LIVRET Compétences'!H139=$O$2,'LIVRET Compétences'!E139,\"\")","v":""},{"$f":"IF('LIVRET Compétences'!H139=$O$2,'LIVRET Compétences'!G139,\"\")","v":""},{"$f":"IF('LIVRET Compétences'!H139=$O$2,'LIVRET Compétences'!C139,\"\")","v":""},{"$f":"IF('LIVRET Compétences'!H139=$S$2,'LIVRET Compétences'!I139,\"\")","v":""},{"$f":"IF('LIVRET Compétences'!H139=$S$2,'LIVRET Compétences'!E139,\"\")","v":""},{"$f":"IF('LIVRET Compétences'!H139=$S$2,'LIVRET Compétences'!G139,\"\")","v":""},{"$f":"IF('LIVRET Compétences'!H139=$S$2,'LIVRET Compétences'!C139,\"\")","v":""},{"$f":"IF('LIVRET Compétences'!H139=$W$2,'LIVRET Compétences'!I139,\"\")","v":""},{"$f":"IF('LIVRET Compétences'!H139=$W$2,'LIVRET Compétences'!E139,\"\")","v":""},{"$f":"IF('LIVRET Compétences'!H139=$W$2,'LIVRET Compétences'!G139,\"\")","v":""},{"$f":"IF('LIVRET Compétences'!H139=$W$2,'LIVRET Compétences'!C139,\"\")","v":""}]
[null,null,null,null,null,null,null,null,null,null,null,null,null,null,{"$f":"IF('LIVRET Compétences'!H140=$O$2,'LIVRET Compétences'!I140,\"\")","v":""},{"$f":"IF('LIVRET Compétences'!H140=$O$2,'LIVRET Compétences'!E140,\"\")","v":""},{"$f":"IF('LIVRET Compétences'!H140=$O$2,'LIVRET Compétences'!G140,\"\")","v":""},{"$f":"IF('LIVRET Compétences'!H140=$O$2,'LIVRET Compétences'!C140,\"\")","v":""},{"$f":"IF('LIVRET Compétences'!H140=$S$2,'LIVRET Compétences'!I140,\"\")","v":""},{"$f":"IF('LIVRET Compétences'!H140=$S$2,'LIVRET Compétences'!E140,\"\")","v":""},{"$f":"IF('LIVRET Compétences'!H140=$S$2,'LIVRET Compétences'!G140,\"\")","v":""},{"$f":"IF('LIVRET Compétences'!H140=$S$2,'LIVRET Compétences'!C140,\"\")","v":""},{"$f":"IF('LIVRET Compétences'!H140=$W$2,'LIVRET Compétences'!I140,\"\")","v":""},{"$f":"IF('LIVRET Compétences'!H140=$W$2,'LIVRET Compétences'!E140,\"\")","v":""},{"$f":"IF('LIVRET Compétences'!H140=$W$2,'LIVRET Compétences'!G140,\"\")","v":""},{"$f":"IF('LIVRET Compétences'!H140=$W$2,'LIVRET Compétences'!C140,\"\")","v":""}]
[null,null,null,null,null,null,null,null,null,null,null,null,null,null,{"$f":"IF('LIVRET Compétences'!H141=$O$2,'LIVRET Compétences'!I141,\"\")","v":""},{"$f":"IF('LIVRET Compétences'!H141=$O$2,'LIVRET Compétences'!E141,\"\")","v":""},{"$f":"IF('LIVRET Compétences'!H141=$O$2,'LIVRET Compétences'!G141,\"\")","v":""},{"$f":"IF('LIVRET Compétences'!H141=$O$2,'LIVRET Compétences'!C141,\"\")","v":""},{"$f":"IF('LIVRET Compétences'!H141=$S$2,'LIVRET Compétences'!I141,\"\")","v":""},{"$f":"IF('LIVRET Compétences'!H141=$S$2,'LIVRET Compétences'!E141,\"\")","v":""},{"$f":"IF('LIVRET Compétences'!H141=$S$2,'LIVRET Compétences'!G141,\"\")","v":""},{"$f":"IF('LIVRET Compétences'!H141=$S$2,'LIVRET Compétences'!C141,\"\")","v":""},{"$f":"IF('LIVRET Compétences'!H141=$W$2,'LIVRET Compétences'!I141,\"\")","v":""},{"$f":"IF('LIVRET Compétences'!H141=$W$2,'LIVRET Compétences'!E141,\"\")","v":""},{"$f":"IF('LIVRET Compétences'!H141=$W$2,'LIVRET Compétences'!G141,\"\")","v":""},{"$f":"IF('LIVRET Compétences'!H141=$W$2,'LIVRET Compétences'!C141,\"\")","v":""}]
[null,null,null,null,null,null,null,null,null,null,null,null,null,null,{"$f":"IF('LIVRET Compétences'!H142=$O$2,'LIVRET Compétences'!I142,\"\")","v":""},{"$f":"IF('LIVRET Compétences'!H142=$O$2,'LIVRET Compétences'!E142,\"\")","v":""},{"$f":"IF('LIVRET Compétences'!H142=$O$2,'LIVRET Compétences'!G142,\"\")","v":""},{"$f":"IF('LIVRET Compétences'!H142=$O$2,'LIVRET Compétences'!C142,\"\")","v":""},{"$f":"IF('LIVRET Compétences'!H142=$S$2,'LIVRET Compétences'!I142,\"\")","v":""},{"$f":"IF('LIVRET Compétences'!H142=$S$2,'LIVRET Compétences'!E142,\"\")","v":""},{"$f":"IF('LIVRET Compétences'!H142=$S$2,'LIVRET Compétences'!G142,\"\")","v":""},{"$f":"IF('LIVRET Compétences'!H142=$S$2,'LIVRET Compétences'!C142,\"\")","v":""},{"$f":"IF('LIVRET Compétences'!H142=$W$2,'LIVRET Compétences'!I142,\"\")","v":""},{"$f":"IF('LIVRET Compétences'!H142=$W$2,'LIVRET Compétences'!E142,\"\")","v":""},{"$f":"IF('LIVRET Compétences'!H142=$W$2,'LIVRET Compétences'!G142,\"\")","v":""},{"$f":"IF('LIVRET Compétences'!H142=$W$2,'LIVRET Compétences'!C142,\"\")","v":""}]
[null,null,null,null,null,null,null,null,null,null,null,null,null,null,{"$f":"IF('LIVRET Compétences'!H143=$O$2,'LIVRET Compétences'!I143,\"\")","v":""},{"$f":"IF('LIVRET Compétences'!H143=$O$2,'LIVRET Compétences'!E143,\"\")","v":""},{"$f":"IF('LIVRET Compétences'!H143=$O$2,'LIVRET Compétences'!G143,\"\")","v":""},{"$f":"IF('LIVRET Compétences'!H143=$O$2,'LIVRET Compétences'!C143,\"\")","v":""},{"$f":"IF('LIVRET Compétences'!H143=$S$2,'LIVRET Compétences'!I143,\"\")","v":""},{"$f":"IF('LIVRET Compétences'!H143=$S$2,'LIVRET Compétences'!E143,\"\")","v":""},{"$f":"IF('LIVRET Compétences'!H143=$S$2,'LIVRET Compétences'!G143,\"\")","v":""},{"$f":"IF('LIVRET Compétences'!H143=$S$2,'LIVRET Compétences'!C143,\"\")","v":""},{"$f":"IF('LIVRET Compétences'!H143=$W$2,'LIVRET Compétences'!I143,\"\")","v":""},{"$f":"IF('LIVRET Compétences'!H143=$W$2,'LIVRET Compétences'!E143,\"\")","v":""},{"$f":"IF('LIVRET Compétences'!H143=$W$2,'LIVRET Compétences'!G143,\"\")","v":""},{"$f":"IF('LIVRET Compétences'!H143=$W$2,'LIVRET Compétences'!C143,\"\")","v":""}]
[null,null,null,null,null,null,null,null,null,null,null,null,null,null,{"$f":"IF('LIVRET Compétences'!H144=$O$2,'LIVRET Compétences'!I144,\"\")","v":""},{"$f":"IF('LIVRET Compétences'!H144=$O$2,'LIVRET Compétences'!E144,\"\")","v":""},{"$f":"IF('LIVRET Compétences'!H144=$O$2,'LIVRET Compétences'!G144,\"\")","v":""},{"$f":"IF('LIVRET Compétences'!H144=$O$2,'LIVRET Compétences'!C144,\"\")","v":""},{"$f":"IF('LIVRET Compétences'!H144=$S$2,'LIVRET Compétences'!I144,\"\")","v":""},{"$f":"IF('LIVRET Compétences'!H144=$S$2,'LIVRET Compétences'!E144,\"\")","v":""},{"$f":"IF('LIVRET Compétences'!H144=$S$2,'LIVRET Compétences'!G144,\"\")","v":""},{"$f":"IF('LIVRET Compétences'!H144=$S$2,'LIVRET Compétences'!C144,\"\")","v":""},{"$f":"IF('LIVRET Compétences'!H144=$W$2,'LIVRET Compétences'!I144,\"\")","v":""},{"$f":"IF('LIVRET Compétences'!H144=$W$2,'LIVRET Compétences'!E144,\"\")","v":""},{"$f":"IF('LIVRET Compétences'!H144=$W$2,'LIVRET Compétences'!G144,\"\")","v":""},{"$f":"IF('LIVRET Compétences'!H144=$W$2,'LIVRET Compétences'!C144,\"\")","v":""}]
[null,null,null,null,null,null,null,null,null,null,null,null,null,null,{"$f":"IF('LIVRET Compétences'!H145=$O$2,'LIVRET Compétences'!I145,\"\")","v":""},{"$f":"IF('LIVRET Compétences'!H145=$O$2,'LIVRET Compétences'!E145,\"\")","v":""},{"$f":"IF('LIVRET Compétences'!H145=$O$2,'LIVRET Compétences'!G145,\"\")","v":""},{"$f":"IF('LIVRET Compétences'!H145=$O$2,'LIVRET Compétences'!C145,\"\")","v":""},{"$f":"IF('LIVRET Compétences'!H145=$S$2,'LIVRET Compétences'!I145,\"\")","v":""},{"$f":"IF('LIVRET Compétences'!H145=$S$2,'LIVRET Compétences'!E145,\"\")","v":""},{"$f":"IF('LIVRET Compétences'!H145=$S$2,'LIVRET Compétences'!G145,\"\")","v":""},{"$f":"IF('LIVRET Compétences'!H145=$S$2,'LIVRET Compétences'!C145,\"\")","v":""},{"$f":"IF('LIVRET Compétences'!H145=$W$2,'LIVRET Compétences'!I145,\"\")","v":""},{"$f":"IF('LIVRET Compétences'!H145=$W$2,'LIVRET Compétences'!E145,\"\")","v":""},{"$f":"IF('LIVRET Compétences'!H145=$W$2,'LIVRET Compétences'!G145,\"\")","v":""},{"$f":"IF('LIVRET Compétences'!H145=$W$2,'LIVRET Compétences'!C145,\"\")","v":""}]
[null,null,null,null,null,null,null,null,null,null,null,null,null,null,{"$f":"IF('LIVRET Compétences'!H146=$O$2,'LIVRET Compétences'!I146,\"\")","v":""},{"$f":"IF('LIVRET Compétences'!H146=$O$2,'LIVRET Compétences'!E146,\"\")","v":""},{"$f":"IF('LIVRET Compétences'!H146=$O$2,'LIVRET Compétences'!G146,\"\")","v":""},{"$f":"IF('LIVRET Compétences'!H146=$O$2,'LIVRET Compétences'!C146,\"\")","v":""},{"$f":"IF('LIVRET Compétences'!H146=$S$2,'LIVRET Compétences'!I146,\"\")","v":""},{"$f":"IF('LIVRET Compétences'!H146=$S$2,'LIVRET Compétences'!E146,\"\")","v":""},{"$f":"IF('LIVRET Compétences'!H146=$S$2,'LIVRET Compétences'!G146,\"\")","v":""},{"$f":"IF('LIVRET Compétences'!H146=$S$2,'LIVRET Compétences'!C146,\"\")","v":""},{"$f":"IF('LIVRET Compétences'!H146=$W$2,'LIVRET Compétences'!I146,\"\")","v":""},{"$f":"IF('LIVRET Compétences'!H146=$W$2,'LIVRET Compétences'!E146,\"\")","v":""},{"$f":"IF('LIVRET Compétences'!H146=$W$2,'LIVRET Compétences'!G146,\"\")","v":""},{"$f":"IF('LIVRET Compétences'!H146=$W$2,'LIVRET Compétences'!C146,\"\")","v":""}]
[null,null,null,null,null,null,null,null,null,null,null,null,null,null,{"$f":"IF('LIVRET Compétences'!H147=$O$2,'LIVRET Compétences'!I147,\"\")","v":""},{"$f":"IF('LIVRET Compétences'!H147=$O$2,'LIVRET Compétences'!E147,\"\")","v":""},{"$f":"IF('LIVRET Compétences'!H147=$O$2,'LIVRET Compétences'!G147,\"\")","v":""},{"$f":"IF('LIVRET Compétences'!H147=$O$2,'LIVRET Compétences'!C147,\"\")","v":""},{"$f":"IF('LIVRET Compétences'!H147=$S$2,'LIVRET Compétences'!I147,\"\")","v":""},{"$f":"IF('LIVRET Compétences'!H147=$S$2,'LIVRET Compétences'!E147,\"\")","v":""},{"$f":"IF('LIVRET Compétences'!H147=$S$2,'LIVRET Compétences'!G147,\"\")","v":""},{"$f":"IF('LIVRET Compétences'!H147=$S$2,'LIVRET Compétences'!C147,\"\")","v":""},{"$f":"IF('LIVRET Compétences'!H147=$W$2,'LIVRET Compétences'!I147,\"\")","v":""},{"$f":"IF('LIVRET Compétences'!H147=$W$2,'LIVRET Compétences'!E147,\"\")","v":""},{"$f":"IF('LIVRET Compétences'!H147=$W$2,'LIVRET Compétences'!G147,\"\")","v":""},{"$f":"IF('LIVRET Compétences'!H147=$W$2,'LIVRET Compétences'!C147,\"\")","v":""}]
[null,null,null,null,null,null,null,null,null,null,null,null,null,null,{"$f":"IF('LIVRET Compétences'!H148=$O$2,'LIVRET Compétences'!I148,\"\")","v":""},{"$f":"IF('LIVRET Compétences'!H148=$O$2,'LIVRET Compétences'!E148,\"\")","v":""},{"$f":"IF('LIVRET Compétences'!H148=$O$2,'LIVRET Compétences'!G148,\"\")","v":""},{"$f":"IF('LIVRET Compétences'!H148=$O$2,'LIVRET Compétences'!C148,\"\")","v":""},{"$f":"IF('LIVRET Compétences'!H148=$S$2,'LIVRET Compétences'!I148,\"\")","v":""},{"$f":"IF('LIVRET Compétences'!H148=$S$2,'LIVRET Compétences'!E148,\"\")","v":""},{"$f":"IF('LIVRET Compétences'!H148=$S$2,'LIVRET Compétences'!G148,\"\")","v":""},{"$f":"IF('LIVRET Compétences'!H148=$S$2,'LIVRET Compétences'!C148,\"\")","v":""},{"$f":"IF('LIVRET Compétences'!H148=$W$2,'LIVRET Compétences'!I148,\"\")","v":""},{"$f":"IF('LIVRET Compétences'!H148=$W$2,'LIVRET Compétences'!E148,\"\")","v":""},{"$f":"IF('LIVRET Compétences'!H148=$W$2,'LIVRET Compétences'!G148,\"\")","v":""},{"$f":"IF('LIVRET Compétences'!H148=$W$2,'LIVRET Compétences'!C148,\"\")","v":""}]
[null,null,null,null,null,null,null,null,null,null,null,null,null,null,{"$f":"IF('LIVRET Compétences'!H149=$O$2,'LIVRET Compétences'!I149,\"\")","v":""},{"$f":"IF('LIVRET Compétences'!H149=$O$2,'LIVRET Compétences'!E149,\"\")","v":""},{"$f":"IF('LIVRET Compétences'!H149=$O$2,'LIVRET Compétences'!G149,\"\")","v":""},{"$f":"IF('LIVRET Compétences'!H149=$O$2,'LIVRET Compétences'!C149,\"\")","v":""},{"$f":"IF('LIVRET Compétences'!H149=$S$2,'LIVRET Compétences'!I149,\"\")","v":""},{"$f":"IF('LIVRET Compétences'!H149=$S$2,'LIVRET Compétences'!E149,\"\")","v":""},{"$f":"IF('LIVRET Compétences'!H149=$S$2,'LIVRET Compétences'!G149,\"\")","v":""},{"$f":"IF('LIVRET Compétences'!H149=$S$2,'LIVRET Compétences'!C149,\"\")","v":""},{"$f":"IF('LIVRET Compétences'!H149=$W$2,'LIVRET Compétences'!I149,\"\")","v":""},{"$f":"IF('LIVRET Compétences'!H149=$W$2,'LIVRET Compétences'!E149,\"\")","v":""},{"$f":"IF('LIVRET Compétences'!H149=$W$2,'LIVRET Compétences'!G149,\"\")","v":""},{"$f":"IF('LIVRET Compétences'!H149=$W$2,'LIVRET Compétences'!C149,\"\")","v":""}]
[null,null,null,null,null,null,null,null,null,null,null,null,null,null,{"$f":"IF('LIVRET Compétences'!H150=$O$2,'LIVRET Compétences'!I150,\"\")","v":""},{"$f":"IF('LIVRET Compétences'!H150=$O$2,'LIVRET Compétences'!E150,\"\")","v":""},{"$f":"IF('LIVRET Compétences'!H150=$O$2,'LIVRET Compétences'!G150,\"\")","v":""},{"$f":"IF('LIVRET Compétences'!H150=$O$2,'LIVRET Compétences'!C150,\"\")","v":""},{"$f":"IF('LIVRET Compétences'!H150=$S$2,'LIVRET Compétences'!I150,\"\")","v":""},{"$f":"IF('LIVRET Compétences'!H150=$S$2,'LIVRET Compétences'!E150,\"\")","v":""},{"$f":"IF('LIVRET Compétences'!H150=$S$2,'LIVRET Compétences'!G150,\"\")","v":""},{"$f":"IF('LIVRET Compétences'!H150=$S$2,'LIVRET Compétences'!C150,\"\")","v":""},{"$f":"IF('LIVRET Compétences'!H150=$W$2,'LIVRET Compétences'!I150,\"\")","v":""},{"$f":"IF('LIVRET Compétences'!H150=$W$2,'LIVRET Compétences'!E150,\"\")","v":""},{"$f":"IF('LIVRET Compétences'!H150=$W$2,'LIVRET Compétences'!G150,\"\")","v":""},{"$f":"IF('LIVRET Compétences'!H150=$W$2,'LIVRET Compétences'!C150,\"\")","v":""}]
[null,null,null,null,null,null,null,null,null,null,null,null,null,null,{"$f":"IF('LIVRET Compétences'!H151=$O$2,'LIVRET Compétences'!I151,\"\")","v":""},{"$f":"IF('LIVRET Compétences'!H151=$O$2,'LIVRET Compétences'!E151,\"\")","v":""},{"$f":"IF('LIVRET Compétences'!H151=$O$2,'LIVRET Compétences'!G151,\"\")","v":""},{"$f":"IF('LIVRET Compétences'!H151=$O$2,'LIVRET Compétences'!C151,\"\")","v":""},{"$f":"IF('LIVRET Compétences'!H151=$S$2,'LIVRET Compétences'!I151,\"\")","v":""},{"$f":"IF('LIVRET Compétences'!H151=$S$2,'LIVRET Compétences'!E151,\"\")","v":""},{"$f":"IF('LIVRET Compétences'!H151=$S$2,'LIVRET Compétences'!G151,\"\")","v":""},{"$f":"IF('LIVRET Compétences'!H151=$S$2,'LIVRET Compétences'!C151,\"\")","v":""},{"$f":"IF('LIVRET Compétences'!H151=$W$2,'LIVRET Compétences'!I151,\"\")","v":""},{"$f":"IF('LIVRET Compétences'!H151=$W$2,'LIVRET Compétences'!E151,\"\")","v":""},{"$f":"IF('LIVRET Compétences'!H151=$W$2,'LIVRET Compétences'!G151,\"\")","v":""},{"$f":"IF('LIVRET Compétences'!H151=$W$2,'LIVRET Compétences'!C151,\"\")","v":""}]
[null,null,null,null,null,null,null,null,null,null,null,null,null,null,{"$f":"IF('LIVRET Compétences'!H152=$O$2,'LIVRET Compétences'!I152,\"\")","v":""},{"$f":"IF('LIVRET Compétences'!H152=$O$2,'LIVRET Compétences'!E152,\"\")","v":""},{"$f":"IF('LIVRET Compétences'!H152=$O$2,'LIVRET Compétences'!G152,\"\")","v":""},{"$f":"IF('LIVRET Compétences'!H152=$O$2,'LIVRET Compétences'!C152,\"\")","v":""},{"$f":"IF('LIVRET Compétences'!H152=$S$2,'LIVRET Compétences'!I152,\"\")","v":""},{"$f":"IF('LIVRET Compétences'!H152=$S$2,'LIVRET Compétences'!E152,\"\")","v":""},{"$f":"IF('LIVRET Compétences'!H152=$S$2,'LIVRET Compétences'!G152,\"\")","v":""},{"$f":"IF('LIVRET Compétences'!H152=$S$2,'LIVRET Compétences'!C152,\"\")","v":""},{"$f":"IF('LIVRET Compétences'!H152=$W$2,'LIVRET Compétences'!I152,\"\")","v":""},{"$f":"IF('LIVRET Compétences'!H152=$W$2,'LIVRET Compétences'!E152,\"\")","v":""},{"$f":"IF('LIVRET Compétences'!H152=$W$2,'LIVRET Compétences'!G152,\"\")","v":""},{"$f":"IF('LIVRET Compétences'!H152=$W$2,'LIVRET Compétences'!C152,\"\")","v":""}]
[null,null,null,null,null,null,null,null,null,null,null,null,null,null,{"$f":"IF('LIVRET Compétences'!H153=$O$2,'LIVRET Compétences'!I153,\"\")","v":""},{"$f":"IF('LIVRET Compétences'!H153=$O$2,'LIVRET Compétences'!E153,\"\")","v":""},{"$f":"IF('LIVRET Compétences'!H153=$O$2,'LIVRET Compétences'!G153,\"\")","v":""},{"$f":"IF('LIVRET Compétences'!H153=$O$2,'LIVRET Compétences'!C153,\"\")","v":""},{"$f":"IF('LIVRET Compétences'!H153=$S$2,'LIVRET Compétences'!I153,\"\")","v":""},{"$f":"IF('LIVRET Compétences'!H153=$S$2,'LIVRET Compétences'!E153,\"\")","v":""},{"$f":"IF('LIVRET Compétences'!H153=$S$2,'LIVRET Compétences'!G153,\"\")","v":""},{"$f":"IF('LIVRET Compétences'!H153=$S$2,'LIVRET Compétences'!C153,\"\")","v":""},{"$f":"IF('LIVRET Compétences'!H153=$W$2,'LIVRET Compétences'!I153,\"\")","v":""},{"$f":"IF('LIVRET Compétences'!H153=$W$2,'LIVRET Compétences'!E153,\"\")","v":""},{"$f":"IF('LIVRET Compétences'!H153=$W$2,'LIVRET Compétences'!G153,\"\")","v":""},{"$f":"IF('LIVRET Compétences'!H153=$W$2,'LIVRET Compétences'!C153,\"\")","v":""}]
[null,null,null,null,null,null,null,null,null,null,null,null,null,null,{"$f":"IF('LIVRET Compétences'!H154=$O$2,'LIVRET Compétences'!I154,\"\")","v":""},{"$f":"IF('LIVRET Compétences'!H154=$O$2,'LIVRET Compétences'!E154,\"\")","v":""},{"$f":"IF('LIVRET Compétences'!H154=$O$2,'LIVRET Compétences'!G154,\"\")","v":""},{"$f":"IF('LIVRET Compétences'!H154=$O$2,'LIVRET Compétences'!C154,\"\")","v":""},{"$f":"IF('LIVRET Compétences'!H154=$S$2,'LIVRET Compétences'!I154,\"\")","v":""},{"$f":"IF('LIVRET Compétences'!H154=$S$2,'LIVRET Compétences'!E154,\"\")","v":""},{"$f":"IF('LIVRET Compétences'!H154=$S$2,'LIVRET Compétences'!G154,\"\")","v":""},{"$f":"IF('LIVRET Compétences'!H154=$S$2,'LIVRET Compétences'!C154,\"\")","v":""},{"$f":"IF('LIVRET Compétences'!H154=$W$2,'LIVRET Compétences'!I154,\"\")","v":""},{"$f":"IF('LIVRET Compétences'!H154=$W$2,'LIVRET Compétences'!E154,\"\")","v":""},{"$f":"IF('LIVRET Compétences'!H154=$W$2,'LIVRET Compétences'!G154,\"\")","v":""},{"$f":"IF('LIVRET Compétences'!H154=$W$2,'LIVRET Compétences'!C154,\"\")","v":""}]
[null,null,null,null,null,null,null,null,null,null,null,null,null,null,{"$f":"IF('LIVRET Compétences'!H155=$O$2,'LIVRET Compétences'!I155,\"\")","v":""},{"$f":"IF('LIVRET Compétences'!H155=$O$2,'LIVRET Compétences'!E155,\"\")","v":""},{"$f":"IF('LIVRET Compétences'!H155=$O$2,'LIVRET Compétences'!G155,\"\")","v":""},{"$f":"IF('LIVRET Compétences'!H155=$O$2,'LIVRET Compétences'!C155,\"\")","v":""},{"$f":"IF('LIVRET Compétences'!H155=$S$2,'LIVRET Compétences'!I155,\"\")","v":""},{"$f":"IF('LIVRET Compétences'!H155=$S$2,'LIVRET Compétences'!E155,\"\")","v":""},{"$f":"IF('LIVRET Compétences'!H155=$S$2,'LIVRET Compétences'!G155,\"\")","v":""},{"$f":"IF('LIVRET Compétences'!H155=$S$2,'LIVRET Compétences'!C155,\"\")","v":""},{"$f":"IF('LIVRET Compétences'!H155=$W$2,'LIVRET Compétences'!I155,\"\")","v":""},{"$f":"IF('LIVRET Compétences'!H155=$W$2,'LIVRET Compétences'!E155,\"\")","v":""},{"$f":"IF('LIVRET Compétences'!H155=$W$2,'LIVRET Compétences'!G155,\"\")","v":""},{"$f":"IF('LIVRET Compétences'!H155=$W$2,'LIVRET Compétences'!C155,\"\")","v":""}]
[null,null,null,null,null,null,null,null,null,null,null,null,null,null,{"$f":"IF('LIVRET Compétences'!H156=$O$2,'LIVRET Compétences'!I156,\"\")","v":""},{"$f":"IF('LIVRET Compétences'!H156=$O$2,'LIVRET Compétences'!E156,\"\")","v":""},{"$f":"IF('LIVRET Compétences'!H156=$O$2,'LIVRET Compétences'!G156,\"\")","v":""},{"$f":"IF('LIVRET Compétences'!H156=$O$2,'LIVRET Compétences'!C156,\"\")","v":""},{"$f":"IF('LIVRET Compétences'!H156=$S$2,'LIVRET Compétences'!I156,\"\")","v":""},{"$f":"IF('LIVRET Compétences'!H156=$S$2,'LIVRET Compétences'!E156,\"\")","v":""},{"$f":"IF('LIVRET Compétences'!H156=$S$2,'LIVRET Compétences'!G156,\"\")","v":""},{"$f":"IF('LIVRET Compétences'!H156=$S$2,'LIVRET Compétences'!C156,\"\")","v":""},{"$f":"IF('LIVRET Compétences'!H156=$W$2,'LIVRET Compétences'!I156,\"\")","v":""},{"$f":"IF('LIVRET Compétences'!H156=$W$2,'LIVRET Compétences'!E156,\"\")","v":""},{"$f":"IF('LIVRET Compétences'!H156=$W$2,'LIVRET Compétences'!G156,\"\")","v":""},{"$f":"IF('LIVRET Compétences'!H156=$W$2,'LIVRET Compétences'!C156,\"\")","v":""}]
[null,null,null,null,null,null,null,null,null,null,null,null,null,null,{"$f":"IF('LIVRET Compétences'!H157=$O$2,'LIVRET Compétences'!I157,\"\")","v":""},{"$f":"IF('LIVRET Compétences'!H157=$O$2,'LIVRET Compétences'!E157,\"\")","v":""},{"$f":"IF('LIVRET Compétences'!H157=$O$2,'LIVRET Compétences'!G157,\"\")","v":""},{"$f":"IF('LIVRET Compétences'!H157=$O$2,'LIVRET Compétences'!C157,\"\")","v":""},{"$f":"IF('LIVRET Compétences'!H157=$S$2,'LIVRET Compétences'!I157,\"\")","v":""},{"$f":"IF('LIVRET Compétences'!H157=$S$2,'LIVRET Compétences'!E157,\"\")","v":""},{"$f":"IF('LIVRET Compétences'!H157=$S$2,'LIVRET Compétences'!G157,\"\")","v":""},{"$f":"IF('LIVRET Compétences'!H157=$S$2,'LIVRET Compétences'!C157,\"\")","v":""},{"$f":"IF('LIVRET Compétences'!H157=$W$2,'LIVRET Compétences'!I157,\"\")","v":""},{"$f":"IF('LIVRET Compétences'!H157=$W$2,'LIVRET Compétences'!E157,\"\")","v":""},{"$f":"IF('LIVRET Compétences'!H157=$W$2,'LIVRET Compétences'!G157,\"\")","v":""},{"$f":"IF('LIVRET Compétences'!H157=$W$2,'LIVRET Compétences'!C157,\"\")","v":""}]
[null,null,null,null,null,null,null,null,null,null,null,null,null,null,{"$f":"IF('LIVRET Compétences'!H158=$O$2,'LIVRET Compétences'!I158,\"\")","v":""},{"$f":"IF('LIVRET Compétences'!H158=$O$2,'LIVRET Compétences'!E158,\"\")","v":""},{"$f":"IF('LIVRET Compétences'!H158=$O$2,'LIVRET Compétences'!G158,\"\")","v":""},{"$f":"IF('LIVRET Compétences'!H158=$O$2,'LIVRET Compétences'!C158,\"\")","v":""},{"$f":"IF('LIVRET Compétences'!H158=$S$2,'LIVRET Compétences'!I158,\"\")","v":""},{"$f":"IF('LIVRET Compétences'!H158=$S$2,'LIVRET Compétences'!E158,\"\")","v":""},{"$f":"IF('LIVRET Compétences'!H158=$S$2,'LIVRET Compétences'!G158,\"\")","v":""},{"$f":"IF('LIVRET Compétences'!H158=$S$2,'LIVRET Compétences'!C158,\"\")","v":""},{"$f":"IF('LIVRET Compétences'!H158=$W$2,'LIVRET Compétences'!I158,\"\")","v":""},{"$f":"IF('LIVRET Compétences'!H158=$W$2,'LIVRET Compétences'!E158,\"\")","v":""},{"$f":"IF('LIVRET Compétences'!H158=$W$2,'LIVRET Compétences'!G158,\"\")","v":""},{"$f":"IF('LIVRET Compétences'!H158=$W$2,'LIVRET Compétences'!C158,\"\")","v":""}]
[null,null,null,null,null,null,null,null,null,null,null,null,null,null,{"$f":"IF('LIVRET Compétences'!H159=$O$2,'LIVRET Compétences'!I159,\"\")","v":""},{"$f":"IF('LIVRET Compétences'!H159=$O$2,'LIVRET Compétences'!E159,\"\")","v":""},{"$f":"IF('LIVRET Compétences'!H159=$O$2,'LIVRET Compétences'!G159,\"\")","v":""},{"$f":"IF('LIVRET Compétences'!H159=$O$2,'LIVRET Compétences'!C159,\"\")","v":""},{"$f":"IF('LIVRET Compétences'!H159=$S$2,'LIVRET Compétences'!I159,\"\")","v":""},{"$f":"IF('LIVRET Compétences'!H159=$S$2,'LIVRET Compétences'!E159,\"\")","v":""},{"$f":"IF('LIVRET Compétences'!H159=$S$2,'LIVRET Compétences'!G159,\"\")","v":""},{"$f":"IF('LIVRET Compétences'!H159=$S$2,'LIVRET Compétences'!C159,\"\")","v":""},{"$f":"IF('LIVRET Compétences'!H159=$W$2,'LIVRET Compétences'!I159,\"\")","v":""},{"$f":"IF('LIVRET Compétences'!H159=$W$2,'LIVRET Compétences'!E159,\"\")","v":""},{"$f":"IF('LIVRET Compétences'!H159=$W$2,'LIVRET Compétences'!G159,\"\")","v":""},{"$f":"IF('LIVRET Compétences'!H159=$W$2,'LIVRET Compétences'!C159,\"\")","v":""}]
[null,null,null,null,null,null,null,null,null,null,null,null,null,null,{"$f":"IF('LIVRET Compétences'!H160=$O$2,'LIVRET Compétences'!I160,\"\")","v":""},{"$f":"IF('LIVRET Compétences'!H160=$O$2,'LIVRET Compétences'!E160,\"\")","v":""},{"$f":"IF('LIVRET Compétences'!H160=$O$2,'LIVRET Compétences'!G160,\"\")","v":""},{"$f":"IF('LIVRET Compétences'!H160=$O$2,'LIVRET Compétences'!C160,\"\")","v":""},{"$f":"IF('LIVRET Compétences'!H160=$S$2,'LIVRET Compétences'!I160,\"\")","v":""},{"$f":"IF('LIVRET Compétences'!H160=$S$2,'LIVRET Compétences'!E160,\"\")","v":""},{"$f":"IF('LIVRET Compétences'!H160=$S$2,'LIVRET Compétences'!G160,\"\")","v":""},{"$f":"IF('LIVRET Compétences'!H160=$S$2,'LIVRET Compétences'!C160,\"\")","v":""},{"$f":"IF('LIVRET Compétences'!H160=$W$2,'LIVRET Compétences'!I160,\"\")","v":""},{"$f":"IF('LIVRET Compétences'!H160=$W$2,'LIVRET Compétences'!E160,\"\")","v":""},{"$f":"IF('LIVRET Compétences'!H160=$W$2,'LIVRET Compétences'!G160,\"\")","v":""},{"$f":"IF('LIVRET Compétences'!H160=$W$2,'LIVRET Compétences'!C160,\"\")","v":""}]
[null,null,null,null,null,null,null,null,null,null,null,null,null,null,{"$f":"IF('LIVRET Compétences'!H161=$O$2,'LIVRET Compétences'!I161,\"\")","v":""},{"$f":"IF('LIVRET Compétences'!H161=$O$2,'LIVRET Compétences'!E161,\"\")","v":""},{"$f":"IF('LIVRET Compétences'!H161=$O$2,'LIVRET Compétences'!G161,\"\")","v":""},{"$f":"IF('LIVRET Compétences'!H161=$O$2,'LIVRET Compétences'!C161,\"\")","v":""},{"$f":"IF('LIVRET Compétences'!H161=$S$2,'LIVRET Compétences'!I161,\"\")","v":""},{"$f":"IF('LIVRET Compétences'!H161=$S$2,'LIVRET Compétences'!E161,\"\")","v":""},{"$f":"IF('LIVRET Compétences'!H161=$S$2,'LIVRET Compétences'!G161,\"\")","v":""},{"$f":"IF('LIVRET Compétences'!H161=$S$2,'LIVRET Compétences'!C161,\"\")","v":""},{"$f":"IF('LIVRET Compétences'!H161=$W$2,'LIVRET Compétences'!I161,\"\")","v":""},{"$f":"IF('LIVRET Compétences'!H161=$W$2,'LIVRET Compétences'!E161,\"\")","v":""},{"$f":"IF('LIVRET Compétences'!H161=$W$2,'LIVRET Compétences'!G161,\"\")","v":""},{"$f":"IF('LIVRET Compétences'!H161=$W$2,'LIVRET Compétences'!C161,\"\")","v":""}]
[null,null,null,null,null,null,null,null,null,null,null,null,null,null,{"$f":"IF('LIVRET Compétences'!H162=$O$2,'LIVRET Compétences'!I162,\"\")","v":""},{"$f":"IF('LIVRET Compétences'!H162=$O$2,'LIVRET Compétences'!E162,\"\")","v":""},{"$f":"IF('LIVRET Compétences'!H162=$O$2,'LIVRET Compétences'!G162,\"\")","v":""},{"$f":"IF('LIVRET Compétences'!H162=$O$2,'LIVRET Compétences'!C162,\"\")","v":""},{"$f":"IF('LIVRET Compétences'!H162=$S$2,'LIVRET Compétences'!I162,\"\")","v":""},{"$f":"IF('LIVRET Compétences'!H162=$S$2,'LIVRET Compétences'!E162,\"\")","v":""},{"$f":"IF('LIVRET Compétences'!H162=$S$2,'LIVRET Compétences'!G162,\"\")","v":""},{"$f":"IF('LIVRET Compétences'!H162=$S$2,'LIVRET Compétences'!C162,\"\")","v":""},{"$f":"IF('LIVRET Compétences'!H162=$W$2,'LIVRET Compétences'!I162,\"\")","v":""},{"$f":"IF('LIVRET Compétences'!H162=$W$2,'LIVRET Compétences'!E162,\"\")","v":""},{"$f":"IF('LIVRET Compétences'!H162=$W$2,'LIVRET Compétences'!G162,\"\")","v":""},{"$f":"IF('LIVRET Compétences'!H162=$W$2,'LIVRET Compétences'!C162,\"\")","v":""}]
[null,null,null,null,null,null,null,null,null,null,null,null,null,null,{"$f":"IF('LIVRET Compétences'!H163=$O$2,'LIVRET Compétences'!I163,\"\")","v":""},{"$f":"IF('LIVRET Compétences'!H163=$O$2,'LIVRET Compétences'!E163,\"\")","v":""},{"$f":"IF('LIVRET Compétences'!H163=$O$2,'LIVRET Compétences'!G163,\"\")","v":""},{"$f":"IF('LIVRET Compétences'!H163=$O$2,'LIVRET Compétences'!C163,\"\")","v":""},{"$f":"IF('LIVRET Compétences'!H163=$S$2,'LIVRET Compétences'!I163,\"\")","v":""},{"$f":"IF('LIVRET Compétences'!H163=$S$2,'LIVRET Compétences'!E163,\"\")","v":""},{"$f":"IF('LIVRET Compétences'!H163=$S$2,'LIVRET Compétences'!G163,\"\")","v":""},{"$f":"IF('LIVRET Compétences'!H163=$S$2,'LIVRET Compétences'!C163,\"\")","v":""},{"$f":"IF('LIVRET Compétences'!H163=$W$2,'LIVRET Compétences'!I163,\"\")","v":""},{"$f":"IF('LIVRET Compétences'!H163=$W$2,'LIVRET Compétences'!E163,\"\")","v":""},{"$f":"IF('LIVRET Compétences'!H163=$W$2,'LIVRET Compétences'!G163,\"\")","v":""},{"$f":"IF('LIVRET Compétences'!H163=$W$2,'LIVRET Compétences'!C163,\"\")","v":""}]
[null,null,null,null,null,null,null,null,null,null,null,null,null,null,{"$f":"IF('LIVRET Compétences'!H164=$O$2,'LIVRET Compétences'!I164,\"\")","v":""},{"$f":"IF('LIVRET Compétences'!H164=$O$2,'LIVRET Compétences'!E164,\"\")","v":""},{"$f":"IF('LIVRET Compétences'!H164=$O$2,'LIVRET Compétences'!G164,\"\")","v":""},{"$f":"IF('LIVRET Compétences'!H164=$O$2,'LIVRET Compétences'!C164,\"\")","v":""},{"$f":"IF('LIVRET Compétences'!H164=$S$2,'LIVRET Compétences'!I164,\"\")","v":""},{"$f":"IF('LIVRET Compétences'!H164=$S$2,'LIVRET Compétences'!E164,\"\")","v":""},{"$f":"IF('LIVRET Compétences'!H164=$S$2,'LIVRET Compétences'!G164,\"\")","v":""},{"$f":"IF('LIVRET Compétences'!H164=$S$2,'LIVRET Compétences'!C164,\"\")","v":""},{"$f":"IF('LIVRET Compétences'!H164=$W$2,'LIVRET Compétences'!I164,\"\")","v":""},{"$f":"IF('LIVRET Compétences'!H164=$W$2,'LIVRET Compétences'!E164,\"\")","v":""},{"$f":"IF('LIVRET Compétences'!H164=$W$2,'LIVRET Compétences'!G164,\"\")","v":""},{"$f":"IF('LIVRET Compétences'!H164=$W$2,'LIVRET Compétences'!C164,\"\")","v":""}]
[null,null,null,null,null,null,null,null,null,null,null,null,null,null,{"$f":"IF('LIVRET Compétences'!H165=$O$2,'LIVRET Compétences'!I165,\"\")","v":""},{"$f":"IF('LIVRET Compétences'!H165=$O$2,'LIVRET Compétences'!E165,\"\")","v":""},{"$f":"IF('LIVRET Compétences'!H165=$O$2,'LIVRET Compétences'!G165,\"\")","v":""},{"$f":"IF('LIVRET Compétences'!H165=$O$2,'LIVRET Compétences'!C165,\"\")","v":""},{"$f":"IF('LIVRET Compétences'!H165=$S$2,'LIVRET Compétences'!I165,\"\")","v":""},{"$f":"IF('LIVRET Compétences'!H165=$S$2,'LIVRET Compétences'!E165,\"\")","v":""},{"$f":"IF('LIVRET Compétences'!H165=$S$2,'LIVRET Compétences'!G165,\"\")","v":""},{"$f":"IF('LIVRET Compétences'!H165=$S$2,'LIVRET Compétences'!C165,\"\")","v":""},{"$f":"IF('LIVRET Compétences'!H165=$W$2,'LIVRET Compétences'!I165,\"\")","v":""},{"$f":"IF('LIVRET Compétences'!H165=$W$2,'LIVRET Compétences'!E165,\"\")","v":""},{"$f":"IF('LIVRET Compétences'!H165=$W$2,'LIVRET Compétences'!G165,\"\")","v":""},{"$f":"IF('LIVRET Compétences'!H165=$W$2,'LIVRET Compétences'!C165,\"\")","v":""}]
[null,null,null,null,null,null,null,null,null,null,null,null,null,null,{"$f":"IF('LIVRET Compétences'!H166=$O$2,'LIVRET Compétences'!I166,\"\")","v":""},{"$f":"IF('LIVRET Compétences'!H166=$O$2,'LIVRET Compétences'!E166,\"\")","v":""},{"$f":"IF('LIVRET Compétences'!H166=$O$2,'LIVRET Compétences'!G166,\"\")","v":""},{"$f":"IF('LIVRET Compétences'!H166=$O$2,'LIVRET Compétences'!C166,\"\")","v":""},{"$f":"IF('LIVRET Compétences'!H166=$S$2,'LIVRET Compétences'!I166,\"\")","v":""},{"$f":"IF('LIVRET Compétences'!H166=$S$2,'LIVRET Compétences'!E166,\"\")","v":""},{"$f":"IF('LIVRET Compétences'!H166=$S$2,'LIVRET Compétences'!G166,\"\")","v":""},{"$f":"IF('LIVRET Compétences'!H166=$S$2,'LIVRET Compétences'!C166,\"\")","v":""},{"$f":"IF('LIVRET Compétences'!H166=$W$2,'LIVRET Compétences'!I166,\"\")","v":""},{"$f":"IF('LIVRET Compétences'!H166=$W$2,'LIVRET Compétences'!E166,\"\")","v":""},{"$f":"IF('LIVRET Compétences'!H166=$W$2,'LIVRET Compétences'!G166,\"\")","v":""},{"$f":"IF('LIVRET Compétences'!H166=$W$2,'LIVRET Compétences'!C166,\"\")","v":""}]
[null,null,null,null,null,null,null,null,null,null,null,null,null,null,{"$f":"IF('LIVRET Compétences'!H167=$O$2,'LIVRET Compétences'!I167,\"\")","v":""},{"$f":"IF('LIVRET Compétences'!H167=$O$2,'LIVRET Compétences'!E167,\"\")","v":""},{"$f":"IF('LIVRET Compétences'!H167=$O$2,'LIVRET Compétences'!G167,\"\")","v":""},{"$f":"IF('LIVRET Compétences'!H167=$O$2,'LIVRET Compétences'!C167,\"\")","v":""},{"$f":"IF('LIVRET Compétences'!H167=$S$2,'LIVRET Compétences'!I167,\"\")","v":""},{"$f":"IF('LIVRET Compétences'!H167=$S$2,'LIVRET Compétences'!E167,\"\")","v":""},{"$f":"IF('LIVRET Compétences'!H167=$S$2,'LIVRET Compétences'!G167,\"\")","v":""},{"$f":"IF('LIVRET Compétences'!H167=$S$2,'LIVRET Compétences'!C167,\"\")","v":""},{"$f":"IF('LIVRET Compétences'!H167=$W$2,'LIVRET Compétences'!I167,\"\")","v":""},{"$f":"IF('LIVRET Compétences'!H167=$W$2,'LIVRET Compétences'!E167,\"\")","v":""},{"$f":"IF('LIVRET Compétences'!H167=$W$2,'LIVRET Compétences'!G167,\"\")","v":""},{"$f":"IF('LIVRET Compétences'!H167=$W$2,'LIVRET Compétences'!C167,\"\")","v":""}]
[null,null,null,null,null,null,null,null,null,null,null,null,null,null,{"$f":"IF('LIVRET Compétences'!H168=$O$2,'LIVRET Compétences'!I168,\"\")","v":""},{"$f":"IF('LIVRET Compétences'!H168=$O$2,'LIVRET Compétences'!E168,\"\")","v":""},{"$f":"IF('LIVRET Compétences'!H168=$O$2,'LIVRET Compétences'!G168,\"\")","v":""},{"$f":"IF('LIVRET Compétences'!H168=$O$2,'LIVRET Compétences'!C168,\"\")","v":""},{"$f":"IF('LIVRET Compétences'!H168=$S$2,'LIVRET Compétences'!I168,\"\")","v":""},{"$f":"IF('LIVRET Compétences'!H168=$S$2,'LIVRET Compétences'!E168,\"\")","v":""},{"$f":"IF('LIVRET Compétences'!H168=$S$2,'LIVRET Compétences'!G168,\"\")","v":""},{"$f":"IF('LIVRET Compétences'!H168=$S$2,'LIVRET Compétences'!C168,\"\")","v":""},{"$f":"IF('LIVRET Compétences'!H168=$W$2,'LIVRET Compétences'!I168,\"\")","v":""},{"$f":"IF('LIVRET Compétences'!H168=$W$2,'LIVRET Compétences'!E168,\"\")","v":""},{"$f":"IF('LIVRET Compétences'!H168=$W$2,'LIVRET Compétences'!G168,\"\")","v":""},{"$f":"IF('LIVRET Compétences'!H168=$W$2,'LIVRET Compétences'!C168,\"\")","v":""}]
[null,null,null,null,null,null,null,null,null,null,null,null,null,null,{"$f":"IF('LIVRET Compétences'!H169=$O$2,'LIVRET Compétences'!I169,\"\")","v":""},{"$f":"IF('LIVRET Compétences'!H169=$O$2,'LIVRET Compétences'!E169,\"\")","v":""},{"$f":"IF('LIVRET Compétences'!H169=$O$2,'LIVRET Compétences'!G169,\"\")","v":""},{"$f":"IF('LIVRET Compétences'!H169=$O$2,'LIVRET Compétences'!C169,\"\")","v":""},{"$f":"IF('LIVRET Compétences'!H169=$S$2,'LIVRET Compétences'!I169,\"\")","v":""},{"$f":"IF('LIVRET Compétences'!H169=$S$2,'LIVRET Compétences'!E169,\"\")","v":""},{"$f":"IF('LIVRET Compétences'!H169=$S$2,'LIVRET Compétences'!G169,\"\")","v":""},{"$f":"IF('LIVRET Compétences'!H169=$S$2,'LIVRET Compétences'!C169,\"\")","v":""},{"$f":"IF('LIVRET Compétences'!H169=$W$2,'LIVRET Compétences'!I169,\"\")","v":""},{"$f":"IF('LIVRET Compétences'!H169=$W$2,'LIVRET Compétences'!E169,\"\")","v":""},{"$f":"IF('LIVRET Compétences'!H169=$W$2,'LIVRET Compétences'!G169,\"\")","v":""},{"$f":"IF('LIVRET Compétences'!H169=$W$2,'LIVRET Compétences'!C169,\"\")","v":""}]
[null,null,null,null,null,null,null,null,null,null,null,null,null,null,{"$f":"IF('LIVRET Compétences'!H170=$O$2,'LIVRET Compétences'!I170,\"\")","v":""},{"$f":"IF('LIVRET Compétences'!H170=$O$2,'LIVRET Compétences'!E170,\"\")","v":""},{"$f":"IF('LIVRET Compétences'!H170=$O$2,'LIVRET Compétences'!G170,\"\")","v":""},{"$f":"IF('LIVRET Compétences'!H170=$O$2,'LIVRET Compétences'!C170,\"\")","v":""},{"$f":"IF('LIVRET Compétences'!H170=$S$2,'LIVRET Compétences'!I170,\"\")","v":""},{"$f":"IF('LIVRET Compétences'!H170=$S$2,'LIVRET Compétences'!E170,\"\")","v":""},{"$f":"IF('LIVRET Compétences'!H170=$S$2,'LIVRET Compétences'!G170,\"\")","v":""},{"$f":"IF('LIVRET Compétences'!H170=$S$2,'LIVRET Compétences'!C170,\"\")","v":""},{"$f":"IF('LIVRET Compétences'!H170=$W$2,'LIVRET Compétences'!I170,\"\")","v":""},{"$f":"IF('LIVRET Compétences'!H170=$W$2,'LIVRET Compétences'!E170,\"\")","v":""},{"$f":"IF('LIVRET Compétences'!H170=$W$2,'LIVRET Compétences'!G170,\"\")","v":""},{"$f":"IF('LIVRET Compétences'!H170=$W$2,'LIVRET Compétences'!C170,\"\")","v":""}]
[null,null,null,null,null,null,null,null,null,null,null,null,null,null,{"$f":"IF('LIVRET Compétences'!H171=$O$2,'LIVRET Compétences'!I171,\"\")","v":""},{"$f":"IF('LIVRET Compétences'!H171=$O$2,'LIVRET Compétences'!E171,\"\")","v":""},{"$f":"IF('LIVRET Compétences'!H171=$O$2,'LIVRET Compétences'!G171,\"\")","v":""},{"$f":"IF('LIVRET Compétences'!H171=$O$2,'LIVRET Compétences'!C171,\"\")","v":""},{"$f":"IF('LIVRET Compétences'!H171=$S$2,'LIVRET Compétences'!I171,\"\")","v":""},{"$f":"IF('LIVRET Compétences'!H171=$S$2,'LIVRET Compétences'!E171,\"\")","v":""},{"$f":"IF('LIVRET Compétences'!H171=$S$2,'LIVRET Compétences'!G171,\"\")","v":""},{"$f":"IF('LIVRET Compétences'!H171=$S$2,'LIVRET Compétences'!C171,\"\")","v":""},{"$f":"IF('LIVRET Compétences'!H171=$W$2,'LIVRET Compétences'!I171,\"\")","v":""},{"$f":"IF('LIVRET Compétences'!H171=$W$2,'LIVRET Compétences'!E171,\"\")","v":""},{"$f":"IF('LIVRET Compétences'!H171=$W$2,'LIVRET Compétences'!G171,\"\")","v":""},{"$f":"IF('LIVRET Compétences'!H171=$W$2,'LIVRET Compétences'!C171,\"\")","v":""}]
[null,null,null,null,null,null,null,null,null,null,null,null,null,null,{"$f":"IF('LIVRET Compétences'!H172=$O$2,'LIVRET Compétences'!I172,\"\")","v":""},{"$f":"IF('LIVRET Compétences'!H172=$O$2,'LIVRET Compétences'!E172,\"\")","v":""},{"$f":"IF('LIVRET Compétences'!H172=$O$2,'LIVRET Compétences'!G172,\"\")","v":""},{"$f":"IF('LIVRET Compétences'!H172=$O$2,'LIVRET Compétences'!C172,\"\")","v":""},{"$f":"IF('LIVRET Compétences'!H172=$S$2,'LIVRET Compétences'!I172,\"\")","v":""},{"$f":"IF('LIVRET Compétences'!H172=$S$2,'LIVRET Compétences'!E172,\"\")","v":""},{"$f":"IF('LIVRET Compétences'!H172=$S$2,'LIVRET Compétences'!G172,\"\")","v":""},{"$f":"IF('LIVRET Compétences'!H172=$S$2,'LIVRET Compétences'!C172,\"\")","v":""},{"$f":"IF('LIVRET Compétences'!H172=$W$2,'LIVRET Compétences'!I172,\"\")","v":""},{"$f":"IF('LIVRET Compétences'!H172=$W$2,'LIVRET Compétences'!E172,\"\")","v":""},{"$f":"IF('LIVRET Compétences'!H172=$W$2,'LIVRET Compétences'!G172,\"\")","v":""},{"$f":"IF('LIVRET Compétences'!H172=$W$2,'LIVRET Compétences'!C172,\"\")","v":""}]
[null,null,null,null,null,null,null,null,null,null,null,null,null,null,{"$f":"IF('LIVRET Compétences'!H173=$O$2,'LIVRET Compétences'!I173,\"\")","v":""},{"$f":"IF('LIVRET Compétences'!H173=$O$2,'LIVRET Compétences'!E173,\"\")","v":""},{"$f":"IF('LIVRET Compétences'!H173=$O$2,'LIVRET Compétences'!G173,\"\")","v":""},{"$f":"IF('LIVRET Compétences'!H173=$O$2,'LIVRET Compétences'!C173,\"\")","v":""},{"$f":"IF('LIVRET Compétences'!H173=$S$2,'LIVRET Compétences'!I173,\"\")","v":""},{"$f":"IF('LIVRET Compétences'!H173=$S$2,'LIVRET Compétences'!E173,\"\")","v":""},{"$f":"IF('LIVRET Compétences'!H173=$S$2,'LIVRET Compétences'!G173,\"\")","v":""},{"$f":"IF('LIVRET Compétences'!H173=$S$2,'LIVRET Compétences'!C173,\"\")","v":""},{"$f":"IF('LIVRET Compétences'!H173=$W$2,'LIVRET Compétences'!I173,\"\")","v":""},{"$f":"IF('LIVRET Compétences'!H173=$W$2,'LIVRET Compétences'!E173,\"\")","v":""},{"$f":"IF('LIVRET Compétences'!H173=$W$2,'LIVRET Compétences'!G173,\"\")","v":""},{"$f":"IF('LIVRET Compétences'!H173=$W$2,'LIVRET Compétences'!C173,\"\")","v":""}]
[null,null,null,null,null,null,null,null,null,null,null,null,null,null,{"$f":"IF('LIVRET Compétences'!H174=$O$2,'LIVRET Compétences'!I174,\"\")","v":""},{"$f":"IF('LIVRET Compétences'!H174=$O$2,'LIVRET Compétences'!E174,\"\")","v":""},{"$f":"IF('LIVRET Compétences'!H174=$O$2,'LIVRET Compétences'!G174,\"\")","v":""},{"$f":"IF('LIVRET Compétences'!H174=$O$2,'LIVRET Compétences'!C174,\"\")","v":""},{"$f":"IF('LIVRET Compétences'!H174=$S$2,'LIVRET Compétences'!I174,\"\")","v":""},{"$f":"IF('LIVRET Compétences'!H174=$S$2,'LIVRET Compétences'!E174,\"\")","v":""},{"$f":"IF('LIVRET Compétences'!H174=$S$2,'LIVRET Compétences'!G174,\"\")","v":""},{"$f":"IF('LIVRET Compétences'!H174=$S$2,'LIVRET Compétences'!C174,\"\")","v":""},{"$f":"IF('LIVRET Compétences'!H174=$W$2,'LIVRET Compétences'!I174,\"\")","v":""},{"$f":"IF('LIVRET Compétences'!H174=$W$2,'LIVRET Compétences'!E174,\"\")","v":""},{"$f":"IF('LIVRET Compétences'!H174=$W$2,'LIVRET Compétences'!G174,\"\")","v":""},{"$f":"IF('LIVRET Compétences'!H174=$W$2,'LIVRET Compétences'!C174,\"\")","v":""}]
[null,null,null,null,null,null,null,null,null,null,null,null,null,null,{"$f":"IF('LIVRET Compétences'!H175=$O$2,'LIVRET Compétences'!I175,\"\")","v":""},{"$f":"IF('LIVRET Compétences'!H175=$O$2,'LIVRET Compétences'!E175,\"\")","v":""},{"$f":"IF('LIVRET Compétences'!H175=$O$2,'LIVRET Compétences'!G175,\"\")","v":""},{"$f":"IF('LIVRET Compétences'!H175=$O$2,'LIVRET Compétences'!C175,\"\")","v":""},{"$f":"IF('LIVRET Compétences'!H175=$S$2,'LIVRET Compétences'!I175,\"\")","v":""},{"$f":"IF('LIVRET Compétences'!H175=$S$2,'LIVRET Compétences'!E175,\"\")","v":""},{"$f":"IF('LIVRET Compétences'!H175=$S$2,'LIVRET Compétences'!G175,\"\")","v":""},{"$f":"IF('LIVRET Compétences'!H175=$S$2,'LIVRET Compétences'!C175,\"\")","v":""},{"$f":"IF('LIVRET Compétences'!H175=$W$2,'LIVRET Compétences'!I175,\"\")","v":""},{"$f":"IF('LIVRET Compétences'!H175=$W$2,'LIVRET Compétences'!E175,\"\")","v":""},{"$f":"IF('LIVRET Compétences'!H175=$W$2,'LIVRET Compétences'!G175,\"\")","v":""},{"$f":"IF('LIVRET Compétences'!H175=$W$2,'LIVRET Compétences'!C175,\"\")","v":""}]
[null,null,null,null,null,null,null,null,null,null,null,null,null,null,{"$f":"IF('LIVRET Compétences'!H176=$O$2,'LIVRET Compétences'!I176,\"\")","v":""},{"$f":"IF('LIVRET Compétences'!H176=$O$2,'LIVRET Compétences'!E176,\"\")","v":""},{"$f":"IF('LIVRET Compétences'!H176=$O$2,'LIVRET Compétences'!G176,\"\")","v":""},{"$f":"IF('LIVRET Compétences'!H176=$O$2,'LIVRET Compétences'!C176,\"\")","v":""},{"$f":"IF('LIVRET Compétences'!H176=$S$2,'LIVRET Compétences'!I176,\"\")","v":""},{"$f":"IF('LIVRET Compétences'!H176=$S$2,'LIVRET Compétences'!E176,\"\")","v":""},{"$f":"IF('LIVRET Compétences'!H176=$S$2,'LIVRET Compétences'!G176,\"\")","v":""},{"$f":"IF('LIVRET Compétences'!H176=$S$2,'LIVRET Compétences'!C176,\"\")","v":""},{"$f":"IF('LIVRET Compétences'!H176=$W$2,'LIVRET Compétences'!I176,\"\")","v":""},{"$f":"IF('LIVRET Compétences'!H176=$W$2,'LIVRET Compétences'!E176,\"\")","v":""},{"$f":"IF('LIVRET Compétences'!H176=$W$2,'LIVRET Compétences'!G176,\"\")","v":""},{"$f":"IF('LIVRET Compétences'!H176=$W$2,'LIVRET Compétences'!C176,\"\")","v":""}]
[null,null,null,null,null,null,null,null,null,null,null,null,null,null,{"$f":"IF('LIVRET Compétences'!H177=$O$2,'LIVRET Compétences'!I177,\"\")","v":""},{"$f":"IF('LIVRET Compétences'!H177=$O$2,'LIVRET Compétences'!E177,\"\")","v":""},{"$f":"IF('LIVRET Compétences'!H177=$O$2,'LIVRET Compétences'!G177,\"\")","v":""},{"$f":"IF('LIVRET Compétences'!H177=$O$2,'LIVRET Compétences'!C177,\"\")","v":""},{"$f":"IF('LIVRET Compétences'!H177=$S$2,'LIVRET Compétences'!I177,\"\")","v":""},{"$f":"IF('LIVRET Compétences'!H177=$S$2,'LIVRET Compétences'!E177,\"\")","v":""},{"$f":"IF('LIVRET Compétences'!H177=$S$2,'LIVRET Compétences'!G177,\"\")","v":""},{"$f":"IF('LIVRET Compétences'!H177=$S$2,'LIVRET Compétences'!C177,\"\")","v":""},{"$f":"IF('LIVRET Compétences'!H177=$W$2,'LIVRET Compétences'!I177,\"\")","v":""},{"$f":"IF('LIVRET Compétences'!H177=$W$2,'LIVRET Compétences'!E177,\"\")","v":""},{"$f":"IF('LIVRET Compétences'!H177=$W$2,'LIVRET Compétences'!G177,\"\")","v":""},{"$f":"IF('LIVRET Compétences'!H177=$W$2,'LIVRET Compétences'!C177,\"\")","v":""}]
[null,null,null,null,null,null,null,null,null,null,null,null,null,null,{"$f":"IF('LIVRET Compétences'!H178=$O$2,'LIVRET Compétences'!I178,\"\")","v":""},{"$f":"IF('LIVRET Compétences'!H178=$O$2,'LIVRET Compétences'!E178,\"\")","v":""},{"$f":"IF('LIVRET Compétences'!H178=$O$2,'LIVRET Compétences'!G178,\"\")","v":""},{"$f":"IF('LIVRET Compétences'!H178=$O$2,'LIVRET Compétences'!C178,\"\")","v":""},{"$f":"IF('LIVRET Compétences'!H178=$S$2,'LIVRET Compétences'!I178,\"\")","v":""},{"$f":"IF('LIVRET Compétences'!H178=$S$2,'LIVRET Compétences'!E178,\"\")","v":""},{"$f":"IF('LIVRET Compétences'!H178=$S$2,'LIVRET Compétences'!G178,\"\")","v":""},{"$f":"IF('LIVRET Compétences'!H178=$S$2,'LIVRET Compétences'!C178,\"\")","v":""},{"$f":"IF('LIVRET Compétences'!H178=$W$2,'LIVRET Compétences'!I178,\"\")","v":""},{"$f":"IF('LIVRET Compétences'!H178=$W$2,'LIVRET Compétences'!E178,\"\")","v":""},{"$f":"IF('LIVRET Compétences'!H178=$W$2,'LIVRET Compétences'!G178,\"\")","v":""},{"$f":"IF('LIVRET Compétences'!H178=$W$2,'LIVRET Compétences'!C178,\"\")","v":""}]
[null,null,null,null,null,null,null,null,null,null,null,null,null,null,{"$f":"IF('LIVRET Compétences'!H179=$O$2,'LIVRET Compétences'!I179,\"\")","v":""},{"$f":"IF('LIVRET Compétences'!H179=$O$2,'LIVRET Compétences'!E179,\"\")","v":""},{"$f":"IF('LIVRET Compétences'!H179=$O$2,'LIVRET Compétences'!G179,\"\")","v":""},{"$f":"IF('LIVRET Compétences'!H179=$O$2,'LIVRET Compétences'!C179,\"\")","v":""},{"$f":"IF('LIVRET Compétences'!H179=$S$2,'LIVRET Compétences'!I179,\"\")","v":""},{"$f":"IF('LIVRET Compétences'!H179=$S$2,'LIVRET Compétences'!E179,\"\")","v":""},{"$f":"IF('LIVRET Compétences'!H179=$S$2,'LIVRET Compétences'!G179,\"\")","v":""},{"$f":"IF('LIVRET Compétences'!H179=$S$2,'LIVRET Compétences'!C179,\"\")","v":""},{"$f":"IF('LIVRET Compétences'!H179=$W$2,'LIVRET Compétences'!I179,\"\")","v":""},{"$f":"IF('LIVRET Compétences'!H179=$W$2,'LIVRET Compétences'!E179,\"\")","v":""},{"$f":"IF('LIVRET Compétences'!H179=$W$2,'LIVRET Compétences'!G179,\"\")","v":""},{"$f":"IF('LIVRET Compétences'!H179=$W$2,'LIVRET Compétences'!C179,\"\")","v":""}]
[null,null,null,null,null,null,null,null,null,null,null,null,null,null,{"$f":"IF('LIVRET Compétences'!H180=$O$2,'LIVRET Compétences'!I180,\"\")","v":""},{"$f":"IF('LIVRET Compétences'!H180=$O$2,'LIVRET Compétences'!E180,\"\")","v":""},{"$f":"IF('LIVRET Compétences'!H180=$O$2,'LIVRET Compétences'!G180,\"\")","v":""},{"$f":"IF('LIVRET Compétences'!H180=$O$2,'LIVRET Compétences'!C180,\"\")","v":""},{"$f":"IF('LIVRET Compétences'!H180=$S$2,'LIVRET Compétences'!I180,\"\")","v":""},{"$f":"IF('LIVRET Compétences'!H180=$S$2,'LIVRET Compétences'!E180,\"\")","v":""},{"$f":"IF('LIVRET Compétences'!H180=$S$2,'LIVRET Compétences'!G180,\"\")","v":""},{"$f":"IF('LIVRET Compétences'!H180=$S$2,'LIVRET Compétences'!C180,\"\")","v":""},{"$f":"IF('LIVRET Compétences'!H180=$W$2,'LIVRET Compétences'!I180,\"\")","v":""},{"$f":"IF('LIVRET Compétences'!H180=$W$2,'LIVRET Compétences'!E180,\"\")","v":""},{"$f":"IF('LIVRET Compétences'!H180=$W$2,'LIVRET Compétences'!G180,\"\")","v":""},{"$f":"IF('LIVRET Compétences'!H180=$W$2,'LIVRET Compétences'!C180,\"\")","v":""}]
[null,null,null,null,null,null,null,null,null,null,null,null,null,null,{"$f":"IF('LIVRET Compétences'!H181=$O$2,'LIVRET Compétences'!I181,\"\")","v":""},{"$f":"IF('LIVRET Compétences'!H181=$O$2,'LIVRET Compétences'!E181,\"\")","v":""},{"$f":"IF('LIVRET Compétences'!H181=$O$2,'LIVRET Compétences'!G181,\"\")","v":""},{"$f":"IF('LIVRET Compétences'!H181=$O$2,'LIVRET Compétences'!C181,\"\")","v":""},{"$f":"IF('LIVRET Compétences'!H181=$S$2,'LIVRET Compétences'!I181,\"\")","v":""},{"$f":"IF('LIVRET Compétences'!H181=$S$2,'LIVRET Compétences'!E181,\"\")","v":""},{"$f":"IF('LIVRET Compétences'!H181=$S$2,'LIVRET Compétences'!G181,\"\")","v":""},{"$f":"IF('LIVRET Compétences'!H181=$S$2,'LIVRET Compétences'!C181,\"\")","v":""},{"$f":"IF('LIVRET Compétences'!H181=$W$2,'LIVRET Compétences'!I181,\"\")","v":""},{"$f":"IF('LIVRET Compétences'!H181=$W$2,'LIVRET Compétences'!E181,\"\")","v":""},{"$f":"IF('LIVRET Compétences'!H181=$W$2,'LIVRET Compétences'!G181,\"\")","v":""},{"$f":"IF('LIVRET Compétences'!H181=$W$2,'LIVRET Compétences'!C181,\"\")","v":""}]
[null,null,null,null,null,null,null,null,null,null,null,null,null,null,{"$f":"IF('LIVRET Compétences'!H182=$O$2,'LIVRET Compétences'!I182,\"\")","v":""},{"$f":"IF('LIVRET Compétences'!H182=$O$2,'LIVRET Compétences'!E182,\"\")","v":""},{"$f":"IF('LIVRET Compétences'!H182=$O$2,'LIVRET Compétences'!G182,\"\")","v":""},{"$f":"IF('LIVRET Compétences'!H182=$O$2,'LIVRET Compétences'!C182,\"\")","v":""},{"$f":"IF('LIVRET Compétences'!H182=$S$2,'LIVRET Compétences'!I182,\"\")","v":""},{"$f":"IF('LIVRET Compétences'!H182=$S$2,'LIVRET Compétences'!E182,\"\")","v":""},{"$f":"IF('LIVRET Compétences'!H182=$S$2,'LIVRET Compétences'!G182,\"\")","v":""},{"$f":"IF('LIVRET Compétences'!H182=$S$2,'LIVRET Compétences'!C182,\"\")","v":""},{"$f":"IF('LIVRET Compétences'!H182=$W$2,'LIVRET Compétences'!I182,\"\")","v":""},{"$f":"IF('LIVRET Compétences'!H182=$W$2,'LIVRET Compétences'!E182,\"\")","v":""},{"$f":"IF('LIVRET Compétences'!H182=$W$2,'LIVRET Compétences'!G182,\"\")","v":""},{"$f":"IF('LIVRET Compétences'!H182=$W$2,'LIVRET Compétences'!C182,\"\")","v":""}]
[null,null,null,null,null,null,null,null,null,null,null,null,null,null,{"$f":"IF('LIVRET Compétences'!H183=$O$2,'LIVRET Compétences'!I183,\"\")","v":""},{"$f":"IF('LIVRET Compétences'!H183=$O$2,'LIVRET Compétences'!E183,\"\")","v":""},{"$f":"IF('LIVRET Compétences'!H183=$O$2,'LIVRET Compétences'!G183,\"\")","v":""},{"$f":"IF('LIVRET Compétences'!H183=$O$2,'LIVRET Compétences'!C183,\"\")","v":""},{"$f":"IF('LIVRET Compétences'!H183=$S$2,'LIVRET Compétences'!I183,\"\")","v":""},{"$f":"IF('LIVRET Compétences'!H183=$S$2,'LIVRET Compétences'!E183,\"\")","v":""},{"$f":"IF('LIVRET Compétences'!H183=$S$2,'LIVRET Compétences'!G183,\"\")","v":""},{"$f":"IF('LIVRET Compétences'!H183=$S$2,'LIVRET Compétences'!C183,\"\")","v":""},{"$f":"IF('LIVRET Compétences'!H183=$W$2,'LIVRET Compétences'!I183,\"\")","v":""},{"$f":"IF('LIVRET Compétences'!H183=$W$2,'LIVRET Compétences'!E183,\"\")","v":""},{"$f":"IF('LIVRET Compétences'!H183=$W$2,'LIVRET Compétences'!G183,\"\")","v":""},{"$f":"IF('LIVRET Compétences'!H183=$W$2,'LIVRET Compétences'!C183,\"\")","v":""}]
[null,null,null,null,null,null,null,null,null,null,null,null,null,null,{"$f":"IF('LIVRET Compétences'!H184=$O$2,'LIVRET Compétences'!I184,\"\")","v":""},{"$f":"IF('LIVRET Compétences'!H184=$O$2,'LIVRET Compétences'!E184,\"\")","v":""},{"$f":"IF('LIVRET Compétences'!H184=$O$2,'LIVRET Compétences'!G184,\"\")","v":""},{"$f":"IF('LIVRET Compétences'!H184=$O$2,'LIVRET Compétences'!C184,\"\")","v":""},{"$f":"IF('LIVRET Compétences'!H184=$S$2,'LIVRET Compétences'!I184,\"\")","v":""},{"$f":"IF('LIVRET Compétences'!H184=$S$2,'LIVRET Compétences'!E184,\"\")","v":""},{"$f":"IF('LIVRET Compétences'!H184=$S$2,'LIVRET Compétences'!G184,\"\")","v":""},{"$f":"IF('LIVRET Compétences'!H184=$S$2,'LIVRET Compétences'!C184,\"\")","v":""},{"$f":"IF('LIVRET Compétences'!H184=$W$2,'LIVRET Compétences'!I184,\"\")","v":""},{"$f":"IF('LIVRET Compétences'!H184=$W$2,'LIVRET Compétences'!E184,\"\")","v":""},{"$f":"IF('LIVRET Compétences'!H184=$W$2,'LIVRET Compétences'!G184,\"\")","v":""},{"$f":"IF('LIVRET Compétences'!H184=$W$2,'LIVRET Compétences'!C184,\"\")","v":""}]
[null,null,null,null,null,null,null,null,null,null,null,null,null,null,{"$f":"IF('LIVRET Compétences'!H185=$O$2,'LIVRET Compétences'!I185,\"\")","v":""},{"$f":"IF('LIVRET Compétences'!H185=$O$2,'LIVRET Compétences'!E185,\"\")","v":""},{"$f":"IF('LIVRET Compétences'!H185=$O$2,'LIVRET Compétences'!G185,\"\")","v":""},{"$f":"IF('LIVRET Compétences'!H185=$O$2,'LIVRET Compétences'!C185,\"\")","v":""},{"$f":"IF('LIVRET Compétences'!H185=$S$2,'LIVRET Compétences'!I185,\"\")","v":""},{"$f":"IF('LIVRET Compétences'!H185=$S$2,'LIVRET Compétences'!E185,\"\")","v":""},{"$f":"IF('LIVRET Compétences'!H185=$S$2,'LIVRET Compétences'!G185,\"\")","v":""},{"$f":"IF('LIVRET Compétences'!H185=$S$2,'LIVRET Compétences'!C185,\"\")","v":""},{"$f":"IF('LIVRET Compétences'!H185=$W$2,'LIVRET Compétences'!I185,\"\")","v":""},{"$f":"IF('LIVRET Compétences'!H185=$W$2,'LIVRET Compétences'!E185,\"\")","v":""},{"$f":"IF('LIVRET Compétences'!H185=$W$2,'LIVRET Compétences'!G185,\"\")","v":""},{"$f":"IF('LIVRET Compétences'!H185=$W$2,'LIVRET Compétences'!C185,\"\")","v":""}]
[null,null,null,null,null,null,null,null,null,null,null,null,null,null,{"$f":"IF('LIVRET Compétences'!H186=$O$2,'LIVRET Compétences'!I186,\"\")","v":""},{"$f":"IF('LIVRET Compétences'!H186=$O$2,'LIVRET Compétences'!E186,\"\")","v":""},{"$f":"IF('LIVRET Compétences'!H186=$O$2,'LIVRET Compétences'!G186,\"\")","v":""},{"$f":"IF('LIVRET Compétences'!H186=$O$2,'LIVRET Compétences'!C186,\"\")","v":""},{"$f":"IF('LIVRET Compétences'!H186=$S$2,'LIVRET Compétences'!I186,\"\")","v":""},{"$f":"IF('LIVRET Compétences'!H186=$S$2,'LIVRET Compétences'!E186,\"\")","v":""},{"$f":"IF('LIVRET Compétences'!H186=$S$2,'LIVRET Compétences'!G186,\"\")","v":""},{"$f":"IF('LIVRET Compétences'!H186=$S$2,'LIVRET Compétences'!C186,\"\")","v":""},{"$f":"IF('LIVRET Compétences'!H186=$W$2,'LIVRET Compétences'!I186,\"\")","v":""},{"$f":"IF('LIVRET Compétences'!H186=$W$2,'LIVRET Compétences'!E186,\"\")","v":""},{"$f":"IF('LIVRET Compétences'!H186=$W$2,'LIVRET Compétences'!G186,\"\")","v":""},{"$f":"IF('LIVRET Compétences'!H186=$W$2,'LIVRET Compétences'!C186,\"\")","v":""}]
[null,null,null,null,null,null,null,null,null,null,null,null,null,null,{"$f":"IF('LIVRET Compétences'!H187=$O$2,'LIVRET Compétences'!I187,\"\")","v":""},{"$f":"IF('LIVRET Compétences'!H187=$O$2,'LIVRET Compétences'!E187,\"\")","v":""},{"$f":"IF('LIVRET Compétences'!H187=$O$2,'LIVRET Compétences'!G187,\"\")","v":""},{"$f":"IF('LIVRET Compétences'!H187=$O$2,'LIVRET Compétences'!C187,\"\")","v":""},{"$f":"IF('LIVRET Compétences'!H187=$S$2,'LIVRET Compétences'!I187,\"\")","v":""},{"$f":"IF('LIVRET Compétences'!H187=$S$2,'LIVRET Compétences'!E187,\"\")","v":""},{"$f":"IF('LIVRET Compétences'!H187=$S$2,'LIVRET Compétences'!G187,\"\")","v":""},{"$f":"IF('LIVRET Compétences'!H187=$S$2,'LIVRET Compétences'!C187,\"\")","v":""},{"$f":"IF('LIVRET Compétences'!H187=$W$2,'LIVRET Compétences'!I187,\"\")","v":""},{"$f":"IF('LIVRET Compétences'!H187=$W$2,'LIVRET Compétences'!E187,\"\")","v":""},{"$f":"IF('LIVRET Compétences'!H187=$W$2,'LIVRET Compétences'!G187,\"\")","v":""},{"$f":"IF('LIVRET Compétences'!H187=$W$2,'LIVRET Compétences'!C187,\"\")","v":""}]
[null,null,null,null,null,null,null,null,null,null,null,null,null,null,{"$f":"IF('LIVRET Compétences'!H188=$O$2,'LIVRET Compétences'!I188,\"\")","v":""},{"$f":"IF('LIVRET Compétences'!H188=$O$2,'LIVRET Compétences'!E188,\"\")","v":""},{"$f":"IF('LIVRET Compétences'!H188=$O$2,'LIVRET Compétences'!G188,\"\")","v":""},{"$f":"IF('LIVRET Compétences'!H188=$O$2,'LIVRET Compétences'!C188,\"\")","v":""},{"$f":"IF('LIVRET Compétences'!H188=$S$2,'LIVRET Compétences'!I188,\"\")","v":""},{"$f":"IF('LIVRET Compétences'!H188=$S$2,'LIVRET Compétences'!E188,\"\")","v":""},{"$f":"IF('LIVRET Compétences'!H188=$S$2,'LIVRET Compétences'!G188,\"\")","v":""},{"$f":"IF('LIVRET Compétences'!H188=$S$2,'LIVRET Compétences'!C188,\"\")","v":""},{"$f":"IF('LIVRET Compétences'!H188=$W$2,'LIVRET Compétences'!I188,\"\")","v":""},{"$f":"IF('LIVRET Compétences'!H188=$W$2,'LIVRET Compétences'!E188,\"\")","v":""},{"$f":"IF('LIVRET Compétences'!H188=$W$2,'LIVRET Compétences'!G188,\"\")","v":""},{"$f":"IF('LIVRET Compétences'!H188=$W$2,'LIVRET Compétences'!C188,\"\")","v":""}]
[null,null,null,null,null,null,null,null,null,null,null,null,null,null,{"$f":"IF('LIVRET Compétences'!H189=$O$2,'LIVRET Compétences'!I189,\"\")","v":""},{"$f":"IF('LIVRET Compétences'!H189=$O$2,'LIVRET Compétences'!E189,\"\")","v":""},{"$f":"IF('LIVRET Compétences'!H189=$O$2,'LIVRET Compétences'!G189,\"\")","v":""},{"$f":"IF('LIVRET Compétences'!H189=$O$2,'LIVRET Compétences'!C189,\"\")","v":""},{"$f":"IF('LIVRET Compétences'!H189=$S$2,'LIVRET Compétences'!I189,\"\")","v":""},{"$f":"IF('LIVRET Compétences'!H189=$S$2,'LIVRET Compétences'!E189,\"\")","v":""},{"$f":"IF('LIVRET Compétences'!H189=$S$2,'LIVRET Compétences'!G189,\"\")","v":""},{"$f":"IF('LIVRET Compétences'!H189=$S$2,'LIVRET Compétences'!C189,\"\")","v":""},{"$f":"IF('LIVRET Compétences'!H189=$W$2,'LIVRET Compétences'!I189,\"\")","v":""},{"$f":"IF('LIVRET Compétences'!H189=$W$2,'LIVRET Compétences'!E189,\"\")","v":""},{"$f":"IF('LIVRET Compétences'!H189=$W$2,'LIVRET Compétences'!G189,\"\")","v":""},{"$f":"IF('LIVRET Compétences'!H189=$W$2,'LIVRET Compétences'!C189,\"\")","v":""}]
[null,null,null,null,null,null,null,null,null,null,null,null,null,null,{"$f":"IF('LIVRET Compétences'!H190=$O$2,'LIVRET Compétences'!I190,\"\")","v":""},{"$f":"IF('LIVRET Compétences'!H190=$O$2,'LIVRET Compétences'!E190,\"\")","v":""},{"$f":"IF('LIVRET Compétences'!H190=$O$2,'LIVRET Compétences'!G190,\"\")","v":""},{"$f":"IF('LIVRET Compétences'!H190=$O$2,'LIVRET Compétences'!C190,\"\")","v":""},{"$f":"IF('LIVRET Compétences'!H190=$S$2,'LIVRET Compétences'!I190,\"\")","v":""},{"$f":"IF('LIVRET Compétences'!H190=$S$2,'LIVRET Compétences'!E190,\"\")","v":""},{"$f":"IF('LIVRET Compétences'!H190=$S$2,'LIVRET Compétences'!G190,\"\")","v":""},{"$f":"IF('LIVRET Compétences'!H190=$S$2,'LIVRET Compétences'!C190,\"\")","v":""},{"$f":"IF('LIVRET Compétences'!H190=$W$2,'LIVRET Compétences'!I190,\"\")","v":""},{"$f":"IF('LIVRET Compétences'!H190=$W$2,'LIVRET Compétences'!E190,\"\")","v":""},{"$f":"IF('LIVRET Compétences'!H190=$W$2,'LIVRET Compétences'!G190,\"\")","v":""},{"$f":"IF('LIVRET Compétences'!H190=$W$2,'LIVRET Compétences'!C190,\"\")","v":""}]
[null,null,null,null,null,null,null,null,null,null,null,null,null,null,{"$f":"IF('LIVRET Compétences'!H191=$O$2,'LIVRET Compétences'!I191,\"\")","v":""},{"$f":"IF('LIVRET Compétences'!H191=$O$2,'LIVRET Compétences'!E191,\"\")","v":""},{"$f":"IF('LIVRET Compétences'!H191=$O$2,'LIVRET Compétences'!G191,\"\")","v":""},{"$f":"IF('LIVRET Compétences'!H191=$O$2,'LIVRET Compétences'!C191,\"\")","v":""},{"$f":"IF('LIVRET Compétences'!H191=$S$2,'LIVRET Compétences'!I191,\"\")","v":""},{"$f":"IF('LIVRET Compétences'!H191=$S$2,'LIVRET Compétences'!E191,\"\")","v":""},{"$f":"IF('LIVRET Compétences'!H191=$S$2,'LIVRET Compétences'!G191,\"\")","v":""},{"$f":"IF('LIVRET Compétences'!H191=$S$2,'LIVRET Compétences'!C191,\"\")","v":""},{"$f":"IF('LIVRET Compétences'!H191=$W$2,'LIVRET Compétences'!I191,\"\")","v":""},{"$f":"IF('LIVRET Compétences'!H191=$W$2,'LIVRET Compétences'!E191,\"\")","v":""},{"$f":"IF('LIVRET Compétences'!H191=$W$2,'LIVRET Compétences'!G191,\"\")","v":""},{"$f":"IF('LIVRET Compétences'!H191=$W$2,'LIVRET Compétences'!C191,\"\")","v":""}]
[null,null,null,null,null,null,null,null,null,null,null,null,null,null,{"$f":"IF('LIVRET Compétences'!H192=$O$2,'LIVRET Compétences'!I192,\"\")","v":""},{"$f":"IF('LIVRET Compétences'!H192=$O$2,'LIVRET Compétences'!E192,\"\")","v":""},{"$f":"IF('LIVRET Compétences'!H192=$O$2,'LIVRET Compétences'!G192,\"\")","v":""},{"$f":"IF('LIVRET Compétences'!H192=$O$2,'LIVRET Compétences'!C192,\"\")","v":""},{"$f":"IF('LIVRET Compétences'!H192=$S$2,'LIVRET Compétences'!I192,\"\")","v":""},{"$f":"IF('LIVRET Compétences'!H192=$S$2,'LIVRET Compétences'!E192,\"\")","v":""},{"$f":"IF('LIVRET Compétences'!H192=$S$2,'LIVRET Compétences'!G192,\"\")","v":""},{"$f":"IF('LIVRET Compétences'!H192=$S$2,'LIVRET Compétences'!C192,\"\")","v":""},{"$f":"IF('LIVRET Compétences'!H192=$W$2,'LIVRET Compétences'!I192,\"\")","v":""},{"$f":"IF('LIVRET Compétences'!H192=$W$2,'LIVRET Compétences'!E192,\"\")","v":""},{"$f":"IF('LIVRET Compétences'!H192=$W$2,'LIVRET Compétences'!G192,\"\")","v":""},{"$f":"IF('LIVRET Compétences'!H192=$W$2,'LIVRET Compétences'!C192,\"\")","v":""}]
[null,null,null,null,null,null,null,null,null,null,null,null,null,null,{"$f":"IF('LIVRET Compétences'!H193=$O$2,'LIVRET Compétences'!I193,\"\")","v":""},{"$f":"IF('LIVRET Compétences'!H193=$O$2,'LIVRET Compétences'!E193,\"\")","v":""},{"$f":"IF('LIVRET Compétences'!H193=$O$2,'LIVRET Compétences'!G193,\"\")","v":""},{"$f":"IF('LIVRET Compétences'!H193=$O$2,'LIVRET Compétences'!C193,\"\")","v":""},{"$f":"IF('LIVRET Compétences'!H193=$S$2,'LIVRET Compétences'!I193,\"\")","v":""},{"$f":"IF('LIVRET Compétences'!H193=$S$2,'LIVRET Compétences'!E193,\"\")","v":""},{"$f":"IF('LIVRET Compétences'!H193=$S$2,'LIVRET Compétences'!G193,\"\")","v":""},{"$f":"IF('LIVRET Compétences'!H193=$S$2,'LIVRET Compétences'!C193,\"\")","v":""},{"$f":"IF('LIVRET Compétences'!H193=$W$2,'LIVRET Compétences'!I193,\"\")","v":""},{"$f":"IF('LIVRET Compétences'!H193=$W$2,'LIVRET Compétences'!E193,\"\")","v":""},{"$f":"IF('LIVRET Compétences'!H193=$W$2,'LIVRET Compétences'!G193,\"\")","v":""},{"$f":"IF('LIVRET Compétences'!H193=$W$2,'LIVRET Compétences'!C193,\"\")","v":""}]
[null,null,null,null,null,null,null,null,null,null,null,null,null,null,{"$f":"IF('LIVRET Compétences'!H194=$O$2,'LIVRET Compétences'!I194,\"\")","v":""},{"$f":"IF('LIVRET Compétences'!H194=$O$2,'LIVRET Compétences'!E194,\"\")","v":""},{"$f":"IF('LIVRET Compétences'!H194=$O$2,'LIVRET Compétences'!G194,\"\")","v":""},{"$f":"IF('LIVRET Compétences'!H194=$O$2,'LIVRET Compétences'!C194,\"\")","v":""},{"$f":"IF('LIVRET Compétences'!H194=$S$2,'LIVRET Compétences'!I194,\"\")","v":""},{"$f":"IF('LIVRET Compétences'!H194=$S$2,'LIVRET Compétences'!E194,\"\")","v":""},{"$f":"IF('LIVRET Compétences'!H194=$S$2,'LIVRET Compétences'!G194,\"\")","v":""},{"$f":"IF('LIVRET Compétences'!H194=$S$2,'LIVRET Compétences'!C194,\"\")","v":""},{"$f":"IF('LIVRET Compétences'!H194=$W$2,'LIVRET Compétences'!I194,\"\")","v":""},{"$f":"IF('LIVRET Compétences'!H194=$W$2,'LIVRET Compétences'!E194,\"\")","v":""},{"$f":"IF('LIVRET Compétences'!H194=$W$2,'LIVRET Compétences'!G194,\"\")","v":""},{"$f":"IF('LIVRET Compétences'!H194=$W$2,'LIVRET Compétences'!C194,\"\")","v":""}]
[null,null,null,null,null,null,null,null,null,null,null,null,null,null,{"$f":"IF('LIVRET Compétences'!H195=$O$2,'LIVRET Compétences'!I195,\"\")","v":""},{"$f":"IF('LIVRET Compétences'!H195=$O$2,'LIVRET Compétences'!E195,\"\")","v":""},{"$f":"IF('LIVRET Compétences'!H195=$O$2,'LIVRET Compétences'!G195,\"\")","v":""},{"$f":"IF('LIVRET Compétences'!H195=$O$2,'LIVRET Compétences'!C195,\"\")","v":""},{"$f":"IF('LIVRET Compétences'!H195=$S$2,'LIVRET Compétences'!I195,\"\")","v":""},{"$f":"IF('LIVRET Compétences'!H195=$S$2,'LIVRET Compétences'!E195,\"\")","v":""},{"$f":"IF('LIVRET Compétences'!H195=$S$2,'LIVRET Compétences'!G195,\"\")","v":""},{"$f":"IF('LIVRET Compétences'!H195=$S$2,'LIVRET Compétences'!C195,\"\")","v":""},{"$f":"IF('LIVRET Compétences'!H195=$W$2,'LIVRET Compétences'!I195,\"\")","v":""},{"$f":"IF('LIVRET Compétences'!H195=$W$2,'LIVRET Compétences'!E195,\"\")","v":""},{"$f":"IF('LIVRET Compétences'!H195=$W$2,'LIVRET Compétences'!G195,\"\")","v":""},{"$f":"IF('LIVRET Compétences'!H195=$W$2,'LIVRET Compétences'!C195,\"\")","v":""}]
[null,null,null,null,null,null,null,null,null,null,null,null,null,null,{"$f":"IF('LIVRET Compétences'!H196=$O$2,'LIVRET Compétences'!I196,\"\")","v":""},{"$f":"IF('LIVRET Compétences'!H196=$O$2,'LIVRET Compétences'!E196,\"\")","v":""},{"$f":"IF('LIVRET Compétences'!H196=$O$2,'LIVRET Compétences'!G196,\"\")","v":""},{"$f":"IF('LIVRET Compétences'!H196=$O$2,'LIVRET Compétences'!C196,\"\")","v":""},{"$f":"IF('LIVRET Compétences'!H196=$S$2,'LIVRET Compétences'!I196,\"\")","v":""},{"$f":"IF('LIVRET Compétences'!H196=$S$2,'LIVRET Compétences'!E196,\"\")","v":""},{"$f":"IF('LIVRET Compétences'!H196=$S$2,'LIVRET Compétences'!G196,\"\")","v":""},{"$f":"IF('LIVRET Compétences'!H196=$S$2,'LIVRET Compétences'!C196,\"\")","v":""},{"$f":"IF('LIVRET Compétences'!H196=$W$2,'LIVRET Compétences'!I196,\"\")","v":""},{"$f":"IF('LIVRET Compétences'!H196=$W$2,'LIVRET Compétences'!E196,\"\")","v":""},{"$f":"IF('LIVRET Compétences'!H196=$W$2,'LIVRET Compétences'!G196,\"\")","v":""},{"$f":"IF('LIVRET Compétences'!H196=$W$2,'LIVRET Compétences'!C196,\"\")","v":""}]
[null,null,null,null,null,null,null,null,null,null,null,null,null,null,{"$f":"IF('LIVRET Compétences'!H197=$O$2,'LIVRET Compétences'!I197,\"\")","v":""},{"$f":"IF('LIVRET Compétences'!H197=$O$2,'LIVRET Compétences'!E197,\"\")","v":""},{"$f":"IF('LIVRET Compétences'!H197=$O$2,'LIVRET Compétences'!G197,\"\")","v":""},{"$f":"IF('LIVRET Compétences'!H197=$O$2,'LIVRET Compétences'!C197,\"\")","v":""},{"$f":"IF('LIVRET Compétences'!H197=$S$2,'LIVRET Compétences'!I197,\"\")","v":""},{"$f":"IF('LIVRET Compétences'!H197=$S$2,'LIVRET Compétences'!E197,\"\")","v":""},{"$f":"IF('LIVRET Compétences'!H197=$S$2,'LIVRET Compétences'!G197,\"\")","v":""},{"$f":"IF('LIVRET Compétences'!H197=$S$2,'LIVRET Compétences'!C197,\"\")","v":""},{"$f":"IF('LIVRET Compétences'!H197=$W$2,'LIVRET Compétences'!I197,\"\")","v":""},{"$f":"IF('LIVRET Compétences'!H197=$W$2,'LIVRET Compétences'!E197,\"\")","v":""},{"$f":"IF('LIVRET Compétences'!H197=$W$2,'LIVRET Compétences'!G197,\"\")","v":""},{"$f":"IF('LIVRET Compétences'!H197=$W$2,'LIVRET Compétences'!C197,\"\")","v":""}]
[null,null,null,null,null,null,null,null,null,null,null,null,null,null,{"$f":"IF('LIVRET Compétences'!H198=$O$2,'LIVRET Compétences'!I198,\"\")","v":""},{"$f":"IF('LIVRET Compétences'!H198=$O$2,'LIVRET Compétences'!E198,\"\")","v":""},{"$f":"IF('LIVRET Compétences'!H198=$O$2,'LIVRET Compétences'!G198,\"\")","v":""},{"$f":"IF('LIVRET Compétences'!H198=$O$2,'LIVRET Compétences'!C198,\"\")","v":""},{"$f":"IF('LIVRET Compétences'!H198=$S$2,'LIVRET Compétences'!I198,\"\")","v":""},{"$f":"IF('LIVRET Compétences'!H198=$S$2,'LIVRET Compétences'!E198,\"\")","v":""},{"$f":"IF('LIVRET Compétences'!H198=$S$2,'LIVRET Compétences'!G198,\"\")","v":""},{"$f":"IF('LIVRET Compétences'!H198=$S$2,'LIVRET Compétences'!C198,\"\")","v":""},{"$f":"IF('LIVRET Compétences'!H198=$W$2,'LIVRET Compétences'!I198,\"\")","v":""},{"$f":"IF('LIVRET Compétences'!H198=$W$2,'LIVRET Compétences'!E198,\"\")","v":""},{"$f":"IF('LIVRET Compétences'!H198=$W$2,'LIVRET Compétences'!G198,\"\")","v":""},{"$f":"IF('LIVRET Compétences'!H198=$W$2,'LIVRET Compétences'!C198,\"\")","v":""}]
[null,null,null,null,null,null,null,null,null,null,null,null,null,null,{"$f":"IF('LIVRET Compétences'!H199=$O$2,'LIVRET Compétences'!I199,\"\")","v":""},{"$f":"IF('LIVRET Compétences'!H199=$O$2,'LIVRET Compétences'!E199,\"\")","v":""},{"$f":"IF('LIVRET Compétences'!H199=$O$2,'LIVRET Compétences'!G199,\"\")","v":""},{"$f":"IF('LIVRET Compétences'!H199=$O$2,'LIVRET Compétences'!C199,\"\")","v":""},{"$f":"IF('LIVRET Compétences'!H199=$S$2,'LIVRET Compétences'!I199,\"\")","v":""},{"$f":"IF('LIVRET Compétences'!H199=$S$2,'LIVRET Compétences'!E199,\"\")","v":""},{"$f":"IF('LIVRET Compétences'!H199=$S$2,'LIVRET Compétences'!G199,\"\")","v":""},{"$f":"IF('LIVRET Compétences'!H199=$S$2,'LIVRET Compétences'!C199,\"\")","v":""},{"$f":"IF('LIVRET Compétences'!H199=$W$2,'LIVRET Compétences'!I199,\"\")","v":""},{"$f":"IF('LIVRET Compétences'!H199=$W$2,'LIVRET Compétences'!E199,\"\")","v":""},{"$f":"IF('LIVRET Compétences'!H199=$W$2,'LIVRET Compétences'!G199,\"\")","v":""},{"$f":"IF('LIVRET Compétences'!H199=$W$2,'LIVRET Compétences'!C199,\"\")","v":""}]
[null,null,null,null,null,null,null,null,null,null,null,null,null,null,{"$f":"IF('LIVRET Compétences'!H200=$O$2,'LIVRET Compétences'!I200,\"\")","v":""},{"$f":"IF('LIVRET Compétences'!H200=$O$2,'LIVRET Compétences'!E200,\"\")","v":""},{"$f":"IF('LIVRET Compétences'!H200=$O$2,'LIVRET Compétences'!G200,\"\")","v":""},{"$f":"IF('LIVRET Compétences'!H200=$O$2,'LIVRET Compétences'!C200,\"\")","v":""},{"$f":"IF('LIVRET Compétences'!H200=$S$2,'LIVRET Compétences'!I200,\"\")","v":""},{"$f":"IF('LIVRET Compétences'!H200=$S$2,'LIVRET Compétences'!E200,\"\")","v":""},{"$f":"IF('LIVRET Compétences'!H200=$S$2,'LIVRET Compétences'!G200,\"\")","v":""},{"$f":"IF('LIVRET Compétences'!H200=$S$2,'LIVRET Compétences'!C200,\"\")","v":""},{"$f":"IF('LIVRET Compétences'!H200=$W$2,'LIVRET Compétences'!I200,\"\")","v":""},{"$f":"IF('LIVRET Compétences'!H200=$W$2,'LIVRET Compétences'!E200,\"\")","v":""},{"$f":"IF('LIVRET Compétences'!H200=$W$2,'LIVRET Compétences'!G200,\"\")","v":""},{"$f":"IF('LIVRET Compétences'!H200=$W$2,'LIVRET Compétences'!C200,\"\")","v":""}]
[null,null,null,null,null,null,null,null,null,null,null,null,null,null,{"$f":"IF('LIVRET Compétences'!H201=$O$2,'LIVRET Compétences'!I201,\"\")","v":""},{"$f":"IF('LIVRET Compétences'!H201=$O$2,'LIVRET Compétences'!E201,\"\")","v":""},{"$f":"IF('LIVRET Compétences'!H201=$O$2,'LIVRET Compétences'!G201,\"\")","v":""},{"$f":"IF('LIVRET Compétences'!H201=$O$2,'LIVRET Compétences'!C201,\"\")","v":""},{"$f":"IF('LIVRET Compétences'!H201=$S$2,'LIVRET Compétences'!I201,\"\")","v":""},{"$f":"IF('LIVRET Compétences'!H201=$S$2,'LIVRET Compétences'!E201,\"\")","v":""},{"$f":"IF('LIVRET Compétences'!H201=$S$2,'LIVRET Compétences'!G201,\"\")","v":""},{"$f":"IF('LIVRET Compétences'!H201=$S$2,'LIVRET Compétences'!C201,\"\")","v":""},{"$f":"IF('LIVRET Compétences'!H201=$W$2,'LIVRET Compétences'!I201,\"\")","v":""},{"$f":"IF('LIVRET Compétences'!H201=$W$2,'LIVRET Compétences'!E201,\"\")","v":""},{"$f":"IF('LIVRET Compétences'!H201=$W$2,'LIVRET Compétences'!G201,\"\")","v":""},{"$f":"IF('LIVRET Compétences'!H201=$W$2,'LIVRET Compétences'!C201,\"\")","v":""}]
[null,null,null,null,null,null,null,null,null,null,null,null,null,null,{"$f":"IF('LIVRET Compétences'!H202=$O$2,'LIVRET Compétences'!I202,\"\")","v":""},{"$f":"IF('LIVRET Compétences'!H202=$O$2,'LIVRET Compétences'!E202,\"\")","v":""},{"$f":"IF('LIVRET Compétences'!H202=$O$2,'LIVRET Compétences'!G202,\"\")","v":""},{"$f":"IF('LIVRET Compétences'!H202=$O$2,'LIVRET Compétences'!C202,\"\")","v":""},{"$f":"IF('LIVRET Compétences'!H202=$S$2,'LIVRET Compétences'!I202,\"\")","v":""},{"$f":"IF('LIVRET Compétences'!H202=$S$2,'LIVRET Compétences'!E202,\"\")","v":""},{"$f":"IF('LIVRET Compétences'!H202=$S$2,'LIVRET Compétences'!G202,\"\")","v":""},{"$f":"IF('LIVRET Compétences'!H202=$S$2,'LIVRET Compétences'!C202,\"\")","v":""},{"$f":"IF('LIVRET Compétences'!H202=$W$2,'LIVRET Compétences'!I202,\"\")","v":""},{"$f":"IF('LIVRET Compétences'!H202=$W$2,'LIVRET Compétences'!E202,\"\")","v":""},{"$f":"IF('LIVRET Compétences'!H202=$W$2,'LIVRET Compétences'!G202,\"\")","v":""},{"$f":"IF('LIVRET Compétences'!H202=$W$2,'LIVRET Compétences'!C202,\"\")","v":""}]
[null,null,null,null,null,null,null,null,null,null,null,null,null,null,{"$f":"IF('LIVRET Compétences'!H203=$O$2,'LIVRET Compétences'!I203,\"\")","v":""},{"$f":"IF('LIVRET Compétences'!H203=$O$2,'LIVRET Compétences'!E203,\"\")","v":""},{"$f":"IF('LIVRET Compétences'!H203=$O$2,'LIVRET Compétences'!G203,\"\")","v":""},{"$f":"IF('LIVRET Compétences'!H203=$O$2,'LIVRET Compétences'!C203,\"\")","v":""},{"$f":"IF('LIVRET Compétences'!H203=$S$2,'LIVRET Compétences'!I203,\"\")","v":""},{"$f":"IF('LIVRET Compétences'!H203=$S$2,'LIVRET Compétences'!E203,\"\")","v":""},{"$f":"IF('LIVRET Compétences'!H203=$S$2,'LIVRET Compétences'!G203,\"\")","v":""},{"$f":"IF('LIVRET Compétences'!H203=$S$2,'LIVRET Compétences'!C203,\"\")","v":""},{"$f":"IF('LIVRET Compétences'!H203=$W$2,'LIVRET Compétences'!I203,\"\")","v":""},{"$f":"IF('LIVRET Compétences'!H203=$W$2,'LIVRET Compétences'!E203,\"\")","v":""},{"$f":"IF('LIVRET Compétences'!H203=$W$2,'LIVRET Compétences'!G203,\"\")","v":""},{"$f":"IF('LIVRET Compétences'!H203=$W$2,'LIVRET Compétences'!C203,\"\")","v":""}]
[null,null,null,null,null,null,null,null,null,null,null,null,null,null,{"$f":"IF('LIVRET Compétences'!H204=$O$2,'LIVRET Compétences'!I204,\"\")","v":""},{"$f":"IF('LIVRET Compétences'!H204=$O$2,'LIVRET Compétences'!E204,\"\")","v":""},{"$f":"IF('LIVRET Compétences'!H204=$O$2,'LIVRET Compétences'!G204,\"\")","v":""},{"$f":"IF('LIVRET Compétences'!H204=$O$2,'LIVRET Compétences'!C204,\"\")","v":""},{"$f":"IF('LIVRET Compétences'!H204=$S$2,'LIVRET Compétences'!I204,\"\")","v":""},{"$f":"IF('LIVRET Compétences'!H204=$S$2,'LIVRET Compétences'!E204,\"\")","v":""},{"$f":"IF('LIVRET Compétences'!H204=$S$2,'LIVRET Compétences'!G204,\"\")","v":""},{"$f":"IF('LIVRET Compétences'!H204=$S$2,'LIVRET Compétences'!C204,\"\")","v":""},{"$f":"IF('LIVRET Compétences'!H204=$W$2,'LIVRET Compétences'!I204,\"\")","v":""},{"$f":"IF('LIVRET Compétences'!H204=$W$2,'LIVRET Compétences'!E204,\"\")","v":""},{"$f":"IF('LIVRET Compétences'!H204=$W$2,'LIVRET Compétences'!G204,\"\")","v":""},{"$f":"IF('LIVRET Compétences'!H204=$W$2,'LIVRET Compétences'!C204,\"\")","v":""}]
[null,null,null,null,null,null,null,null,null,null,null,null,null,null,{"$f":"IF('LIVRET Compétences'!H205=$O$2,'LIVRET Compétences'!I205,\"\")","v":""},{"$f":"IF('LIVRET Compétences'!H205=$O$2,'LIVRET Compétences'!E205,\"\")","v":""},{"$f":"IF('LIVRET Compétences'!H205=$O$2,'LIVRET Compétences'!G205,\"\")","v":""},{"$f":"IF('LIVRET Compétences'!H205=$O$2,'LIVRET Compétences'!C205,\"\")","v":""},{"$f":"IF('LIVRET Compétences'!H205=$S$2,'LIVRET Compétences'!I205,\"\")","v":""},{"$f":"IF('LIVRET Compétences'!H205=$S$2,'LIVRET Compétences'!E205,\"\")","v":""},{"$f":"IF('LIVRET Compétences'!H205=$S$2,'LIVRET Compétences'!G205,\"\")","v":""},{"$f":"IF('LIVRET Compétences'!H205=$S$2,'LIVRET Compétences'!C205,\"\")","v":""},{"$f":"IF('LIVRET Compétences'!H205=$W$2,'LIVRET Compétences'!I205,\"\")","v":""},{"$f":"IF('LIVRET Compétences'!H205=$W$2,'LIVRET Compétences'!E205,\"\")","v":""},{"$f":"IF('LIVRET Compétences'!H205=$W$2,'LIVRET Compétences'!G205,\"\")","v":""},{"$f":"IF('LIVRET Compétences'!H205=$W$2,'LIVRET Compétences'!C205,\"\")","v":""}]
[null,null,null,null,null,null,null,null,null,null,null,null,null,null,{"$f":"IF('LIVRET Compétences'!H206=$O$2,'LIVRET Compétences'!I206,\"\")","v":""},{"$f":"IF('LIVRET Compétences'!H206=$O$2,'LIVRET Compétences'!E206,\"\")","v":""},{"$f":"IF('LIVRET Compétences'!H206=$O$2,'LIVRET Compétences'!G206,\"\")","v":""},{"$f":"IF('LIVRET Compétences'!H206=$O$2,'LIVRET Compétences'!C206,\"\")","v":""},{"$f":"IF('LIVRET Compétences'!H206=$S$2,'LIVRET Compétences'!I206,\"\")","v":""},{"$f":"IF('LIVRET Compétences'!H206=$S$2,'LIVRET Compétences'!E206,\"\")","v":""},{"$f":"IF('LIVRET Compétences'!H206=$S$2,'LIVRET Compétences'!G206,\"\")","v":""},{"$f":"IF('LIVRET Compétences'!H206=$S$2,'LIVRET Compétences'!C206,\"\")","v":""},{"$f":"IF('LIVRET Compétences'!H206=$W$2,'LIVRET Compétences'!I206,\"\")","v":""},{"$f":"IF('LIVRET Compétences'!H206=$W$2,'LIVRET Compétences'!E206,\"\")","v":""},{"$f":"IF('LIVRET Compétences'!H206=$W$2,'LIVRET Compétences'!G206,\"\")","v":""},{"$f":"IF('LIVRET Compétences'!H206=$W$2,'LIVRET Compétences'!C206,\"\")","v":""}]
[null,null,null,null,null,null,null,null,null,null,null,null,null,null,{"$f":"IF('LIVRET Compétences'!H207=$O$2,'LIVRET Compétences'!I207,\"\")","v":""},{"$f":"IF('LIVRET Compétences'!H207=$O$2,'LIVRET Compétences'!E207,\"\")","v":""},{"$f":"IF('LIVRET Compétences'!H207=$O$2,'LIVRET Compétences'!G207,\"\")","v":""},{"$f":"IF('LIVRET Compétences'!H207=$O$2,'LIVRET Compétences'!C207,\"\")","v":""},{"$f":"IF('LIVRET Compétences'!H207=$S$2,'LIVRET Compétences'!I207,\"\")","v":""},{"$f":"IF('LIVRET Compétences'!H207=$S$2,'LIVRET Compétences'!E207,\"\")","v":""},{"$f":"IF('LIVRET Compétences'!H207=$S$2,'LIVRET Compétences'!G207,\"\")","v":""},{"$f":"IF('LIVRET Compétences'!H207=$S$2,'LIVRET Compétences'!C207,\"\")","v":""},{"$f":"IF('LIVRET Compétences'!H207=$W$2,'LIVRET Compétences'!I207,\"\")","v":""},{"$f":"IF('LIVRET Compétences'!H207=$W$2,'LIVRET Compétences'!E207,\"\")","v":""},{"$f":"IF('LIVRET Compétences'!H207=$W$2,'LIVRET Compétences'!G207,\"\")","v":""},{"$f":"IF('LIVRET Compétences'!H207=$W$2,'LIVRET Compétences'!C207,\"\")","v":""}]
[null,null,null,null,null,null,null,null,null,null,null,null,null,null,{"$f":"IF('LIVRET Compétences'!H208=$O$2,'LIVRET Compétences'!I208,\"\")","v":""},{"$f":"IF('LIVRET Compétences'!H208=$O$2,'LIVRET Compétences'!E208,\"\")","v":""},{"$f":"IF('LIVRET Compétences'!H208=$O$2,'LIVRET Compétences'!G208,\"\")","v":""},{"$f":"IF('LIVRET Compétences'!H208=$O$2,'LIVRET Compétences'!C208,\"\")","v":""},{"$f":"IF('LIVRET Compétences'!H208=$S$2,'LIVRET Compétences'!I208,\"\")","v":""},{"$f":"IF('LIVRET Compétences'!H208=$S$2,'LIVRET Compétences'!E208,\"\")","v":""},{"$f":"IF('LIVRET Compétences'!H208=$S$2,'LIVRET Compétences'!G208,\"\")","v":""},{"$f":"IF('LIVRET Compétences'!H208=$S$2,'LIVRET Compétences'!C208,\"\")","v":""},{"$f":"IF('LIVRET Compétences'!H208=$W$2,'LIVRET Compétences'!I208,\"\")","v":""},{"$f":"IF('LIVRET Compétences'!H208=$W$2,'LIVRET Compétences'!E208,\"\")","v":""},{"$f":"IF('LIVRET Compétences'!H208=$W$2,'LIVRET Compétences'!G208,\"\")","v":""},{"$f":"IF('LIVRET Compétences'!H208=$W$2,'LIVRET Compétences'!C208,\"\")","v":""}]
[null,null,null,null,null,null,null,null,null,null,null,null,null,null,{"$f":"IF('LIVRET Compétences'!H209=$O$2,'LIVRET Compétences'!I209,\"\")","v":""},{"$f":"IF('LIVRET Compétences'!H209=$O$2,'LIVRET Compétences'!E209,\"\")","v":""},{"$f":"IF('LIVRET Compétences'!H209=$O$2,'LIVRET Compétences'!G209,\"\")","v":""},{"$f":"IF('LIVRET Compétences'!H209=$O$2,'LIVRET Compétences'!C209,\"\")","v":""},{"$f":"IF('LIVRET Compétences'!H209=$S$2,'LIVRET Compétences'!I209,\"\")","v":""},{"$f":"IF('LIVRET Compétences'!H209=$S$2,'LIVRET Compétences'!E209,\"\")","v":""},{"$f":"IF('LIVRET Compétences'!H209=$S$2,'LIVRET Compétences'!G209,\"\")","v":""},{"$f":"IF('LIVRET Compétences'!H209=$S$2,'LIVRET Compétences'!C209,\"\")","v":""},{"$f":"IF('LIVRET Compétences'!H209=$W$2,'LIVRET Compétences'!I209,\"\")","v":""},{"$f":"IF('LIVRET Compétences'!H209=$W$2,'LIVRET Compétences'!E209,\"\")","v":""},{"$f":"IF('LIVRET Compétences'!H209=$W$2,'LIVRET Compétences'!G209,\"\")","v":""},{"$f":"IF('LIVRET Compétences'!H209=$W$2,'LIVRET Compétences'!C209,\"\")","v":""}]
[null,null,null,null,null,null,null,null,null,null,null,null,null,null,{"$f":"IF('LIVRET Compétences'!H210=$O$2,'LIVRET Compétences'!I210,\"\")","v":""},{"$f":"IF('LIVRET Compétences'!H210=$O$2,'LIVRET Compétences'!E210,\"\")","v":""},{"$f":"IF('LIVRET Compétences'!H210=$O$2,'LIVRET Compétences'!G210,\"\")","v":""},{"$f":"IF('LIVRET Compétences'!H210=$O$2,'LIVRET Compétences'!C210,\"\")","v":""},{"$f":"IF('LIVRET Compétences'!H210=$S$2,'LIVRET Compétences'!I210,\"\")","v":""},{"$f":"IF('LIVRET Compétences'!H210=$S$2,'LIVRET Compétences'!E210,\"\")","v":""},{"$f":"IF('LIVRET Compétences'!H210=$S$2,'LIVRET Compétences'!G210,\"\")","v":""},{"$f":"IF('LIVRET Compétences'!H210=$S$2,'LIVRET Compétences'!C210,\"\")","v":""},{"$f":"IF('LIVRET Compétences'!H210=$W$2,'LIVRET Compétences'!I210,\"\")","v":""},{"$f":"IF('LIVRET Compétences'!H210=$W$2,'LIVRET Compétences'!E210,\"\")","v":""},{"$f":"IF('LIVRET Compétences'!H210=$W$2,'LIVRET Compétences'!G210,\"\")","v":""},{"$f":"IF('LIVRET Compétences'!H210=$W$2,'LIVRET Compétences'!C210,\"\")","v":""}]
[null,null,null,null,null,null,null,null,null,null,null,null,null,null,{"$f":"IF('LIVRET Compétences'!H211=$O$2,'LIVRET Compétences'!I211,\"\")","v":""},{"$f":"IF('LIVRET Compétences'!H211=$O$2,'LIVRET Compétences'!E211,\"\")","v":""},{"$f":"IF('LIVRET Compétences'!H211=$O$2,'LIVRET Compétences'!G211,\"\")","v":""},{"$f":"IF('LIVRET Compétences'!H211=$O$2,'LIVRET Compétences'!C211,\"\")","v":""},{"$f":"IF('LIVRET Compétences'!H211=$S$2,'LIVRET Compétences'!I211,\"\")","v":""},{"$f":"IF('LIVRET Compétences'!H211=$S$2,'LIVRET Compétences'!E211,\"\")","v":""},{"$f":"IF('LIVRET Compétences'!H211=$S$2,'LIVRET Compétences'!G211,\"\")","v":""},{"$f":"IF('LIVRET Compétences'!H211=$S$2,'LIVRET Compétences'!C211,\"\")","v":""},{"$f":"IF('LIVRET Compétences'!H211=$W$2,'LIVRET Compétences'!I211,\"\")","v":""},{"$f":"IF('LIVRET Compétences'!H211=$W$2,'LIVRET Compétences'!E211,\"\")","v":""},{"$f":"IF('LIVRET Compétences'!H211=$W$2,'LIVRET Compétences'!G211,\"\")","v":""},{"$f":"IF('LIVRET Compétences'!H211=$W$2,'LIVRET Compétences'!C211,\"\")","v":""}]
[null,null,null,null,null,null,null,null,null,null,null,null,null,null,{"$f":"IF('LIVRET Compétences'!H212=$O$2,'LIVRET Compétences'!I212,\"\")","v":""},{"$f":"IF('LIVRET Compétences'!H212=$O$2,'LIVRET Compétences'!E212,\"\")","v":""},{"$f":"IF('LIVRET Compétences'!H212=$O$2,'LIVRET Compétences'!G212,\"\")","v":""},{"$f":"IF('LIVRET Compétences'!H212=$O$2,'LIVRET Compétences'!C212,\"\")","v":""},{"$f":"IF('LIVRET Compétences'!H212=$S$2,'LIVRET Compétences'!I212,\"\")","v":""},{"$f":"IF('LIVRET Compétences'!H212=$S$2,'LIVRET Compétences'!E212,\"\")","v":""},{"$f":"IF('LIVRET Compétences'!H212=$S$2,'LIVRET Compétences'!G212,\"\")","v":""},{"$f":"IF('LIVRET Compétences'!H212=$S$2,'LIVRET Compétences'!C212,\"\")","v":""},{"$f":"IF('LIVRET Compétences'!H212=$W$2,'LIVRET Compétences'!I212,\"\")","v":""},{"$f":"IF('LIVRET Compétences'!H212=$W$2,'LIVRET Compétences'!E212,\"\")","v":""},{"$f":"IF('LIVRET Compétences'!H212=$W$2,'LIVRET Compétences'!G212,\"\")","v":""},{"$f":"IF('LIVRET Compétences'!H212=$W$2,'LIVRET Compétences'!C212,\"\")","v":""}]
[null,null,null,null,null,null,null,null,null,null,null,null,null,null,{"$f":"IF('LIVRET Compétences'!H213=$O$2,'LIVRET Compétences'!I213,\"\")","v":""},{"$f":"IF('LIVRET Compétences'!H213=$O$2,'LIVRET Compétences'!E213,\"\")","v":""},{"$f":"IF('LIVRET Compétences'!H213=$O$2,'LIVRET Compétences'!G213,\"\")","v":""},{"$f":"IF('LIVRET Compétences'!H213=$O$2,'LIVRET Compétences'!C213,\"\")","v":""},{"$f":"IF('LIVRET Compétences'!H213=$S$2,'LIVRET Compétences'!I213,\"\")","v":""},{"$f":"IF('LIVRET Compétences'!H213=$S$2,'LIVRET Compétences'!E213,\"\")","v":""},{"$f":"IF('LIVRET Compétences'!H213=$S$2,'LIVRET Compétences'!G213,\"\")","v":""},{"$f":"IF('LIVRET Compétences'!H213=$S$2,'LIVRET Compétences'!C213,\"\")","v":""},{"$f":"IF('LIVRET Compétences'!H213=$W$2,'LIVRET Compétences'!I213,\"\")","v":""},{"$f":"IF('LIVRET Compétences'!H213=$W$2,'LIVRET Compétences'!E213,\"\")","v":""},{"$f":"IF('LIVRET Compétences'!H213=$W$2,'LIVRET Compétences'!G213,\"\")","v":""},{"$f":"IF('LIVRET Compétences'!H213=$W$2,'LIVRET Compétences'!C213,\"\")","v":""}]
[null,null,null,null,null,null,null,null,null,null,null,null,null,null,{"$f":"IF('LIVRET Compétences'!H214=$O$2,'LIVRET Compétences'!I214,\"\")","v":""},{"$f":"IF('LIVRET Compétences'!H214=$O$2,'LIVRET Compétences'!E214,\"\")","v":""},{"$f":"IF('LIVRET Compétences'!H214=$O$2,'LIVRET Compétences'!G214,\"\")","v":""},{"$f":"IF('LIVRET Compétences'!H214=$O$2,'LIVRET Compétences'!C214,\"\")","v":""},{"$f":"IF('LIVRET Compétences'!H214=$S$2,'LIVRET Compétences'!I214,\"\")","v":""},{"$f":"IF('LIVRET Compétences'!H214=$S$2,'LIVRET Compétences'!E214,\"\")","v":""},{"$f":"IF('LIVRET Compétences'!H214=$S$2,'LIVRET Compétences'!G214,\"\")","v":""},{"$f":"IF('LIVRET Compétences'!H214=$S$2,'LIVRET Compétences'!C214,\"\")","v":""},{"$f":"IF('LIVRET Compétences'!H214=$W$2,'LIVRET Compétences'!I214,\"\")","v":""},{"$f":"IF('LIVRET Compétences'!H214=$W$2,'LIVRET Compétences'!E214,\"\")","v":""},{"$f":"IF('LIVRET Compétences'!H214=$W$2,'LIVRET Compétences'!G214,\"\")","v":""},{"$f":"IF('LIVRET Compétences'!H214=$W$2,'LIVRET Compétences'!C214,\"\")","v":""}]
[null,null,null,null,null,null,null,null,null,null,null,null,null,null,{"$f":"IF('LIVRET Compétences'!H215=$O$2,'LIVRET Compétences'!I215,\"\")","v":""},{"$f":"IF('LIVRET Compétences'!H215=$O$2,'LIVRET Compétences'!E215,\"\")","v":""},{"$f":"IF('LIVRET Compétences'!H215=$O$2,'LIVRET Compétences'!G215,\"\")","v":""},{"$f":"IF('LIVRET Compétences'!H215=$O$2,'LIVRET Compétences'!C215,\"\")","v":""},{"$f":"IF('LIVRET Compétences'!H215=$S$2,'LIVRET Compétences'!I215,\"\")","v":""},{"$f":"IF('LIVRET Compétences'!H215=$S$2,'LIVRET Compétences'!E215,\"\")","v":""},{"$f":"IF('LIVRET Compétences'!H215=$S$2,'LIVRET Compétences'!G215,\"\")","v":""},{"$f":"IF('LIVRET Compétences'!H215=$S$2,'LIVRET Compétences'!C215,\"\")","v":""},{"$f":"IF('LIVRET Compétences'!H215=$W$2,'LIVRET Compétences'!I215,\"\")","v":""},{"$f":"IF('LIVRET Compétences'!H215=$W$2,'LIVRET Compétences'!E215,\"\")","v":""},{"$f":"IF('LIVRET Compétences'!H215=$W$2,'LIVRET Compétences'!G215,\"\")","v":""},{"$f":"IF('LIVRET Compétences'!H215=$W$2,'LIVRET Compétences'!C215,\"\")","v":""}]
[null,null,null,null,null,null,null,null,null,null,null,null,null,null,{"$f":"IF('LIVRET Compétences'!H216=$O$2,'LIVRET Compétences'!I216,\"\")","v":""},{"$f":"IF('LIVRET Compétences'!H216=$O$2,'LIVRET Compétences'!E216,\"\")","v":""},{"$f":"IF('LIVRET Compétences'!H216=$O$2,'LIVRET Compétences'!G216,\"\")","v":""},{"$f":"IF('LIVRET Compétences'!H216=$O$2,'LIVRET Compétences'!C216,\"\")","v":""},{"$f":"IF('LIVRET Compétences'!H216=$S$2,'LIVRET Compétences'!I216,\"\")","v":""},{"$f":"IF('LIVRET Compétences'!H216=$S$2,'LIVRET Compétences'!E216,\"\")","v":""},{"$f":"IF('LIVRET Compétences'!H216=$S$2,'LIVRET Compétences'!G216,\"\")","v":""},{"$f":"IF('LIVRET Compétences'!H216=$S$2,'LIVRET Compétences'!C216,\"\")","v":""},{"$f":"IF('LIVRET Compétences'!H216=$W$2,'LIVRET Compétences'!I216,\"\")","v":""},{"$f":"IF('LIVRET Compétences'!H216=$W$2,'LIVRET Compétences'!E216,\"\")","v":""},{"$f":"IF('LIVRET Compétences'!H216=$W$2,'LIVRET Compétences'!G216,\"\")","v":""},{"$f":"IF('LIVRET Compétences'!H216=$W$2,'LIVRET Compétences'!C216,\"\")","v":""}]
[null,null,null,null,null,null,null,null,null,null,null,null,null,null,{"$f":"IF('LIVRET Compétences'!H217=$O$2,'LIVRET Compétences'!I217,\"\")","v":""},{"$f":"IF('LIVRET Compétences'!H217=$O$2,'LIVRET Compétences'!E217,\"\")","v":""},{"$f":"IF('LIVRET Compétences'!H217=$O$2,'LIVRET Compétences'!G217,\"\")","v":""},{"$f":"IF('LIVRET Compétences'!H217=$O$2,'LIVRET Compétences'!C217,\"\")","v":""},{"$f":"IF('LIVRET Compétences'!H217=$S$2,'LIVRET Compétences'!I217,\"\")","v":""},{"$f":"IF('LIVRET Compétences'!H217=$S$2,'LIVRET Compétences'!E217,\"\")","v":""},{"$f":"IF('LIVRET Compétences'!H217=$S$2,'LIVRET Compétences'!G217,\"\")","v":""},{"$f":"IF('LIVRET Compétences'!H217=$S$2,'LIVRET Compétences'!C217,\"\")","v":""},{"$f":"IF('LIVRET Compétences'!H217=$W$2,'LIVRET Compétences'!I217,\"\")","v":""},{"$f":"IF('LIVRET Compétences'!H217=$W$2,'LIVRET Compétences'!E217,\"\")","v":""},{"$f":"IF('LIVRET Compétences'!H217=$W$2,'LIVRET Compétences'!G217,\"\")","v":""},{"$f":"IF('LIVRET Compétences'!H217=$W$2,'LIVRET Compétences'!C217,\"\")","v":""}]
[null,null,null,null,null,null,null,null,null,null,null,null,null,null,{"$f":"IF('LIVRET Compétences'!H218=$O$2,'LIVRET Compétences'!I218,\"\")","v":""},{"$f":"IF('LIVRET Compétences'!H218=$O$2,'LIVRET Compétences'!E218,\"\")","v":""},{"$f":"IF('LIVRET Compétences'!H218=$O$2,'LIVRET Compétences'!G218,\"\")","v":""},{"$f":"IF('LIVRET Compétences'!H218=$O$2,'LIVRET Compétences'!C218,\"\")","v":""},{"$f":"IF('LIVRET Compétences'!H218=$S$2,'LIVRET Compétences'!I218,\"\")","v":""},{"$f":"IF('LIVRET Compétences'!H218=$S$2,'LIVRET Compétences'!E218,\"\")","v":""},{"$f":"IF('LIVRET Compétences'!H218=$S$2,'LIVRET Compétences'!G218,\"\")","v":""},{"$f":"IF('LIVRET Compétences'!H218=$S$2,'LIVRET Compétences'!C218,\"\")","v":""},{"$f":"IF('LIVRET Compétences'!H218=$W$2,'LIVRET Compétences'!I218,\"\")","v":""},{"$f":"IF('LIVRET Compétences'!H218=$W$2,'LIVRET Compétences'!E218,\"\")","v":""},{"$f":"IF('LIVRET Compétences'!H218=$W$2,'LIVRET Compétences'!G218,\"\")","v":""},{"$f":"IF('LIVRET Compétences'!H218=$W$2,'LIVRET Compétences'!C218,\"\")","v":""}]
[null,null,null,null,null,null,null,null,null,null,null,null,null,null,{"$f":"IF('LIVRET Compétences'!H219=$O$2,'LIVRET Compétences'!I219,\"\")","v":""},{"$f":"IF('LIVRET Compétences'!H219=$O$2,'LIVRET Compétences'!E219,\"\")","v":""},{"$f":"IF('LIVRET Compétences'!H219=$O$2,'LIVRET Compétences'!G219,\"\")","v":""},{"$f":"IF('LIVRET Compétences'!H219=$O$2,'LIVRET Compétences'!C219,\"\")","v":""},{"$f":"IF('LIVRET Compétences'!H219=$S$2,'LIVRET Compétences'!I219,\"\")","v":""},{"$f":"IF('LIVRET Compétences'!H219=$S$2,'LIVRET Compétences'!E219,\"\")","v":""},{"$f":"IF('LIVRET Compétences'!H219=$S$2,'LIVRET Compétences'!G219,\"\")","v":""},{"$f":"IF('LIVRET Compétences'!H219=$S$2,'LIVRET Compétences'!C219,\"\")","v":""},{"$f":"IF('LIVRET Compétences'!H219=$W$2,'LIVRET Compétences'!I219,\"\")","v":""},{"$f":"IF('LIVRET Compétences'!H219=$W$2,'LIVRET Compétences'!E219,\"\")","v":""},{"$f":"IF('LIVRET Compétences'!H219=$W$2,'LIVRET Compétences'!G219,\"\")","v":""},{"$f":"IF('LIVRET Compétences'!H219=$W$2,'LIVRET Compétences'!C219,\"\")","v":""}]
[null,null,null,null,null,null,null,null,null,null,null,null,null,null,{"$f":"IF('LIVRET Compétences'!H220=$O$2,'LIVRET Compétences'!I220,\"\")","v":""},{"$f":"IF('LIVRET Compétences'!H220=$O$2,'LIVRET Compétences'!E220,\"\")","v":""},{"$f":"IF('LIVRET Compétences'!H220=$O$2,'LIVRET Compétences'!G220,\"\")","v":""},{"$f":"IF('LIVRET Compétences'!H220=$O$2,'LIVRET Compétences'!C220,\"\")","v":""},{"$f":"IF('LIVRET Compétences'!H220=$S$2,'LIVRET Compétences'!I220,\"\")","v":""},{"$f":"IF('LIVRET Compétences'!H220=$S$2,'LIVRET Compétences'!E220,\"\")","v":""},{"$f":"IF('LIVRET Compétences'!H220=$S$2,'LIVRET Compétences'!G220,\"\")","v":""},{"$f":"IF('LIVRET Compétences'!H220=$S$2,'LIVRET Compétences'!C220,\"\")","v":""},{"$f":"IF('LIVRET Compétences'!H220=$W$2,'LIVRET Compétences'!I220,\"\")","v":""},{"$f":"IF('LIVRET Compétences'!H220=$W$2,'LIVRET Compétences'!E220,\"\")","v":""},{"$f":"IF('LIVRET Compétences'!H220=$W$2,'LIVRET Compétences'!G220,\"\")","v":""},{"$f":"IF('LIVRET Compétences'!H220=$W$2,'LIVRET Compétences'!C220,\"\")","v":""}]
[null,null,null,null,null,null,null,null,null,null,null,null,null,null,{"$f":"IF('LIVRET Compétences'!H221=$O$2,'LIVRET Compétences'!I221,\"\")","v":""},{"$f":"IF('LIVRET Compétences'!H221=$O$2,'LIVRET Compétences'!E221,\"\")","v":""},{"$f":"IF('LIVRET Compétences'!H221=$O$2,'LIVRET Compétences'!G221,\"\")","v":""},{"$f":"IF('LIVRET Compétences'!H221=$O$2,'LIVRET Compétences'!C221,\"\")","v":""},{"$f":"IF('LIVRET Compétences'!H221=$S$2,'LIVRET Compétences'!I221,\"\")","v":""},{"$f":"IF('LIVRET Compétences'!H221=$S$2,'LIVRET Compétences'!E221,\"\")","v":""},{"$f":"IF('LIVRET Compétences'!H221=$S$2,'LIVRET Compétences'!G221,\"\")","v":""},{"$f":"IF('LIVRET Compétences'!H221=$S$2,'LIVRET Compétences'!C221,\"\")","v":""},{"$f":"IF('LIVRET Compétences'!H221=$W$2,'LIVRET Compétences'!I221,\"\")","v":""},{"$f":"IF('LIVRET Compétences'!H221=$W$2,'LIVRET Compétences'!E221,\"\")","v":""},{"$f":"IF('LIVRET Compétences'!H221=$W$2,'LIVRET Compétences'!G221,\"\")","v":""},{"$f":"IF('LIVRET Compétences'!H221=$W$2,'LIVRET Compétences'!C221,\"\")","v":""}]
[null,null,null,null,null,null,null,null,null,null,null,null,null,null,{"$f":"IF('LIVRET Compétences'!H222=$O$2,'LIVRET Compétences'!I222,\"\")","v":""},{"$f":"IF('LIVRET Compétences'!H222=$O$2,'LIVRET Compétences'!E222,\"\")","v":""},{"$f":"IF('LIVRET Compétences'!H222=$O$2,'LIVRET Compétences'!G222,\"\")","v":""},{"$f":"IF('LIVRET Compétences'!H222=$O$2,'LIVRET Compétences'!C222,\"\")","v":""},{"$f":"IF('LIVRET Compétences'!H222=$S$2,'LIVRET Compétences'!I222,\"\")","v":""},{"$f":"IF('LIVRET Compétences'!H222=$S$2,'LIVRET Compétences'!E222,\"\")","v":""},{"$f":"IF('LIVRET Compétences'!H222=$S$2,'LIVRET Compétences'!G222,\"\")","v":""},{"$f":"IF('LIVRET Compétences'!H222=$S$2,'LIVRET Compétences'!C222,\"\")","v":""},{"$f":"IF('LIVRET Compétences'!H222=$W$2,'LIVRET Compétences'!I222,\"\")","v":""},{"$f":"IF('LIVRET Compétences'!H222=$W$2,'LIVRET Compétences'!E222,\"\")","v":""},{"$f":"IF('LIVRET Compétences'!H222=$W$2,'LIVRET Compétences'!G222,\"\")","v":""},{"$f":"IF('LIVRET Compétences'!H222=$W$2,'LIVRET Compétences'!C222,\"\")","v":""}]
[null,null,null,null,null,null,null,null,null,null,null,null,null,null,{"$f":"IF('LIVRET Compétences'!H223=$O$2,'LIVRET Compétences'!I223,\"\")","v":""},{"$f":"IF('LIVRET Compétences'!H223=$O$2,'LIVRET Compétences'!E223,\"\")","v":""},{"$f":"IF('LIVRET Compétences'!H223=$O$2,'LIVRET Compétences'!G223,\"\")","v":""},{"$f":"IF('LIVRET Compétences'!H223=$O$2,'LIVRET Compétences'!C223,\"\")","v":""},{"$f":"IF('LIVRET Compétences'!H223=$S$2,'LIVRET Compétences'!I223,\"\")","v":""},{"$f":"IF('LIVRET Compétences'!H223=$S$2,'LIVRET Compétences'!E223,\"\")","v":""},{"$f":"IF('LIVRET Compétences'!H223=$S$2,'LIVRET Compétences'!G223,\"\")","v":""},{"$f":"IF('LIVRET Compétences'!H223=$S$2,'LIVRET Compétences'!C223,\"\")","v":""},{"$f":"IF('LIVRET Compétences'!H223=$W$2,'LIVRET Compétences'!I223,\"\")","v":""},{"$f":"IF('LIVRET Compétences'!H223=$W$2,'LIVRET Compétences'!E223,\"\")","v":""},{"$f":"IF('LIVRET Compétences'!H223=$W$2,'LIVRET Compétences'!G223,\"\")","v":""},{"$f":"IF('LIVRET Compétences'!H223=$W$2,'LIVRET Compétences'!C223,\"\")","v":""}]
[null,null,null,null,null,null,null,null,null,null,null,null,null,null,{"$f":"IF('LIVRET Compétences'!H224=$O$2,'LIVRET Compétences'!I224,\"\")","v":""},{"$f":"IF('LIVRET Compétences'!H224=$O$2,'LIVRET Compétences'!E224,\"\")","v":""},{"$f":"IF('LIVRET Compétences'!H224=$O$2,'LIVRET Compétences'!G224,\"\")","v":""},{"$f":"IF('LIVRET Compétences'!H224=$O$2,'LIVRET Compétences'!C224,\"\")","v":""},{"$f":"IF('LIVRET Compétences'!H224=$S$2,'LIVRET Compétences'!I224,\"\")","v":""},{"$f":"IF('LIVRET Compétences'!H224=$S$2,'LIVRET Compétences'!E224,\"\")","v":""},{"$f":"IF('LIVRET Compétences'!H224=$S$2,'LIVRET Compétences'!G224,\"\")","v":""},{"$f":"IF('LIVRET Compétences'!H224=$S$2,'LIVRET Compétences'!C224,\"\")","v":""},{"$f":"IF('LIVRET Compétences'!H224=$W$2,'LIVRET Compétences'!I224,\"\")","v":""},{"$f":"IF('LIVRET Compétences'!H224=$W$2,'LIVRET Compétences'!E224,\"\")","v":""},{"$f":"IF('LIVRET Compétences'!H224=$W$2,'LIVRET Compétences'!G224,\"\")","v":""},{"$f":"IF('LIVRET Compétences'!H224=$W$2,'LIVRET Compétences'!C224,\"\")","v":""}]
[null,null,null,null,null,null,null,null,null,null,null,null,null,null,{"$f":"IF('LIVRET Compétences'!H225=$O$2,'LIVRET Compétences'!I225,\"\")","v":""},{"$f":"IF('LIVRET Compétences'!H225=$O$2,'LIVRET Compétences'!E225,\"\")","v":""},{"$f":"IF('LIVRET Compétences'!H225=$O$2,'LIVRET Compétences'!G225,\"\")","v":""},{"$f":"IF('LIVRET Compétences'!H225=$O$2,'LIVRET Compétences'!C225,\"\")","v":""},{"$f":"IF('LIVRET Compétences'!H225=$S$2,'LIVRET Compétences'!I225,\"\")","v":""},{"$f":"IF('LIVRET Compétences'!H225=$S$2,'LIVRET Compétences'!E225,\"\")","v":""},{"$f":"IF('LIVRET Compétences'!H225=$S$2,'LIVRET Compétences'!G225,\"\")","v":""},{"$f":"IF('LIVRET Compétences'!H225=$S$2,'LIVRET Compétences'!C225,\"\")","v":""},{"$f":"IF('LIVRET Compétences'!H225=$W$2,'LIVRET Compétences'!I225,\"\")","v":""},{"$f":"IF('LIVRET Compétences'!H225=$W$2,'LIVRET Compétences'!E225,\"\")","v":""},{"$f":"IF('LIVRET Compétences'!H225=$W$2,'LIVRET Compétences'!G225,\"\")","v":""},{"$f":"IF('LIVRET Compétences'!H225=$W$2,'LIVRET Compétences'!C225,\"\")","v":""}]
[null,null,null,null,null,null,null,null,null,null,null,null,null,null,{"$f":"IF('LIVRET Compétences'!H226=$O$2,'LIVRET Compétences'!I226,\"\")","v":""},{"$f":"IF('LIVRET Compétences'!H226=$O$2,'LIVRET Compétences'!E226,\"\")","v":""},{"$f":"IF('LIVRET Compétences'!H226=$O$2,'LIVRET Compétences'!G226,\"\")","v":""},{"$f":"IF('LIVRET Compétences'!H226=$O$2,'LIVRET Compétences'!C226,\"\")","v":""},{"$f":"IF('LIVRET Compétences'!H226=$S$2,'LIVRET Compétences'!I226,\"\")","v":""},{"$f":"IF('LIVRET Compétences'!H226=$S$2,'LIVRET Compétences'!E226,\"\")","v":""},{"$f":"IF('LIVRET Compétences'!H226=$S$2,'LIVRET Compétences'!G226,\"\")","v":""},{"$f":"IF('LIVRET Compétences'!H226=$S$2,'LIVRET Compétences'!C226,\"\")","v":""},{"$f":"IF('LIVRET Compétences'!H226=$W$2,'LIVRET Compétences'!I226,\"\")","v":""},{"$f":"IF('LIVRET Compétences'!H226=$W$2,'LIVRET Compétences'!E226,\"\")","v":""},{"$f":"IF('LIVRET Compétences'!H226=$W$2,'LIVRET Compétences'!G226,\"\")","v":""},{"$f":"IF('LIVRET Compétences'!H226=$W$2,'LIVRET Compétences'!C226,\"\")","v":""}]
[null,null,null,null,null,null,null,null,null,null,null,null,null,null,{"$f":"IF('LIVRET Compétences'!H227=$O$2,'LIVRET Compétences'!I227,\"\")","v":""},{"$f":"IF('LIVRET Compétences'!H227=$O$2,'LIVRET Compétences'!E227,\"\")","v":""},{"$f":"IF('LIVRET Compétences'!H227=$O$2,'LIVRET Compétences'!G227,\"\")","v":""},{"$f":"IF('LIVRET Compétences'!H227=$O$2,'LIVRET Compétences'!C227,\"\")","v":""},{"$f":"IF('LIVRET Compétences'!H227=$S$2,'LIVRET Compétences'!I227,\"\")","v":""},{"$f":"IF('LIVRET Compétences'!H227=$S$2,'LIVRET Compétences'!E227,\"\")","v":""},{"$f":"IF('LIVRET Compétences'!H227=$S$2,'LIVRET Compétences'!G227,\"\")","v":""},{"$f":"IF('LIVRET Compétences'!H227=$S$2,'LIVRET Compétences'!C227,\"\")","v":""},{"$f":"IF('LIVRET Compétences'!H227=$W$2,'LIVRET Compétences'!I227,\"\")","v":""},{"$f":"IF('LIVRET Compétences'!H227=$W$2,'LIVRET Compétences'!E227,\"\")","v":""},{"$f":"IF('LIVRET Compétences'!H227=$W$2,'LIVRET Compétences'!G227,\"\")","v":""},{"$f":"IF('LIVRET Compétences'!H227=$W$2,'LIVRET Compétences'!C227,\"\")","v":""}]
[null,null,null,null,null,null,null,null,null,null,null,null,null,null,{"$f":"IF('LIVRET Compétences'!H228=$O$2,'LIVRET Compétences'!I228,\"\")","v":""},{"$f":"IF('LIVRET Compétences'!H228=$O$2,'LIVRET Compétences'!E228,\"\")","v":""},{"$f":"IF('LIVRET Compétences'!H228=$O$2,'LIVRET Compétences'!G228,\"\")","v":""},{"$f":"IF('LIVRET Compétences'!H228=$O$2,'LIVRET Compétences'!C228,\"\")","v":""},{"$f":"IF('LIVRET Compétences'!H228=$S$2,'LIVRET Compétences'!I228,\"\")","v":""},{"$f":"IF('LIVRET Compétences'!H228=$S$2,'LIVRET Compétences'!E228,\"\")","v":""},{"$f":"IF('LIVRET Compétences'!H228=$S$2,'LIVRET Compétences'!G228,\"\")","v":""},{"$f":"IF('LIVRET Compétences'!H228=$S$2,'LIVRET Compétences'!C228,\"\")","v":""},{"$f":"IF('LIVRET Compétences'!H228=$W$2,'LIVRET Compétences'!I228,\"\")","v":""},{"$f":"IF('LIVRET Compétences'!H228=$W$2,'LIVRET Compétences'!E228,\"\")","v":""},{"$f":"IF('LIVRET Compétences'!H228=$W$2,'LIVRET Compétences'!G228,\"\")","v":""},{"$f":"IF('LIVRET Compétences'!H228=$W$2,'LIVRET Compétences'!C228,\"\")","v":""}]
[null,null,null,null,null,null,null,null,null,null,null,null,null,null,{"$f":"IF('LIVRET Compétences'!H229=$O$2,'LIVRET Compétences'!I229,\"\")","v":""},{"$f":"IF('LIVRET Compétences'!H229=$O$2,'LIVRET Compétences'!E229,\"\")","v":""},{"$f":"IF('LIVRET Compétences'!H229=$O$2,'LIVRET Compétences'!G229,\"\")","v":""},{"$f":"IF('LIVRET Compétences'!H229=$O$2,'LIVRET Compétences'!C229,\"\")","v":""},{"$f":"IF('LIVRET Compétences'!H229=$S$2,'LIVRET Compétences'!I229,\"\")","v":""},{"$f":"IF('LIVRET Compétences'!H229=$S$2,'LIVRET Compétences'!E229,\"\")","v":""},{"$f":"IF('LIVRET Compétences'!H229=$S$2,'LIVRET Compétences'!G229,\"\")","v":""},{"$f":"IF('LIVRET Compétences'!H229=$S$2,'LIVRET Compétences'!C229,\"\")","v":""},{"$f":"IF('LIVRET Compétences'!H229=$W$2,'LIVRET Compétences'!I229,\"\")","v":""},{"$f":"IF('LIVRET Compétences'!H229=$W$2,'LIVRET Compétences'!E229,\"\")","v":""},{"$f":"IF('LIVRET Compétences'!H229=$W$2,'LIVRET Compétences'!G229,\"\")","v":""},{"$f":"IF('LIVRET Compétences'!H229=$W$2,'LIVRET Compétences'!C229,\"\")","v":""}]
[null,null,null,null,null,null,null,null,null,null,null,null,null,null,{"$f":"IF('LIVRET Compétences'!H230=$O$2,'LIVRET Compétences'!I230,\"\")","v":""},{"$f":"IF('LIVRET Compétences'!H230=$O$2,'LIVRET Compétences'!E230,\"\")","v":""},{"$f":"IF('LIVRET Compétences'!H230=$O$2,'LIVRET Compétences'!G230,\"\")","v":""},{"$f":"IF('LIVRET Compétences'!H230=$O$2,'LIVRET Compétences'!C230,\"\")","v":""},{"$f":"IF('LIVRET Compétences'!H230=$S$2,'LIVRET Compétences'!I230,\"\")","v":""},{"$f":"IF('LIVRET Compétences'!H230=$S$2,'LIVRET Compétences'!E230,\"\")","v":""},{"$f":"IF('LIVRET Compétences'!H230=$S$2,'LIVRET Compétences'!G230,\"\")","v":""},{"$f":"IF('LIVRET Compétences'!H230=$S$2,'LIVRET Compétences'!C230,\"\")","v":""},{"$f":"IF('LIVRET Compétences'!H230=$W$2,'LIVRET Compétences'!I230,\"\")","v":""},{"$f":"IF('LIVRET Compétences'!H230=$W$2,'LIVRET Compétences'!E230,\"\")","v":""},{"$f":"IF('LIVRET Compétences'!H230=$W$2,'LIVRET Compétences'!G230,\"\")","v":""},{"$f":"IF('LIVRET Compétences'!H230=$W$2,'LIVRET Compétences'!C230,\"\")","v":""}]
[null,null,null,null,null,null,null,null,null,null,null,null,null,null,{"$f":"IF('LIVRET Compétences'!H231=$O$2,'LIVRET Compétences'!I231,\"\")","v":""},{"$f":"IF('LIVRET Compétences'!H231=$O$2,'LIVRET Compétences'!E231,\"\")","v":""},{"$f":"IF('LIVRET Compétences'!H231=$O$2,'LIVRET Compétences'!G231,\"\")","v":""},{"$f":"IF('LIVRET Compétences'!H231=$O$2,'LIVRET Compétences'!C231,\"\")","v":""},{"$f":"IF('LIVRET Compétences'!H231=$S$2,'LIVRET Compétences'!I231,\"\")","v":""},{"$f":"IF('LIVRET Compétences'!H231=$S$2,'LIVRET Compétences'!E231,\"\")","v":""},{"$f":"IF('LIVRET Compétences'!H231=$S$2,'LIVRET Compétences'!G231,\"\")","v":""},{"$f":"IF('LIVRET Compétences'!H231=$S$2,'LIVRET Compétences'!C231,\"\")","v":""},{"$f":"IF('LIVRET Compétences'!H231=$W$2,'LIVRET Compétences'!I231,\"\")","v":""},{"$f":"IF('LIVRET Compétences'!H231=$W$2,'LIVRET Compétences'!E231,\"\")","v":""},{"$f":"IF('LIVRET Compétences'!H231=$W$2,'LIVRET Compétences'!G231,\"\")","v":""},{"$f":"IF('LIVRET Compétences'!H231=$W$2,'LIVRET Compétences'!C231,\"\")","v":""}]
[null,null,null,null,null,null,null,null,null,null,null,null,null,null,{"$f":"IF('LIVRET Compétences'!H232=$O$2,'LIVRET Compétences'!I232,\"\")","v":""},{"$f":"IF('LIVRET Compétences'!H232=$O$2,'LIVRET Compétences'!E232,\"\")","v":""},{"$f":"IF('LIVRET Compétences'!H232=$O$2,'LIVRET Compétences'!G232,\"\")","v":""},{"$f":"IF('LIVRET Compétences'!H232=$O$2,'LIVRET Compétences'!C232,\"\")","v":""},{"$f":"IF('LIVRET Compétences'!H232=$S$2,'LIVRET Compétences'!I232,\"\")","v":""},{"$f":"IF('LIVRET Compétences'!H232=$S$2,'LIVRET Compétences'!E232,\"\")","v":""},{"$f":"IF('LIVRET Compétences'!H232=$S$2,'LIVRET Compétences'!G232,\"\")","v":""},{"$f":"IF('LIVRET Compétences'!H232=$S$2,'LIVRET Compétences'!C232,\"\")","v":""},{"$f":"IF('LIVRET Compétences'!H232=$W$2,'LIVRET Compétences'!I232,\"\")","v":""},{"$f":"IF('LIVRET Compétences'!H232=$W$2,'LIVRET Compétences'!E232,\"\")","v":""},{"$f":"IF('LIVRET Compétences'!H232=$W$2,'LIVRET Compétences'!G232,\"\")","v":""},{"$f":"IF('LIVRET Compétences'!H232=$W$2,'LIVRET Compétences'!C232,\"\")","v":""}]
[null,null,null,null,null,null,null,null,null,null,null,null,null,null,{"$f":"IF('LIVRET Compétences'!H233=$O$2,'LIVRET Compétences'!I233,\"\")","v":""},{"$f":"IF('LIVRET Compétences'!H233=$O$2,'LIVRET Compétences'!E233,\"\")","v":""},{"$f":"IF('LIVRET Compétences'!H233=$O$2,'LIVRET Compétences'!G233,\"\")","v":""},{"$f":"IF('LIVRET Compétences'!H233=$O$2,'LIVRET Compétences'!C233,\"\")","v":""},{"$f":"IF('LIVRET Compétences'!H233=$S$2,'LIVRET Compétences'!I233,\"\")","v":""},{"$f":"IF('LIVRET Compétences'!H233=$S$2,'LIVRET Compétences'!E233,\"\")","v":""},{"$f":"IF('LIVRET Compétences'!H233=$S$2,'LIVRET Compétences'!G233,\"\")","v":""},{"$f":"IF('LIVRET Compétences'!H233=$S$2,'LIVRET Compétences'!C233,\"\")","v":""},{"$f":"IF('LIVRET Compétences'!H233=$W$2,'LIVRET Compétences'!I233,\"\")","v":""},{"$f":"IF('LIVRET Compétences'!H233=$W$2,'LIVRET Compétences'!E233,\"\")","v":""},{"$f":"IF('LIVRET Compétences'!H233=$W$2,'LIVRET Compétences'!G233,\"\")","v":""},{"$f":"IF('LIVRET Compétences'!H233=$W$2,'LIVRET Compétences'!C233,\"\")","v":""}]
[null,null,null,null,null,null,null,null,null,null,null,null,null,null,{"$f":"IF('LIVRET Compétences'!H234=$O$2,'LIVRET Compétences'!I234,\"\")","v":""},{"$f":"IF('LIVRET Compétences'!H234=$O$2,'LIVRET Compétences'!E234,\"\")","v":""},{"$f":"IF('LIVRET Compétences'!H234=$O$2,'LIVRET Compétences'!G234,\"\")","v":""},{"$f":"IF('LIVRET Compétences'!H234=$O$2,'LIVRET Compétences'!C234,\"\")","v":""},{"$f":"IF('LIVRET Compétences'!H234=$S$2,'LIVRET Compétences'!I234,\"\")","v":""},{"$f":"IF('LIVRET Compétences'!H234=$S$2,'LIVRET Compétences'!E234,\"\")","v":""},{"$f":"IF('LIVRET Compétences'!H234=$S$2,'LIVRET Compétences'!G234,\"\")","v":""},{"$f":"IF('LIVRET Compétences'!H234=$S$2,'LIVRET Compétences'!C234,\"\")","v":""},{"$f":"IF('LIVRET Compétences'!H234=$W$2,'LIVRET Compétences'!I234,\"\")","v":""},{"$f":"IF('LIVRET Compétences'!H234=$W$2,'LIVRET Compétences'!E234,\"\")","v":""},{"$f":"IF('LIVRET Compétences'!H234=$W$2,'LIVRET Compétences'!G234,\"\")","v":""},{"$f":"IF('LIVRET Compétences'!H234=$W$2,'LIVRET Compétences'!C234,\"\")","v":""}]
[null,null,null,null,null,null,null,null,null,null,null,null,null,null,{"$f":"IF('LIVRET Compétences'!H235=$O$2,'LIVRET Compétences'!I235,\"\")","v":""},{"$f":"IF('LIVRET Compétences'!H235=$O$2,'LIVRET Compétences'!E235,\"\")","v":""},{"$f":"IF('LIVRET Compétences'!H235=$O$2,'LIVRET Compétences'!G235,\"\")","v":""},{"$f":"IF('LIVRET Compétences'!H235=$O$2,'LIVRET Compétences'!C235,\"\")","v":""},{"$f":"IF('LIVRET Compétences'!H235=$S$2,'LIVRET Compétences'!I235,\"\")","v":""},{"$f":"IF('LIVRET Compétences'!H235=$S$2,'LIVRET Compétences'!E235,\"\")","v":""},{"$f":"IF('LIVRET Compétences'!H235=$S$2,'LIVRET Compétences'!G235,\"\")","v":""},{"$f":"IF('LIVRET Compétences'!H235=$S$2,'LIVRET Compétences'!C235,\"\")","v":""},{"$f":"IF('LIVRET Compétences'!H235=$W$2,'LIVRET Compétences'!I235,\"\")","v":""},{"$f":"IF('LIVRET Compétences'!H235=$W$2,'LIVRET Compétences'!E235,\"\")","v":""},{"$f":"IF('LIVRET Compétences'!H235=$W$2,'LIVRET Compétences'!G235,\"\")","v":""},{"$f":"IF('LIVRET Compétences'!H235=$W$2,'LIVRET Compétences'!C235,\"\")","v":""}]
[null,null,null,null,null,null,null,null,null,null,null,null,null,null,{"$f":"IF('LIVRET Compétences'!H236=$O$2,'LIVRET Compétences'!I236,\"\")","v":""},{"$f":"IF('LIVRET Compétences'!H236=$O$2,'LIVRET Compétences'!E236,\"\")","v":""},{"$f":"IF('LIVRET Compétences'!H236=$O$2,'LIVRET Compétences'!G236,\"\")","v":""},{"$f":"IF('LIVRET Compétences'!H236=$O$2,'LIVRET Compétences'!C236,\"\")","v":""},{"$f":"IF('LIVRET Compétences'!H236=$S$2,'LIVRET Compétences'!I236,\"\")","v":""},{"$f":"IF('LIVRET Compétences'!H236=$S$2,'LIVRET Compétences'!E236,\"\")","v":""},{"$f":"IF('LIVRET Compétences'!H236=$S$2,'LIVRET Compétences'!G236,\"\")","v":""},{"$f":"IF('LIVRET Compétences'!H236=$S$2,'LIVRET Compétences'!C236,\"\")","v":""},{"$f":"IF('LIVRET Compétences'!H236=$W$2,'LIVRET Compétences'!I236,\"\")","v":""},{"$f":"IF('LIVRET Compétences'!H236=$W$2,'LIVRET Compétences'!E236,\"\")","v":""},{"$f":"IF('LIVRET Compétences'!H236=$W$2,'LIVRET Compétences'!G236,\"\")","v":""},{"$f":"IF('LIVRET Compétences'!H236=$W$2,'LIVRET Compétences'!C236,\"\")","v":""}]
[null,null,null,null,null,null,null,null,null,null,null,null,null,null,{"$f":"IF('LIVRET Compétences'!H237=$O$2,'LIVRET Compétences'!I237,\"\")","v":""},{"$f":"IF('LIVRET Compétences'!H237=$O$2,'LIVRET Compétences'!E237,\"\")","v":""},{"$f":"IF('LIVRET Compétences'!H237=$O$2,'LIVRET Compétences'!G237,\"\")","v":""},{"$f":"IF('LIVRET Compétences'!H237=$O$2,'LIVRET Compétences'!C237,\"\")","v":""},{"$f":"IF('LIVRET Compétences'!H237=$S$2,'LIVRET Compétences'!I237,\"\")","v":""},{"$f":"IF('LIVRET Compétences'!H237=$S$2,'LIVRET Compétences'!E237,\"\")","v":""},{"$f":"IF('LIVRET Compétences'!H237=$S$2,'LIVRET Compétences'!G237,\"\")","v":""},{"$f":"IF('LIVRET Compétences'!H237=$S$2,'LIVRET Compétences'!C237,\"\")","v":""},{"$f":"IF('LIVRET Compétences'!H237=$W$2,'LIVRET Compétences'!I237,\"\")","v":""},{"$f":"IF('LIVRET Compétences'!H237=$W$2,'LIVRET Compétences'!E237,\"\")","v":""},{"$f":"IF('LIVRET Compétences'!H237=$W$2,'LIVRET Compétences'!G237,\"\")","v":""},{"$f":"IF('LIVRET Compétences'!H237=$W$2,'LIVRET Compétences'!C237,\"\")","v":""}]
[null,null,null,null,null,null,null,null,null,null,null,null,null,null,{"$f":"IF('LIVRET Compétences'!H238=$O$2,'LIVRET Compétences'!I238,\"\")","v":""},{"$f":"IF('LIVRET Compétences'!H238=$O$2,'LIVRET Compétences'!E238,\"\")","v":""},{"$f":"IF('LIVRET Compétences'!H238=$O$2,'LIVRET Compétences'!G238,\"\")","v":""},{"$f":"IF('LIVRET Compétences'!H238=$O$2,'LIVRET Compétences'!C238,\"\")","v":""},{"$f":"IF('LIVRET Compétences'!H238=$S$2,'LIVRET Compétences'!I238,\"\")","v":""},{"$f":"IF('LIVRET Compétences'!H238=$S$2,'LIVRET Compétences'!E238,\"\")","v":""},{"$f":"IF('LIVRET Compétences'!H238=$S$2,'LIVRET Compétences'!G238,\"\")","v":""},{"$f":"IF('LIVRET Compétences'!H238=$S$2,'LIVRET Compétences'!C238,\"\")","v":""},{"$f":"IF('LIVRET Compétences'!H238=$W$2,'LIVRET Compétences'!I238,\"\")","v":""},{"$f":"IF('LIVRET Compétences'!H238=$W$2,'LIVRET Compétences'!E238,\"\")","v":""},{"$f":"IF('LIVRET Compétences'!H238=$W$2,'LIVRET Compétences'!G238,\"\")","v":""},{"$f":"IF('LIVRET Compétences'!H238=$W$2,'LIVRET Compétences'!C238,\"\")","v":""}]
[null,null,null,null,null,null,null,null,null,null,null,null,null,null,{"$f":"IF('LIVRET Compétences'!H239=$O$2,'LIVRET Compétences'!I239,\"\")","v":""},{"$f":"IF('LIVRET Compétences'!H239=$O$2,'LIVRET Compétences'!E239,\"\")","v":""},{"$f":"IF('LIVRET Compétences'!H239=$O$2,'LIVRET Compétences'!G239,\"\")","v":""},{"$f":"IF('LIVRET Compétences'!H239=$O$2,'LIVRET Compétences'!C239,\"\")","v":""},{"$f":"IF('LIVRET Compétences'!H239=$S$2,'LIVRET Compétences'!I239,\"\")","v":""},{"$f":"IF('LIVRET Compétences'!H239=$S$2,'LIVRET Compétences'!E239,\"\")","v":""},{"$f":"IF('LIVRET Compétences'!H239=$S$2,'LIVRET Compétences'!G239,\"\")","v":""},{"$f":"IF('LIVRET Compétences'!H239=$S$2,'LIVRET Compétences'!C239,\"\")","v":""},{"$f":"IF('LIVRET Compétences'!H239=$W$2,'LIVRET Compétences'!I239,\"\")","v":""},{"$f":"IF('LIVRET Compétences'!H239=$W$2,'LIVRET Compétences'!E239,\"\")","v":""},{"$f":"IF('LIVRET Compétences'!H239=$W$2,'LIVRET Compétences'!G239,\"\")","v":""},{"$f":"IF('LIVRET Compétences'!H239=$W$2,'LIVRET Compétences'!C239,\"\")","v":""}]
[null,null,null,null,null,null,null,null,null,null,null,null,null,null,{"$f":"IF('LIVRET Compétences'!H240=$O$2,'LIVRET Compétences'!I240,\"\")","v":""},{"$f":"IF('LIVRET Compétences'!H240=$O$2,'LIVRET Compétences'!E240,\"\")","v":""},{"$f":"IF('LIVRET Compétences'!H240=$O$2,'LIVRET Compétences'!G240,\"\")","v":""},{"$f":"IF('LIVRET Compétences'!H240=$O$2,'LIVRET Compétences'!C240,\"\")","v":""},{"$f":"IF('LIVRET Compétences'!H240=$S$2,'LIVRET Compétences'!I240,\"\")","v":""},{"$f":"IF('LIVRET Compétences'!H240=$S$2,'LIVRET Compétences'!E240,\"\")","v":""},{"$f":"IF('LIVRET Compétences'!H240=$S$2,'LIVRET Compétences'!G240,\"\")","v":""},{"$f":"IF('LIVRET Compétences'!H240=$S$2,'LIVRET Compétences'!C240,\"\")","v":""},{"$f":"IF('LIVRET Compétences'!H240=$W$2,'LIVRET Compétences'!I240,\"\")","v":""},{"$f":"IF('LIVRET Compétences'!H240=$W$2,'LIVRET Compétences'!E240,\"\")","v":""},{"$f":"IF('LIVRET Compétences'!H240=$W$2,'LIVRET Compétences'!G240,\"\")","v":""},{"$f":"IF('LIVRET Compétences'!H240=$W$2,'LIVRET Compétences'!C240,\"\")","v":""}]
[null,null,null,null,null,null,null,null,null,null,null,null,null,null,{"$f":"IF('LIVRET Compétences'!H241=$O$2,'LIVRET Compétences'!I241,\"\")","v":""},{"$f":"IF('LIVRET Compétences'!H241=$O$2,'LIVRET Compétences'!E241,\"\")","v":""},{"$f":"IF('LIVRET Compétences'!H241=$O$2,'LIVRET Compétences'!G241,\"\")","v":""},{"$f":"IF('LIVRET Compétences'!H241=$O$2,'LIVRET Compétences'!C241,\"\")","v":""},{"$f":"IF('LIVRET Compétences'!H241=$S$2,'LIVRET Compétences'!I241,\"\")","v":""},{"$f":"IF('LIVRET Compétences'!H241=$S$2,'LIVRET Compétences'!E241,\"\")","v":""},{"$f":"IF('LIVRET Compétences'!H241=$S$2,'LIVRET Compétences'!G241,\"\")","v":""},{"$f":"IF('LIVRET Compétences'!H241=$S$2,'LIVRET Compétences'!C241,\"\")","v":""},{"$f":"IF('LIVRET Compétences'!H241=$W$2,'LIVRET Compétences'!I241,\"\")","v":""},{"$f":"IF('LIVRET Compétences'!H241=$W$2,'LIVRET Compétences'!E241,\"\")","v":""},{"$f":"IF('LIVRET Compétences'!H241=$W$2,'LIVRET Compétences'!G241,\"\")","v":""},{"$f":"IF('LIVRET Compétences'!H241=$W$2,'LIVRET Compétences'!C241,\"\")","v":""}]
[null,null,null,null,null,null,null,null,null,null,null,null,null,null,{"$f":"IF('LIVRET Compétences'!H242=$O$2,'LIVRET Compétences'!I242,\"\")","v":""},{"$f":"IF('LIVRET Compétences'!H242=$O$2,'LIVRET Compétences'!E242,\"\")","v":""},{"$f":"IF('LIVRET Compétences'!H242=$O$2,'LIVRET Compétences'!G242,\"\")","v":""},{"$f":"IF('LIVRET Compétences'!H242=$O$2,'LIVRET Compétences'!C242,\"\")","v":""},{"$f":"IF('LIVRET Compétences'!H242=$S$2,'LIVRET Compétences'!I242,\"\")","v":""},{"$f":"IF('LIVRET Compétences'!H242=$S$2,'LIVRET Compétences'!E242,\"\")","v":""},{"$f":"IF('LIVRET Compétences'!H242=$S$2,'LIVRET Compétences'!G242,\"\")","v":""},{"$f":"IF('LIVRET Compétences'!H242=$S$2,'LIVRET Compétences'!C242,\"\")","v":""},{"$f":"IF('LIVRET Compétences'!H242=$W$2,'LIVRET Compétences'!I242,\"\")","v":""},{"$f":"IF('LIVRET Compétences'!H242=$W$2,'LIVRET Compétences'!E242,\"\")","v":""},{"$f":"IF('LIVRET Compétences'!H242=$W$2,'LIVRET Compétences'!G242,\"\")","v":""},{"$f":"IF('LIVRET Compétences'!H242=$W$2,'LIVRET Compétences'!C242,\"\")","v":""}]
[null,null,null,null,null,null,null,null,null,null,null,null,null,null,{"$f":"IF('LIVRET Compétences'!H243=$O$2,'LIVRET Compétences'!I243,\"\")","v":""},{"$f":"IF('LIVRET Compétences'!H243=$O$2,'LIVRET Compétences'!E243,\"\")","v":""},{"$f":"IF('LIVRET Compétences'!H243=$O$2,'LIVRET Compétences'!G243,\"\")","v":""},{"$f":"IF('LIVRET Compétences'!H243=$O$2,'LIVRET Compétences'!C243,\"\")","v":""},{"$f":"IF('LIVRET Compétences'!H243=$S$2,'LIVRET Compétences'!I243,\"\")","v":""},{"$f":"IF('LIVRET Compétences'!H243=$S$2,'LIVRET Compétences'!E243,\"\")","v":""},{"$f":"IF('LIVRET Compétences'!H243=$S$2,'LIVRET Compétences'!G243,\"\")","v":""},{"$f":"IF('LIVRET Compétences'!H243=$S$2,'LIVRET Compétences'!C243,\"\")","v":""},{"$f":"IF('LIVRET Compétences'!H243=$W$2,'LIVRET Compétences'!I243,\"\")","v":""},{"$f":"IF('LIVRET Compétences'!H243=$W$2,'LIVRET Compétences'!E243,\"\")","v":""},{"$f":"IF('LIVRET Compétences'!H243=$W$2,'LIVRET Compétences'!G243,\"\")","v":""},{"$f":"IF('LIVRET Compétences'!H243=$W$2,'LIVRET Compétences'!C243,\"\")","v":""}]
[null,null,null,null,null,null,null,null,null,null,null,null,null,null,{"$f":"IF('LIVRET Compétences'!H244=$O$2,'LIVRET Compétences'!I244,\"\")","v":""},{"$f":"IF('LIVRET Compétences'!H244=$O$2,'LIVRET Compétences'!E244,\"\")","v":""},{"$f":"IF('LIVRET Compétences'!H244=$O$2,'LIVRET Compétences'!G244,\"\")","v":""},{"$f":"IF('LIVRET Compétences'!H244=$O$2,'LIVRET Compétences'!C244,\"\")","v":""},{"$f":"IF('LIVRET Compétences'!H244=$S$2,'LIVRET Compétences'!I244,\"\")","v":""},{"$f":"IF('LIVRET Compétences'!H244=$S$2,'LIVRET Compétences'!E244,\"\")","v":""},{"$f":"IF('LIVRET Compétences'!H244=$S$2,'LIVRET Compétences'!G244,\"\")","v":""},{"$f":"IF('LIVRET Compétences'!H244=$S$2,'LIVRET Compétences'!C244,\"\")","v":""},{"$f":"IF('LIVRET Compétences'!H244=$W$2,'LIVRET Compétences'!I244,\"\")","v":""},{"$f":"IF('LIVRET Compétences'!H244=$W$2,'LIVRET Compétences'!E244,\"\")","v":""},{"$f":"IF('LIVRET Compétences'!H244=$W$2,'LIVRET Compétences'!G244,\"\")","v":""},{"$f":"IF('LIVRET Compétences'!H244=$W$2,'LIVRET Compétences'!C244,\"\")","v":""}]
[null,null,null,null,null,null,null,null,null,null,null,null,null,null,{"$f":"IF('LIVRET Compétences'!H245=$O$2,'LIVRET Compétences'!I245,\"\")","v":""},{"$f":"IF('LIVRET Compétences'!H245=$O$2,'LIVRET Compétences'!E245,\"\")","v":""},{"$f":"IF('LIVRET Compétences'!H245=$O$2,'LIVRET Compétences'!G245,\"\")","v":""},{"$f":"IF('LIVRET Compétences'!H245=$O$2,'LIVRET Compétences'!C245,\"\")","v":""},{"$f":"IF('LIVRET Compétences'!H245=$S$2,'LIVRET Compétences'!I245,\"\")","v":""},{"$f":"IF('LIVRET Compétences'!H245=$S$2,'LIVRET Compétences'!E245,\"\")","v":""},{"$f":"IF('LIVRET Compétences'!H245=$S$2,'LIVRET Compétences'!G245,\"\")","v":""},{"$f":"IF('LIVRET Compétences'!H245=$S$2,'LIVRET Compétences'!C245,\"\")","v":""},{"$f":"IF('LIVRET Compétences'!H245=$W$2,'LIVRET Compétences'!I245,\"\")","v":""},{"$f":"IF('LIVRET Compétences'!H245=$W$2,'LIVRET Compétences'!E245,\"\")","v":""},{"$f":"IF('LIVRET Compétences'!H245=$W$2,'LIVRET Compétences'!G245,\"\")","v":""},{"$f":"IF('LIVRET Compétences'!H245=$W$2,'LIVRET Compétences'!C245,\"\")","v":""}]
[null,null,null,null,null,null,null,null,null,null,null,null,null,null,{"$f":"IF('LIVRET Compétences'!H246=$O$2,'LIVRET Compétences'!I246,\"\")","v":""},{"$f":"IF('LIVRET Compétences'!H246=$O$2,'LIVRET Compétences'!E246,\"\")","v":""},{"$f":"IF('LIVRET Compétences'!H246=$O$2,'LIVRET Compétences'!G246,\"\")","v":""},{"$f":"IF('LIVRET Compétences'!H246=$O$2,'LIVRET Compétences'!C246,\"\")","v":""},{"$f":"IF('LIVRET Compétences'!H246=$S$2,'LIVRET Compétences'!I246,\"\")","v":""},{"$f":"IF('LIVRET Compétences'!H246=$S$2,'LIVRET Compétences'!E246,\"\")","v":""},{"$f":"IF('LIVRET Compétences'!H246=$S$2,'LIVRET Compétences'!G246,\"\")","v":""},{"$f":"IF('LIVRET Compétences'!H246=$S$2,'LIVRET Compétences'!C246,\"\")","v":""},{"$f":"IF('LIVRET Compétences'!H246=$W$2,'LIVRET Compétences'!I246,\"\")","v":""},{"$f":"IF('LIVRET Compétences'!H246=$W$2,'LIVRET Compétences'!E246,\"\")","v":""},{"$f":"IF('LIVRET Compétences'!H246=$W$2,'LIVRET Compétences'!G246,\"\")","v":""},{"$f":"IF('LIVRET Compétences'!H246=$W$2,'LIVRET Compétences'!C246,\"\")","v":""}]
[null,null,null,null,null,null,null,null,null,null,null,null,null,null,{"$f":"IF('LIVRET Compétences'!H247=$O$2,'LIVRET Compétences'!I247,\"\")","v":""},{"$f":"IF('LIVRET Compétences'!H247=$O$2,'LIVRET Compétences'!E247,\"\")","v":""},{"$f":"IF('LIVRET Compétences'!H247=$O$2,'LIVRET Compétences'!G247,\"\")","v":""},{"$f":"IF('LIVRET Compétences'!H247=$O$2,'LIVRET Compétences'!C247,\"\")","v":""},{"$f":"IF('LIVRET Compétences'!H247=$S$2,'LIVRET Compétences'!I247,\"\")","v":""},{"$f":"IF('LIVRET Compétences'!H247=$S$2,'LIVRET Compétences'!E247,\"\")","v":""},{"$f":"IF('LIVRET Compétences'!H247=$S$2,'LIVRET Compétences'!G247,\"\")","v":""},{"$f":"IF('LIVRET Compétences'!H247=$S$2,'LIVRET Compétences'!C247,\"\")","v":""},{"$f":"IF('LIVRET Compétences'!H247=$W$2,'LIVRET Compétences'!I247,\"\")","v":""},{"$f":"IF('LIVRET Compétences'!H247=$W$2,'LIVRET Compétences'!E247,\"\")","v":""},{"$f":"IF('LIVRET Compétences'!H247=$W$2,'LIVRET Compétences'!G247,\"\")","v":""},{"$f":"IF('LIVRET Compétences'!H247=$W$2,'LIVRET Compétences'!C247,\"\")","v":""}]
[null,null,null,null,null,null,null,null,null,null,null,null,null,null,{"$f":"IF('LIVRET Compétences'!H248=$O$2,'LIVRET Compétences'!I248,\"\")","v":""},{"$f":"IF('LIVRET Compétences'!H248=$O$2,'LIVRET Compétences'!E248,\"\")","v":""},{"$f":"IF('LIVRET Compétences'!H248=$O$2,'LIVRET Compétences'!G248,\"\")","v":""},{"$f":"IF('LIVRET Compétences'!H248=$O$2,'LIVRET Compétences'!C248,\"\")","v":""},{"$f":"IF('LIVRET Compétences'!H248=$S$2,'LIVRET Compétences'!I248,\"\")","v":""},{"$f":"IF('LIVRET Compétences'!H248=$S$2,'LIVRET Compétences'!E248,\"\")","v":""},{"$f":"IF('LIVRET Compétences'!H248=$S$2,'LIVRET Compétences'!G248,\"\")","v":""},{"$f":"IF('LIVRET Compétences'!H248=$S$2,'LIVRET Compétences'!C248,\"\")","v":""},{"$f":"IF('LIVRET Compétences'!H248=$W$2,'LIVRET Compétences'!I248,\"\")","v":""},{"$f":"IF('LIVRET Compétences'!H248=$W$2,'LIVRET Compétences'!E248,\"\")","v":""},{"$f":"IF('LIVRET Compétences'!H248=$W$2,'LIVRET Compétences'!G248,\"\")","v":""},{"$f":"IF('LIVRET Compétences'!H248=$W$2,'LIVRET Compétences'!C248,\"\")","v":""}]
[null,null,null,null,null,null,null,null,null,null,null,null,null,null,{"$f":"IF('LIVRET Compétences'!H249=$O$2,'LIVRET Compétences'!I249,\"\")","v":""},{"$f":"IF('LIVRET Compétences'!H249=$O$2,'LIVRET Compétences'!E249,\"\")","v":""},{"$f":"IF('LIVRET Compétences'!H249=$O$2,'LIVRET Compétences'!G249,\"\")","v":""},{"$f":"IF('LIVRET Compétences'!H249=$O$2,'LIVRET Compétences'!C249,\"\")","v":""},{"$f":"IF('LIVRET Compétences'!H249=$S$2,'LIVRET Compétences'!I249,\"\")","v":""},{"$f":"IF('LIVRET Compétences'!H249=$S$2,'LIVRET Compétences'!E249,\"\")","v":""},{"$f":"IF('LIVRET Compétences'!H249=$S$2,'LIVRET Compétences'!G249,\"\")","v":""},{"$f":"IF('LIVRET Compétences'!H249=$S$2,'LIVRET Compétences'!C249,\"\")","v":""},{"$f":"IF('LIVRET Compétences'!H249=$W$2,'LIVRET Compétences'!I249,\"\")","v":""},{"$f":"IF('LIVRET Compétences'!H249=$W$2,'LIVRET Compétences'!E249,\"\")","v":""},{"$f":"IF('LIVRET Compétences'!H249=$W$2,'LIVRET Compétences'!G249,\"\")","v":""},{"$f":"IF('LIVRET Compétences'!H249=$W$2,'LIVRET Compétences'!C249,\"\")","v":""}]
[null,null,null,null,null,null,null,null,null,null,null,null,null,null,{"$f":"IF('LIVRET Compétences'!H250=$O$2,'LIVRET Compétences'!I250,\"\")","v":""},{"$f":"IF('LIVRET Compétences'!H250=$O$2,'LIVRET Compétences'!E250,\"\")","v":""},{"$f":"IF('LIVRET Compétences'!H250=$O$2,'LIVRET Compétences'!G250,\"\")","v":""},{"$f":"IF('LIVRET Compétences'!H250=$O$2,'LIVRET Compétences'!C250,\"\")","v":""},{"$f":"IF('LIVRET Compétences'!H250=$S$2,'LIVRET Compétences'!I250,\"\")","v":""},{"$f":"IF('LIVRET Compétences'!H250=$S$2,'LIVRET Compétences'!E250,\"\")","v":""},{"$f":"IF('LIVRET Compétences'!H250=$S$2,'LIVRET Compétences'!G250,\"\")","v":""},{"$f":"IF('LIVRET Compétences'!H250=$S$2,'LIVRET Compétences'!C250,\"\")","v":""},{"$f":"IF('LIVRET Compétences'!H250=$W$2,'LIVRET Compétences'!I250,\"\")","v":""},{"$f":"IF('LIVRET Compétences'!H250=$W$2,'LIVRET Compétences'!E250,\"\")","v":""},{"$f":"IF('LIVRET Compétences'!H250=$W$2,'LIVRET Compétences'!G250,\"\")","v":""},{"$f":"IF('LIVRET Compétences'!H250=$W$2,'LIVRET Compétences'!C250,\"\")","v":""}]
[null,null,null,null,null,null,null,null,null,null,null,null,null,null,{"$f":"IF('LIVRET Compétences'!H251=$O$2,'LIVRET Compétences'!I251,\"\")","v":""},{"$f":"IF('LIVRET Compétences'!H251=$O$2,'LIVRET Compétences'!E251,\"\")","v":""},{"$f":"IF('LIVRET Compétences'!H251=$O$2,'LIVRET Compétences'!G251,\"\")","v":""},{"$f":"IF('LIVRET Compétences'!H251=$O$2,'LIVRET Compétences'!C251,\"\")","v":""},{"$f":"IF('LIVRET Compétences'!H251=$S$2,'LIVRET Compétences'!I251,\"\")","v":""},{"$f":"IF('LIVRET Compétences'!H251=$S$2,'LIVRET Compétences'!E251,\"\")","v":""},{"$f":"IF('LIVRET Compétences'!H251=$S$2,'LIVRET Compétences'!G251,\"\")","v":""},{"$f":"IF('LIVRET Compétences'!H251=$S$2,'LIVRET Compétences'!C251,\"\")","v":""},{"$f":"IF('LIVRET Compétences'!H251=$W$2,'LIVRET Compétences'!I251,\"\")","v":""},{"$f":"IF('LIVRET Compétences'!H251=$W$2,'LIVRET Compétences'!E251,\"\")","v":""},{"$f":"IF('LIVRET Compétences'!H251=$W$2,'LIVRET Compétences'!G251,\"\")","v":""},{"$f":"IF('LIVRET Compétences'!H251=$W$2,'LIVRET Compétences'!C251,\"\")","v":""}]
[null,null,null,null,null,null,null,null,null,null,null,null,null,null,{"$f":"IF('LIVRET Compétences'!H252=$O$2,'LIVRET Compétences'!I252,\"\")","v":""},{"$f":"IF('LIVRET Compétences'!H252=$O$2,'LIVRET Compétences'!E252,\"\")","v":""},{"$f":"IF('LIVRET Compétences'!H252=$O$2,'LIVRET Compétences'!G252,\"\")","v":""},{"$f":"IF('LIVRET Compétences'!H252=$O$2,'LIVRET Compétences'!C252,\"\")","v":""},{"$f":"IF('LIVRET Compétences'!H252=$S$2,'LIVRET Compétences'!I252,\"\")","v":""},{"$f":"IF('LIVRET Compétences'!H252=$S$2,'LIVRET Compétences'!E252,\"\")","v":""},{"$f":"IF('LIVRET Compétences'!H252=$S$2,'LIVRET Compétences'!G252,\"\")","v":""},{"$f":"IF('LIVRET Compétences'!H252=$S$2,'LIVRET Compétences'!C252,\"\")","v":""},{"$f":"IF('LIVRET Compétences'!H252=$W$2,'LIVRET Compétences'!I252,\"\")","v":""},{"$f":"IF('LIVRET Compétences'!H252=$W$2,'LIVRET Compétences'!E252,\"\")","v":""},{"$f":"IF('LIVRET Compétences'!H252=$W$2,'LIVRET Compétences'!G252,\"\")","v":""},{"$f":"IF('LIVRET Compétences'!H252=$W$2,'LIVRET Compétences'!C252,\"\")","v":""}]
[null,null,null,null,null,null,null,null,null,null,null,null,null,null,{"$f":"IF('LIVRET Compétences'!H253=$O$2,'LIVRET Compétences'!I253,\"\")","v":""},{"$f":"IF('LIVRET Compétences'!H253=$O$2,'LIVRET Compétences'!E253,\"\")","v":""},{"$f":"IF('LIVRET Compétences'!H253=$O$2,'LIVRET Compétences'!G253,\"\")","v":""},{"$f":"IF('LIVRET Compétences'!H253=$O$2,'LIVRET Compétences'!C253,\"\")","v":""},{"$f":"IF('LIVRET Compétences'!H253=$S$2,'LIVRET Compétences'!I253,\"\")","v":""},{"$f":"IF('LIVRET Compétences'!H253=$S$2,'LIVRET Compétences'!E253,\"\")","v":""},{"$f":"IF('LIVRET Compétences'!H253=$S$2,'LIVRET Compétences'!G253,\"\")","v":""},{"$f":"IF('LIVRET Compétences'!H253=$S$2,'LIVRET Compétences'!C253,\"\")","v":""},{"$f":"IF('LIVRET Compétences'!H253=$W$2,'LIVRET Compétences'!I253,\"\")","v":""},{"$f":"IF('LIVRET Compétences'!H253=$W$2,'LIVRET Compétences'!E253,\"\")","v":""},{"$f":"IF('LIVRET Compétences'!H253=$W$2,'LIVRET Compétences'!G253,\"\")","v":""},{"$f":"IF('LIVRET Compétences'!H253=$W$2,'LIVRET Compétences'!C253,\"\")","v":""}]
[null,null,null,null,null,null,null,null,null,null,null,null,null,null,{"$f":"IF('LIVRET Compétences'!H254=$O$2,'LIVRET Compétences'!I254,\"\")","v":""},{"$f":"IF('LIVRET Compétences'!H254=$O$2,'LIVRET Compétences'!E254,\"\")","v":""},{"$f":"IF('LIVRET Compétences'!H254=$O$2,'LIVRET Compétences'!G254,\"\")","v":""},{"$f":"IF('LIVRET Compétences'!H254=$O$2,'LIVRET Compétences'!C254,\"\")","v":""},{"$f":"IF('LIVRET Compétences'!H254=$S$2,'LIVRET Compétences'!I254,\"\")","v":""},{"$f":"IF('LIVRET Compétences'!H254=$S$2,'LIVRET Compétences'!E254,\"\")","v":""},{"$f":"IF('LIVRET Compétences'!H254=$S$2,'LIVRET Compétences'!G254,\"\")","v":""},{"$f":"IF('LIVRET Compétences'!H254=$S$2,'LIVRET Compétences'!C254,\"\")","v":""},{"$f":"IF('LIVRET Compétences'!H254=$W$2,'LIVRET Compétences'!I254,\"\")","v":""},{"$f":"IF('LIVRET Compétences'!H254=$W$2,'LIVRET Compétences'!E254,\"\")","v":""},{"$f":"IF('LIVRET Compétences'!H254=$W$2,'LIVRET Compétences'!G254,\"\")","v":""},{"$f":"IF('LIVRET Compétences'!H254=$W$2,'LIVRET Compétences'!C254,\"\")","v":""}]
[null,null,null,null,null,null,null,null,null,null,null,null,null,null,{"$f":"IF('LIVRET Compétences'!H255=$O$2,'LIVRET Compétences'!I255,\"\")","v":""},{"$f":"IF('LIVRET Compétences'!H255=$O$2,'LIVRET Compétences'!E255,\"\")","v":""},{"$f":"IF('LIVRET Compétences'!H255=$O$2,'LIVRET Compétences'!G255,\"\")","v":""},{"$f":"IF('LIVRET Compétences'!H255=$O$2,'LIVRET Compétences'!C255,\"\")","v":""},{"$f":"IF('LIVRET Compétences'!H255=$S$2,'LIVRET Compétences'!I255,\"\")","v":""},{"$f":"IF('LIVRET Compétences'!H255=$S$2,'LIVRET Compétences'!E255,\"\")","v":""},{"$f":"IF('LIVRET Compétences'!H255=$S$2,'LIVRET Compétences'!G255,\"\")","v":""},{"$f":"IF('LIVRET Compétences'!H255=$S$2,'LIVRET Compétences'!C255,\"\")","v":""},{"$f":"IF('LIVRET Compétences'!H255=$W$2,'LIVRET Compétences'!I255,\"\")","v":""},{"$f":"IF('LIVRET Compétences'!H255=$W$2,'LIVRET Compétences'!E255,\"\")","v":""},{"$f":"IF('LIVRET Compétences'!H255=$W$2,'LIVRET Compétences'!G255,\"\")","v":""},{"$f":"IF('LIVRET Compétences'!H255=$W$2,'LIVRET Compétences'!C255,\"\")","v":""}]
[null,null,null,null,null,null,null,null,null,null,null,null,null,null,{"$f":"IF('LIVRET Compétences'!H256=$O$2,'LIVRET Compétences'!I256,\"\")","v":""},{"$f":"IF('LIVRET Compétences'!H256=$O$2,'LIVRET Compétences'!E256,\"\")","v":""},{"$f":"IF('LIVRET Compétences'!H256=$O$2,'LIVRET Compétences'!G256,\"\")","v":""},{"$f":"IF('LIVRET Compétences'!H256=$O$2,'LIVRET Compétences'!C256,\"\")","v":""},{"$f":"IF('LIVRET Compétences'!H256=$S$2,'LIVRET Compétences'!I256,\"\")","v":""},{"$f":"IF('LIVRET Compétences'!H256=$S$2,'LIVRET Compétences'!E256,\"\")","v":""},{"$f":"IF('LIVRET Compétences'!H256=$S$2,'LIVRET Compétences'!G256,\"\")","v":""},{"$f":"IF('LIVRET Compétences'!H256=$S$2,'LIVRET Compétences'!C256,\"\")","v":""},{"$f":"IF('LIVRET Compétences'!H256=$W$2,'LIVRET Compétences'!I256,\"\")","v":""},{"$f":"IF('LIVRET Compétences'!H256=$W$2,'LIVRET Compétences'!E256,\"\")","v":""},{"$f":"IF('LIVRET Compétences'!H256=$W$2,'LIVRET Compétences'!G256,\"\")","v":""},{"$f":"IF('LIVRET Compétences'!H256=$W$2,'LIVRET Compétences'!C256,\"\")","v":""}]
[null,null,null,null,null,null,null,null,null,null,null,null,null,null,{"$f":"IF('LIVRET Compétences'!H257=$O$2,'LIVRET Compétences'!I257,\"\")","v":""},{"$f":"IF('LIVRET Compétences'!H257=$O$2,'LIVRET Compétences'!E257,\"\")","v":""},{"$f":"IF('LIVRET Compétences'!H257=$O$2,'LIVRET Compétences'!G257,\"\")","v":""},{"$f":"IF('LIVRET Compétences'!H257=$O$2,'LIVRET Compétences'!C257,\"\")","v":""},{"$f":"IF('LIVRET Compétences'!H257=$S$2,'LIVRET Compétences'!I257,\"\")","v":""},{"$f":"IF('LIVRET Compétences'!H257=$S$2,'LIVRET Compétences'!E257,\"\")","v":""},{"$f":"IF('LIVRET Compétences'!H257=$S$2,'LIVRET Compétences'!G257,\"\")","v":""},{"$f":"IF('LIVRET Compétences'!H257=$S$2,'LIVRET Compétences'!C257,\"\")","v":""},{"$f":"IF('LIVRET Compétences'!H257=$W$2,'LIVRET Compétences'!I257,\"\")","v":""},{"$f":"IF('LIVRET Compétences'!H257=$W$2,'LIVRET Compétences'!E257,\"\")","v":""},{"$f":"IF('LIVRET Compétences'!H257=$W$2,'LIVRET Compétences'!G257,\"\")","v":""},{"$f":"IF('LIVRET Compétences'!H257=$W$2,'LIVRET Compétences'!C257,\"\")","v":""}]
[null,null,null,null,null,null,null,null,null,null,null,null,null,null,{"$f":"IF('LIVRET Compétences'!H258=$O$2,'LIVRET Compétences'!I258,\"\")","v":""},{"$f":"IF('LIVRET Compétences'!H258=$O$2,'LIVRET Compétences'!E258,\"\")","v":""},{"$f":"IF('LIVRET Compétences'!H258=$O$2,'LIVRET Compétences'!G258,\"\")","v":""},{"$f":"IF('LIVRET Compétences'!H258=$O$2,'LIVRET Compétences'!C258,\"\")","v":""},{"$f":"IF('LIVRET Compétences'!H258=$S$2,'LIVRET Compétences'!I258,\"\")","v":""},{"$f":"IF('LIVRET Compétences'!H258=$S$2,'LIVRET Compétences'!E258,\"\")","v":""},{"$f":"IF('LIVRET Compétences'!H258=$S$2,'LIVRET Compétences'!G258,\"\")","v":""},{"$f":"IF('LIVRET Compétences'!H258=$S$2,'LIVRET Compétences'!C258,\"\")","v":""},{"$f":"IF('LIVRET Compétences'!H258=$W$2,'LIVRET Compétences'!I258,\"\")","v":""},{"$f":"IF('LIVRET Compétences'!H258=$W$2,'LIVRET Compétences'!E258,\"\")","v":""},{"$f":"IF('LIVRET Compétences'!H258=$W$2,'LIVRET Compétences'!G258,\"\")","v":""},{"$f":"IF('LIVRET Compétences'!H258=$W$2,'LIVRET Compétences'!C258,\"\")","v":""}]
[null,null,null,null,null,null,null,null,null,null,null,null,null,null,{"$f":"IF('LIVRET Compétences'!H259=$O$2,'LIVRET Compétences'!I259,\"\")","v":""},{"$f":"IF('LIVRET Compétences'!H259=$O$2,'LIVRET Compétences'!E259,\"\")","v":""},{"$f":"IF('LIVRET Compétences'!H259=$O$2,'LIVRET Compétences'!G259,\"\")","v":""},{"$f":"IF('LIVRET Compétences'!H259=$O$2,'LIVRET Compétences'!C259,\"\")","v":""},{"$f":"IF('LIVRET Compétences'!H259=$S$2,'LIVRET Compétences'!I259,\"\")","v":""},{"$f":"IF('LIVRET Compétences'!H259=$S$2,'LIVRET Compétences'!E259,\"\")","v":""},{"$f":"IF('LIVRET Compétences'!H259=$S$2,'LIVRET Compétences'!G259,\"\")","v":""},{"$f":"IF('LIVRET Compétences'!H259=$S$2,'LIVRET Compétences'!C259,\"\")","v":""},{"$f":"IF('LIVRET Compétences'!H259=$W$2,'LIVRET Compétences'!I259,\"\")","v":""},{"$f":"IF('LIVRET Compétences'!H259=$W$2,'LIVRET Compétences'!E259,\"\")","v":""},{"$f":"IF('LIVRET Compétences'!H259=$W$2,'LIVRET Compétences'!G259,\"\")","v":""},{"$f":"IF('LIVRET Compétences'!H259=$W$2,'LIVRET Compétences'!C259,\"\")","v":""}]
[null,null,null,null,null,null,null,null,null,null,null,null,null,null,{"$f":"IF('LIVRET Compétences'!H260=$O$2,'LIVRET Compétences'!I260,\"\")","v":""},{"$f":"IF('LIVRET Compétences'!H260=$O$2,'LIVRET Compétences'!E260,\"\")","v":""},{"$f":"IF('LIVRET Compétences'!H260=$O$2,'LIVRET Compétences'!G260,\"\")","v":""},{"$f":"IF('LIVRET Compétences'!H260=$O$2,'LIVRET Compétences'!C260,\"\")","v":""},{"$f":"IF('LIVRET Compétences'!H260=$S$2,'LIVRET Compétences'!I260,\"\")","v":""},{"$f":"IF('LIVRET Compétences'!H260=$S$2,'LIVRET Compétences'!E260,\"\")","v":""},{"$f":"IF('LIVRET Compétences'!H260=$S$2,'LIVRET Compétences'!G260,\"\")","v":""},{"$f":"IF('LIVRET Compétences'!H260=$S$2,'LIVRET Compétences'!C260,\"\")","v":""},{"$f":"IF('LIVRET Compétences'!H260=$W$2,'LIVRET Compétences'!I260,\"\")","v":""},{"$f":"IF('LIVRET Compétences'!H260=$W$2,'LIVRET Compétences'!E260,\"\")","v":""},{"$f":"IF('LIVRET Compétences'!H260=$W$2,'LIVRET Compétences'!G260,\"\")","v":""},{"$f":"IF('LIVRET Compétences'!H260=$W$2,'LIVRET Compétences'!C260,\"\")","v":""}]
[null,null,null,null,null,null,null,null,null,null,null,null,null,null,{"$f":"IF('LIVRET Compétences'!H261=$O$2,'LIVRET Compétences'!I261,\"\")","v":""},{"$f":"IF('LIVRET Compétences'!H261=$O$2,'LIVRET Compétences'!E261,\"\")","v":""},{"$f":"IF('LIVRET Compétences'!H261=$O$2,'LIVRET Compétences'!G261,\"\")","v":""},{"$f":"IF('LIVRET Compétences'!H261=$O$2,'LIVRET Compétences'!C261,\"\")","v":""},{"$f":"IF('LIVRET Compétences'!H261=$S$2,'LIVRET Compétences'!I261,\"\")","v":""},{"$f":"IF('LIVRET Compétences'!H261=$S$2,'LIVRET Compétences'!E261,\"\")","v":""},{"$f":"IF('LIVRET Compétences'!H261=$S$2,'LIVRET Compétences'!G261,\"\")","v":""},{"$f":"IF('LIVRET Compétences'!H261=$S$2,'LIVRET Compétences'!C261,\"\")","v":""},{"$f":"IF('LIVRET Compétences'!H261=$W$2,'LIVRET Compétences'!I261,\"\")","v":""},{"$f":"IF('LIVRET Compétences'!H261=$W$2,'LIVRET Compétences'!E261,\"\")","v":""},{"$f":"IF('LIVRET Compétences'!H261=$W$2,'LIVRET Compétences'!G261,\"\")","v":""},{"$f":"IF('LIVRET Compétences'!H261=$W$2,'LIVRET Compétences'!C261,\"\")","v":""}]
[null,null,null,null,null,null,null,null,null,null,null,null,null,null,{"$f":"IF('LIVRET Compétences'!H262=$O$2,'LIVRET Compétences'!I262,\"\")","v":""},{"$f":"IF('LIVRET Compétences'!H262=$O$2,'LIVRET Compétences'!E262,\"\")","v":""},{"$f":"IF('LIVRET Compétences'!H262=$O$2,'LIVRET Compétences'!G262,\"\")","v":""},{"$f":"IF('LIVRET Compétences'!H262=$O$2,'LIVRET Compétences'!C262,\"\")","v":""},{"$f":"IF('LIVRET Compétences'!H262=$S$2,'LIVRET Compétences'!I262,\"\")","v":""},{"$f":"IF('LIVRET Compétences'!H262=$S$2,'LIVRET Compétences'!E262,\"\")","v":""},{"$f":"IF('LIVRET Compétences'!H262=$S$2,'LIVRET Compétences'!G262,\"\")","v":""},{"$f":"IF('LIVRET Compétences'!H262=$S$2,'LIVRET Compétences'!C262,\"\")","v":""},{"$f":"IF('LIVRET Compétences'!H262=$W$2,'LIVRET Compétences'!I262,\"\")","v":""},{"$f":"IF('LIVRET Compétences'!H262=$W$2,'LIVRET Compétences'!E262,\"\")","v":""},{"$f":"IF('LIVRET Compétences'!H262=$W$2,'LIVRET Compétences'!G262,\"\")","v":""},{"$f":"IF('LIVRET Compétences'!H262=$W$2,'LIVRET Compétences'!C262,\"\")","v":""}]
[null,null,null,null,null,null,null,null,null,null,null,null,null,null,{"$f":"IF('LIVRET Compétences'!H263=$O$2,'LIVRET Compétences'!I263,\"\")","v":""},{"$f":"IF('LIVRET Compétences'!H263=$O$2,'LIVRET Compétences'!E263,\"\")","v":""},{"$f":"IF('LIVRET Compétences'!H263=$O$2,'LIVRET Compétences'!G263,\"\")","v":""},{"$f":"IF('LIVRET Compétences'!H263=$O$2,'LIVRET Compétences'!C263,\"\")","v":""},{"$f":"IF('LIVRET Compétences'!H263=$S$2,'LIVRET Compétences'!I263,\"\")","v":""},{"$f":"IF('LIVRET Compétences'!H263=$S$2,'LIVRET Compétences'!E263,\"\")","v":""},{"$f":"IF('LIVRET Compétences'!H263=$S$2,'LIVRET Compétences'!G263,\"\")","v":""},{"$f":"IF('LIVRET Compétences'!H263=$S$2,'LIVRET Compétences'!C263,\"\")","v":""},{"$f":"IF('LIVRET Compétences'!H263=$W$2,'LIVRET Compétences'!I263,\"\")","v":""},{"$f":"IF('LIVRET Compétences'!H263=$W$2,'LIVRET Compétences'!E263,\"\")","v":""},{"$f":"IF('LIVRET Compétences'!H263=$W$2,'LIVRET Compétences'!G263,\"\")","v":""},{"$f":"IF('LIVRET Compétences'!H263=$W$2,'LIVRET Compétences'!C263,\"\")","v":""}]
[null,null,null,null,null,null,null,null,null,null,null,null,null,null,{"$f":"IF('LIVRET Compétences'!H264=$O$2,'LIVRET Compétences'!I264,\"\")","v":""},{"$f":"IF('LIVRET Compétences'!H264=$O$2,'LIVRET Compétences'!E264,\"\")","v":""},{"$f":"IF('LIVRET Compétences'!H264=$O$2,'LIVRET Compétences'!G264,\"\")","v":""},{"$f":"IF('LIVRET Compétences'!H264=$O$2,'LIVRET Compétences'!C264,\"\")","v":""},{"$f":"IF('LIVRET Compétences'!H264=$S$2,'LIVRET Compétences'!I264,\"\")","v":""},{"$f":"IF('LIVRET Compétences'!H264=$S$2,'LIVRET Compétences'!E264,\"\")","v":""},{"$f":"IF('LIVRET Compétences'!H264=$S$2,'LIVRET Compétences'!G264,\"\")","v":""},{"$f":"IF('LIVRET Compétences'!H264=$S$2,'LIVRET Compétences'!C264,\"\")","v":""},{"$f":"IF('LIVRET Compétences'!H264=$W$2,'LIVRET Compétences'!I264,\"\")","v":""},{"$f":"IF('LIVRET Compétences'!H264=$W$2,'LIVRET Compétences'!E264,\"\")","v":""},{"$f":"IF('LIVRET Compétences'!H264=$W$2,'LIVRET Compétences'!G264,\"\")","v":""},{"$f":"IF('LIVRET Compétences'!H264=$W$2,'LIVRET Compétences'!C264,\"\")","v":""}]
[null,null,null,null,null,null,null,null,null,null,null,null,null,null,{"$f":"IF('LIVRET Compétences'!H265=$O$2,'LIVRET Compétences'!I265,\"\")","v":""},{"$f":"IF('LIVRET Compétences'!H265=$O$2,'LIVRET Compétences'!E265,\"\")","v":""},{"$f":"IF('LIVRET Compétences'!H265=$O$2,'LIVRET Compétences'!G265,\"\")","v":""},{"$f":"IF('LIVRET Compétences'!H265=$O$2,'LIVRET Compétences'!C265,\"\")","v":""},{"$f":"IF('LIVRET Compétences'!H265=$S$2,'LIVRET Compétences'!I265,\"\")","v":""},{"$f":"IF('LIVRET Compétences'!H265=$S$2,'LIVRET Compétences'!E265,\"\")","v":""},{"$f":"IF('LIVRET Compétences'!H265=$S$2,'LIVRET Compétences'!G265,\"\")","v":""},{"$f":"IF('LIVRET Compétences'!H265=$S$2,'LIVRET Compétences'!C265,\"\")","v":""},{"$f":"IF('LIVRET Compétences'!H265=$W$2,'LIVRET Compétences'!I265,\"\")","v":""},{"$f":"IF('LIVRET Compétences'!H265=$W$2,'LIVRET Compétences'!E265,\"\")","v":""},{"$f":"IF('LIVRET Compétences'!H265=$W$2,'LIVRET Compétences'!G265,\"\")","v":""},{"$f":"IF('LIVRET Compétences'!H265=$W$2,'LIVRET Compétences'!C265,\"\")","v":""}]
[null,null,null,null,null,null,null,null,null,null,null,null,null,null,{"$f":"IF('LIVRET Compétences'!H266=$O$2,'LIVRET Compétences'!I266,\"\")","v":""},{"$f":"IF('LIVRET Compétences'!H266=$O$2,'LIVRET Compétences'!E266,\"\")","v":""},{"$f":"IF('LIVRET Compétences'!H266=$O$2,'LIVRET Compétences'!G266,\"\")","v":""},{"$f":"IF('LIVRET Compétences'!H266=$O$2,'LIVRET Compétences'!C266,\"\")","v":""},{"$f":"IF('LIVRET Compétences'!H266=$S$2,'LIVRET Compétences'!I266,\"\")","v":""},{"$f":"IF('LIVRET Compétences'!H266=$S$2,'LIVRET Compétences'!E266,\"\")","v":""},{"$f":"IF('LIVRET Compétences'!H266=$S$2,'LIVRET Compétences'!G266,\"\")","v":""},{"$f":"IF('LIVRET Compétences'!H266=$S$2,'LIVRET Compétences'!C266,\"\")","v":""},{"$f":"IF('LIVRET Compétences'!H266=$W$2,'LIVRET Compétences'!I266,\"\")","v":""},{"$f":"IF('LIVRET Compétences'!H266=$W$2,'LIVRET Compétences'!E266,\"\")","v":""},{"$f":"IF('LIVRET Compétences'!H266=$W$2,'LIVRET Compétences'!G266,\"\")","v":""},{"$f":"IF('LIVRET Compétences'!H266=$W$2,'LIVRET Compétences'!C266,\"\")","v":""}]
[null,null,null,null,null,null,null,null,null,null,null,null,null,null,{"$f":"IF('LIVRET Compétences'!H267=$O$2,'LIVRET Compétences'!I267,\"\")","v":""},{"$f":"IF('LIVRET Compétences'!H267=$O$2,'LIVRET Compétences'!E267,\"\")","v":""},{"$f":"IF('LIVRET Compétences'!H267=$O$2,'LIVRET Compétences'!G267,\"\")","v":""},{"$f":"IF('LIVRET Compétences'!H267=$O$2,'LIVRET Compétences'!C267,\"\")","v":""},{"$f":"IF('LIVRET Compétences'!H267=$S$2,'LIVRET Compétences'!I267,\"\")","v":""},{"$f":"IF('LIVRET Compétences'!H267=$S$2,'LIVRET Compétences'!E267,\"\")","v":""},{"$f":"IF('LIVRET Compétences'!H267=$S$2,'LIVRET Compétences'!G267,\"\")","v":""},{"$f":"IF('LIVRET Compétences'!H267=$S$2,'LIVRET Compétences'!C267,\"\")","v":""},{"$f":"IF('LIVRET Compétences'!H267=$W$2,'LIVRET Compétences'!I267,\"\")","v":""},{"$f":"IF('LIVRET Compétences'!H267=$W$2,'LIVRET Compétences'!E267,\"\")","v":""},{"$f":"IF('LIVRET Compétences'!H267=$W$2,'LIVRET Compétences'!G267,\"\")","v":""},{"$f":"IF('LIVRET Compétences'!H267=$W$2,'LIVRET Compétences'!C267,\"\")","v":""}]
[null,null,null,null,null,null,null,null,null,null,null,null,null,null,{"$f":"IF('LIVRET Compétences'!H268=$O$2,'LIVRET Compétences'!I268,\"\")","v":""},{"$f":"IF('LIVRET Compétences'!H268=$O$2,'LIVRET Compétences'!E268,\"\")","v":""},{"$f":"IF('LIVRET Compétences'!H268=$O$2,'LIVRET Compétences'!G268,\"\")","v":""},{"$f":"IF('LIVRET Compétences'!H268=$O$2,'LIVRET Compétences'!C268,\"\")","v":""},{"$f":"IF('LIVRET Compétences'!H268=$S$2,'LIVRET Compétences'!I268,\"\")","v":""},{"$f":"IF('LIVRET Compétences'!H268=$S$2,'LIVRET Compétences'!E268,\"\")","v":""},{"$f":"IF('LIVRET Compétences'!H268=$S$2,'LIVRET Compétences'!G268,\"\")","v":""},{"$f":"IF('LIVRET Compétences'!H268=$S$2,'LIVRET Compétences'!C268,\"\")","v":""},{"$f":"IF('LIVRET Compétences'!H268=$W$2,'LIVRET Compétences'!I268,\"\")","v":""},{"$f":"IF('LIVRET Compétences'!H268=$W$2,'LIVRET Compétences'!E268,\"\")","v":""},{"$f":"IF('LIVRET Compétences'!H268=$W$2,'LIVRET Compétences'!G268,\"\")","v":""},{"$f":"IF('LIVRET Compétences'!H268=$W$2,'LIVRET Compétences'!C268,\"\")","v":""}]
[null,null,null,null,null,null,null,null,null,null,null,null,null,null,{"$f":"IF('LIVRET Compétences'!H269=$O$2,'LIVRET Compétences'!I269,\"\")","v":""},{"$f":"IF('LIVRET Compétences'!H269=$O$2,'LIVRET Compétences'!E269,\"\")","v":""},{"$f":"IF('LIVRET Compétences'!H269=$O$2,'LIVRET Compétences'!G269,\"\")","v":""},{"$f":"IF('LIVRET Compétences'!H269=$O$2,'LIVRET Compétences'!C269,\"\")","v":""},{"$f":"IF('LIVRET Compétences'!H269=$S$2,'LIVRET Compétences'!I269,\"\")","v":""},{"$f":"IF('LIVRET Compétences'!H269=$S$2,'LIVRET Compétences'!E269,\"\")","v":""},{"$f":"IF('LIVRET Compétences'!H269=$S$2,'LIVRET Compétences'!G269,\"\")","v":""},{"$f":"IF('LIVRET Compétences'!H269=$S$2,'LIVRET Compétences'!C269,\"\")","v":""},{"$f":"IF('LIVRET Compétences'!H269=$W$2,'LIVRET Compétences'!I269,\"\")","v":""},{"$f":"IF('LIVRET Compétences'!H269=$W$2,'LIVRET Compétences'!E269,\"\")","v":""},{"$f":"IF('LIVRET Compétences'!H269=$W$2,'LIVRET Compétences'!G269,\"\")","v":""},{"$f":"IF('LIVRET Compétences'!H269=$W$2,'LIVRET Compétences'!C269,\"\")","v":""}]
[null,null,null,null,null,null,null,null,null,null,null,null,null,null,{"$f":"IF('LIVRET Compétences'!H270=$O$2,'LIVRET Compétences'!I270,\"\")","v":""},{"$f":"IF('LIVRET Compétences'!H270=$O$2,'LIVRET Compétences'!E270,\"\")","v":""},{"$f":"IF('LIVRET Compétences'!H270=$O$2,'LIVRET Compétences'!G270,\"\")","v":""},{"$f":"IF('LIVRET Compétences'!H270=$O$2,'LIVRET Compétences'!C270,\"\")","v":""},{"$f":"IF('LIVRET Compétences'!H270=$S$2,'LIVRET Compétences'!I270,\"\")","v":""},{"$f":"IF('LIVRET Compétences'!H270=$S$2,'LIVRET Compétences'!E270,\"\")","v":""},{"$f":"IF('LIVRET Compétences'!H270=$S$2,'LIVRET Compétences'!G270,\"\")","v":""},{"$f":"IF('LIVRET Compétences'!H270=$S$2,'LIVRET Compétences'!C270,\"\")","v":""},{"$f":"IF('LIVRET Compétences'!H270=$W$2,'LIVRET Compétences'!I270,\"\")","v":""},{"$f":"IF('LIVRET Compétences'!H270=$W$2,'LIVRET Compétences'!E270,\"\")","v":""},{"$f":"IF('LIVRET Compétences'!H270=$W$2,'LIVRET Compétences'!G270,\"\")","v":""},{"$f":"IF('LIVRET Compétences'!H270=$W$2,'LIVRET Compétences'!C270,\"\")","v":""}]
[null,null,null,null,null,null,null,null,null,null,null,null,null,null,{"$f":"IF('LIVRET Compétences'!H271=$O$2,'LIVRET Compétences'!I271,\"\")","v":""},{"$f":"IF('LIVRET Compétences'!H271=$O$2,'LIVRET Compétences'!E271,\"\")","v":""},{"$f":"IF('LIVRET Compétences'!H271=$O$2,'LIVRET Compétences'!G271,\"\")","v":""},{"$f":"IF('LIVRET Compétences'!H271=$O$2,'LIVRET Compétences'!C271,\"\")","v":""},{"$f":"IF('LIVRET Compétences'!H271=$S$2,'LIVRET Compétences'!I271,\"\")","v":""},{"$f":"IF('LIVRET Compétences'!H271=$S$2,'LIVRET Compétences'!E271,\"\")","v":""},{"$f":"IF('LIVRET Compétences'!H271=$S$2,'LIVRET Compétences'!G271,\"\")","v":""},{"$f":"IF('LIVRET Compétences'!H271=$S$2,'LIVRET Compétences'!C271,\"\")","v":""},{"$f":"IF('LIVRET Compétences'!H271=$W$2,'LIVRET Compétences'!I271,\"\")","v":""},{"$f":"IF('LIVRET Compétences'!H271=$W$2,'LIVRET Compétences'!E271,\"\")","v":""},{"$f":"IF('LIVRET Compétences'!H271=$W$2,'LIVRET Compétences'!G271,\"\")","v":""},{"$f":"IF('LIVRET Compétences'!H271=$W$2,'LIVRET Compétences'!C271,\"\")","v":""}]
[null,null,null,null,null,null,null,null,null,null,null,null,null,null,{"$f":"IF('LIVRET Compétences'!H272=$O$2,'LIVRET Compétences'!I272,\"\")","v":""},{"$f":"IF('LIVRET Compétences'!H272=$O$2,'LIVRET Compétences'!E272,\"\")","v":""},{"$f":"IF('LIVRET Compétences'!H272=$O$2,'LIVRET Compétences'!G272,\"\")","v":""},{"$f":"IF('LIVRET Compétences'!H272=$O$2,'LIVRET Compétences'!C272,\"\")","v":""},{"$f":"IF('LIVRET Compétences'!H272=$S$2,'LIVRET Compétences'!I272,\"\")","v":""},{"$f":"IF('LIVRET Compétences'!H272=$S$2,'LIVRET Compétences'!E272,\"\")","v":""},{"$f":"IF('LIVRET Compétences'!H272=$S$2,'LIVRET Compétences'!G272,\"\")","v":""},{"$f":"IF('LIVRET Compétences'!H272=$S$2,'LIVRET Compétences'!C272,\"\")","v":""},{"$f":"IF('LIVRET Compétences'!H272=$W$2,'LIVRET Compétences'!I272,\"\")","v":""},{"$f":"IF('LIVRET Compétences'!H272=$W$2,'LIVRET Compétences'!E272,\"\")","v":""},{"$f":"IF('LIVRET Compétences'!H272=$W$2,'LIVRET Compétences'!G272,\"\")","v":""},{"$f":"IF('LIVRET Compétences'!H272=$W$2,'LIVRET Compétences'!C272,\"\")","v":""}]
[null,null,null,null,null,null,null,null,null,null,null,null,null,null,{"$f":"IF('LIVRET Compétences'!H273=$O$2,'LIVRET Compétences'!I273,\"\")","v":""},{"$f":"IF('LIVRET Compétences'!H273=$O$2,'LIVRET Compétences'!E273,\"\")","v":""},{"$f":"IF('LIVRET Compétences'!H273=$O$2,'LIVRET Compétences'!G273,\"\")","v":""},{"$f":"IF('LIVRET Compétences'!H273=$O$2,'LIVRET Compétences'!C273,\"\")","v":""},{"$f":"IF('LIVRET Compétences'!H273=$S$2,'LIVRET Compétences'!I273,\"\")","v":""},{"$f":"IF('LIVRET Compétences'!H273=$S$2,'LIVRET Compétences'!E273,\"\")","v":""},{"$f":"IF('LIVRET Compétences'!H273=$S$2,'LIVRET Compétences'!G273,\"\")","v":""},{"$f":"IF('LIVRET Compétences'!H273=$S$2,'LIVRET Compétences'!C273,\"\")","v":""},{"$f":"IF('LIVRET Compétences'!H273=$W$2,'LIVRET Compétences'!I273,\"\")","v":""},{"$f":"IF('LIVRET Compétences'!H273=$W$2,'LIVRET Compétences'!E273,\"\")","v":""},{"$f":"IF('LIVRET Compétences'!H273=$W$2,'LIVRET Compétences'!G273,\"\")","v":""},{"$f":"IF('LIVRET Compétences'!H273=$W$2,'LIVRET Compétences'!C273,\"\")","v":""}]
[null,null,null,null,null,null,null,null,null,null,null,null,null,null,{"$f":"IF('LIVRET Compétences'!H274=$O$2,'LIVRET Compétences'!I274,\"\")","v":""},{"$f":"IF('LIVRET Compétences'!H274=$O$2,'LIVRET Compétences'!E274,\"\")","v":""},{"$f":"IF('LIVRET Compétences'!H274=$O$2,'LIVRET Compétences'!G274,\"\")","v":""},{"$f":"IF('LIVRET Compétences'!H274=$O$2,'LIVRET Compétences'!C274,\"\")","v":""},{"$f":"IF('LIVRET Compétences'!H274=$S$2,'LIVRET Compétences'!I274,\"\")","v":""},{"$f":"IF('LIVRET Compétences'!H274=$S$2,'LIVRET Compétences'!E274,\"\")","v":""},{"$f":"IF('LIVRET Compétences'!H274=$S$2,'LIVRET Compétences'!G274,\"\")","v":""},{"$f":"IF('LIVRET Compétences'!H274=$S$2,'LIVRET Compétences'!C274,\"\")","v":""},{"$f":"IF('LIVRET Compétences'!H274=$W$2,'LIVRET Compétences'!I274,\"\")","v":""},{"$f":"IF('LIVRET Compétences'!H274=$W$2,'LIVRET Compétences'!E274,\"\")","v":""},{"$f":"IF('LIVRET Compétences'!H274=$W$2,'LIVRET Compétences'!G274,\"\")","v":""},{"$f":"IF('LIVRET Compétences'!H274=$W$2,'LIVRET Compétences'!C274,\"\")","v":""}]
[null,null,null,null,null,null,null,null,null,null,null,null,null,null,{"$f":"IF('LIVRET Compétences'!H275=$O$2,'LIVRET Compétences'!I275,\"\")","v":""},{"$f":"IF('LIVRET Compétences'!H275=$O$2,'LIVRET Compétences'!E275,\"\")","v":""},{"$f":"IF('LIVRET Compétences'!H275=$O$2,'LIVRET Compétences'!G275,\"\")","v":""},{"$f":"IF('LIVRET Compétences'!H275=$O$2,'LIVRET Compétences'!C275,\"\")","v":""},{"$f":"IF('LIVRET Compétences'!H275=$S$2,'LIVRET Compétences'!I275,\"\")","v":""},{"$f":"IF('LIVRET Compétences'!H275=$S$2,'LIVRET Compétences'!E275,\"\")","v":""},{"$f":"IF('LIVRET Compétences'!H275=$S$2,'LIVRET Compétences'!G275,\"\")","v":""},{"$f":"IF('LIVRET Compétences'!H275=$S$2,'LIVRET Compétences'!C275,\"\")","v":""},{"$f":"IF('LIVRET Compétences'!H275=$W$2,'LIVRET Compétences'!I275,\"\")","v":""},{"$f":"IF('LIVRET Compétences'!H275=$W$2,'LIVRET Compétences'!E275,\"\")","v":""},{"$f":"IF('LIVRET Compétences'!H275=$W$2,'LIVRET Compétences'!G275,\"\")","v":""},{"$f":"IF('LIVRET Compétences'!H275=$W$2,'LIVRET Compétences'!C275,\"\")","v":""}]
[null,null,null,null,null,null,null,null,null,null,null,null,null,null,{"$f":"IF('LIVRET Compétences'!H276=$O$2,'LIVRET Compétences'!I276,\"\")","v":""},{"$f":"IF('LIVRET Compétences'!H276=$O$2,'LIVRET Compétences'!E276,\"\")","v":""},{"$f":"IF('LIVRET Compétences'!H276=$O$2,'LIVRET Compétences'!G276,\"\")","v":""},{"$f":"IF('LIVRET Compétences'!H276=$O$2,'LIVRET Compétences'!C276,\"\")","v":""},{"$f":"IF('LIVRET Compétences'!H276=$S$2,'LIVRET Compétences'!I276,\"\")","v":""},{"$f":"IF('LIVRET Compétences'!H276=$S$2,'LIVRET Compétences'!E276,\"\")","v":""},{"$f":"IF('LIVRET Compétences'!H276=$S$2,'LIVRET Compétences'!G276,\"\")","v":""},{"$f":"IF('LIVRET Compétences'!H276=$S$2,'LIVRET Compétences'!C276,\"\")","v":""},{"$f":"IF('LIVRET Compétences'!H276=$W$2,'LIVRET Compétences'!I276,\"\")","v":""},{"$f":"IF('LIVRET Compétences'!H276=$W$2,'LIVRET Compétences'!E276,\"\")","v":""},{"$f":"IF('LIVRET Compétences'!H276=$W$2,'LIVRET Compétences'!G276,\"\")","v":""},{"$f":"IF('LIVRET Compétences'!H276=$W$2,'LIVRET Compétences'!C276,\"\")","v":""}]
[null,null,null,null,null,null,null,null,null,null,null,null,null,null,{"$f":"IF('LIVRET Compétences'!H277=$O$2,'LIVRET Compétences'!I277,\"\")","v":""},{"$f":"IF('LIVRET Compétences'!H277=$O$2,'LIVRET Compétences'!E277,\"\")","v":""},{"$f":"IF('LIVRET Compétences'!H277=$O$2,'LIVRET Compétences'!G277,\"\")","v":""},{"$f":"IF('LIVRET Compétences'!H277=$O$2,'LIVRET Compétences'!C277,\"\")","v":""},{"$f":"IF('LIVRET Compétences'!H277=$S$2,'LIVRET Compétences'!I277,\"\")","v":""},{"$f":"IF('LIVRET Compétences'!H277=$S$2,'LIVRET Compétences'!E277,\"\")","v":""},{"$f":"IF('LIVRET Compétences'!H277=$S$2,'LIVRET Compétences'!G277,\"\")","v":""},{"$f":"IF('LIVRET Compétences'!H277=$S$2,'LIVRET Compétences'!C277,\"\")","v":""},{"$f":"IF('LIVRET Compétences'!H277=$W$2,'LIVRET Compétences'!I277,\"\")","v":""},{"$f":"IF('LIVRET Compétences'!H277=$W$2,'LIVRET Compétences'!E277,\"\")","v":""},{"$f":"IF('LIVRET Compétences'!H277=$W$2,'LIVRET Compétences'!G277,\"\")","v":""},{"$f":"IF('LIVRET Compétences'!H277=$W$2,'LIVRET Compétences'!C277,\"\")","v":""}]
[null,null,null,null,null,null,null,null,null,null,null,null,null,null,{"$f":"IF('LIVRET Compétences'!H278=$O$2,'LIVRET Compétences'!I278,\"\")","v":""},{"$f":"IF('LIVRET Compétences'!H278=$O$2,'LIVRET Compétences'!E278,\"\")","v":""},{"$f":"IF('LIVRET Compétences'!H278=$O$2,'LIVRET Compétences'!G278,\"\")","v":""},{"$f":"IF('LIVRET Compétences'!H278=$O$2,'LIVRET Compétences'!C278,\"\")","v":""},{"$f":"IF('LIVRET Compétences'!H278=$S$2,'LIVRET Compétences'!I278,\"\")","v":""},{"$f":"IF('LIVRET Compétences'!H278=$S$2,'LIVRET Compétences'!E278,\"\")","v":""},{"$f":"IF('LIVRET Compétences'!H278=$S$2,'LIVRET Compétences'!G278,\"\")","v":""},{"$f":"IF('LIVRET Compétences'!H278=$S$2,'LIVRET Compétences'!C278,\"\")","v":""},{"$f":"IF('LIVRET Compétences'!H278=$W$2,'LIVRET Compétences'!I278,\"\")","v":""},{"$f":"IF('LIVRET Compétences'!H278=$W$2,'LIVRET Compétences'!E278,\"\")","v":""},{"$f":"IF('LIVRET Compétences'!H278=$W$2,'LIVRET Compétences'!G278,\"\")","v":""},{"$f":"IF('LIVRET Compétences'!H278=$W$2,'LIVRET Compétences'!C278,\"\")","v":""}]
[null,null,null,null,null,null,null,null,null,null,null,null,null,null,{"$f":"IF('LIVRET Compétences'!H279=$O$2,'LIVRET Compétences'!I279,\"\")","v":""},{"$f":"IF('LIVRET Compétences'!H279=$O$2,'LIVRET Compétences'!E279,\"\")","v":""},{"$f":"IF('LIVRET Compétences'!H279=$O$2,'LIVRET Compétences'!G279,\"\")","v":""},{"$f":"IF('LIVRET Compétences'!H279=$O$2,'LIVRET Compétences'!C279,\"\")","v":""},{"$f":"IF('LIVRET Compétences'!H279=$S$2,'LIVRET Compétences'!I279,\"\")","v":""},{"$f":"IF('LIVRET Compétences'!H279=$S$2,'LIVRET Compétences'!E279,\"\")","v":""},{"$f":"IF('LIVRET Compétences'!H279=$S$2,'LIVRET Compétences'!G279,\"\")","v":""},{"$f":"IF('LIVRET Compétences'!H279=$S$2,'LIVRET Compétences'!C279,\"\")","v":""},{"$f":"IF('LIVRET Compétences'!H279=$W$2,'LIVRET Compétences'!I279,\"\")","v":""},{"$f":"IF('LIVRET Compétences'!H279=$W$2,'LIVRET Compétences'!E279,\"\")","v":""},{"$f":"IF('LIVRET Compétences'!H279=$W$2,'LIVRET Compétences'!G279,\"\")","v":""},{"$f":"IF('LIVRET Compétences'!H279=$W$2,'LIVRET Compétences'!C279,\"\")","v":""}]
[null,null,null,null,null,null,null,null,null,null,null,null,null,null,{"$f":"IF('LIVRET Compétences'!H280=$O$2,'LIVRET Compétences'!I280,\"\")","v":""},{"$f":"IF('LIVRET Compétences'!H280=$O$2,'LIVRET Compétences'!E280,\"\")","v":""},{"$f":"IF('LIVRET Compétences'!H280=$O$2,'LIVRET Compétences'!G280,\"\")","v":""},{"$f":"IF('LIVRET Compétences'!H280=$O$2,'LIVRET Compétences'!C280,\"\")","v":""},{"$f":"IF('LIVRET Compétences'!H280=$S$2,'LIVRET Compétences'!I280,\"\")","v":""},{"$f":"IF('LIVRET Compétences'!H280=$S$2,'LIVRET Compétences'!E280,\"\")","v":""},{"$f":"IF('LIVRET Compétences'!H280=$S$2,'LIVRET Compétences'!G280,\"\")","v":""},{"$f":"IF('LIVRET Compétences'!H280=$S$2,'LIVRET Compétences'!C280,\"\")","v":""},{"$f":"IF('LIVRET Compétences'!H280=$W$2,'LIVRET Compétences'!I280,\"\")","v":""},{"$f":"IF('LIVRET Compétences'!H280=$W$2,'LIVRET Compétences'!E280,\"\")","v":""},{"$f":"IF('LIVRET Compétences'!H280=$W$2,'LIVRET Compétences'!G280,\"\")","v":""},{"$f":"IF('LIVRET Compétences'!H280=$W$2,'LIVRET Compétences'!C280,\"\")","v":""}]
[null,null,null,null,null,null,null,null,null,null,null,null,null,null,{"$f":"IF('LIVRET Compétences'!H281=$O$2,'LIVRET Compétences'!I281,\"\")","v":""},{"$f":"IF('LIVRET Compétences'!H281=$O$2,'LIVRET Compétences'!E281,\"\")","v":""},{"$f":"IF('LIVRET Compétences'!H281=$O$2,'LIVRET Compétences'!G281,\"\")","v":""},{"$f":"IF('LIVRET Compétences'!H281=$O$2,'LIVRET Compétences'!C281,\"\")","v":""},{"$f":"IF('LIVRET Compétences'!H281=$S$2,'LIVRET Compétences'!I281,\"\")","v":""},{"$f":"IF('LIVRET Compétences'!H281=$S$2,'LIVRET Compétences'!E281,\"\")","v":""},{"$f":"IF('LIVRET Compétences'!H281=$S$2,'LIVRET Compétences'!G281,\"\")","v":""},{"$f":"IF('LIVRET Compétences'!H281=$S$2,'LIVRET Compétences'!C281,\"\")","v":""},{"$f":"IF('LIVRET Compétences'!H281=$W$2,'LIVRET Compétences'!I281,\"\")","v":""},{"$f":"IF('LIVRET Compétences'!H281=$W$2,'LIVRET Compétences'!E281,\"\")","v":""},{"$f":"IF('LIVRET Compétences'!H281=$W$2,'LIVRET Compétences'!G281,\"\")","v":""},{"$f":"IF('LIVRET Compétences'!H281=$W$2,'LIVRET Compétences'!C281,\"\")","v":""}]
[null,null,null,null,null,null,null,null,null,null,null,null,null,null,{"$f":"IF('LIVRET Compétences'!H282=$O$2,'LIVRET Compétences'!I282,\"\")","v":""},{"$f":"IF('LIVRET Compétences'!H282=$O$2,'LIVRET Compétences'!E282,\"\")","v":""},{"$f":"IF('LIVRET Compétences'!H282=$O$2,'LIVRET Compétences'!G282,\"\")","v":""},{"$f":"IF('LIVRET Compétences'!H282=$O$2,'LIVRET Compétences'!C282,\"\")","v":""},{"$f":"IF('LIVRET Compétences'!H282=$S$2,'LIVRET Compétences'!I282,\"\")","v":""},{"$f":"IF('LIVRET Compétences'!H282=$S$2,'LIVRET Compétences'!E282,\"\")","v":""},{"$f":"IF('LIVRET Compétences'!H282=$S$2,'LIVRET Compétences'!G282,\"\")","v":""},{"$f":"IF('LIVRET Compétences'!H282=$S$2,'LIVRET Compétences'!C282,\"\")","v":""},{"$f":"IF('LIVRET Compétences'!H282=$W$2,'LIVRET Compétences'!I282,\"\")","v":""},{"$f":"IF('LIVRET Compétences'!H282=$W$2,'LIVRET Compétences'!E282,\"\")","v":""},{"$f":"IF('LIVRET Compétences'!H282=$W$2,'LIVRET Compétences'!G282,\"\")","v":""},{"$f":"IF('LIVRET Compétences'!H282=$W$2,'LIVRET Compétences'!C282,\"\")","v":""}]
[null,null,null,null,null,null,null,null,null,null,null,null,null,null,{"$f":"IF('LIVRET Compétences'!H283=$O$2,'LIVRET Compétences'!I283,\"\")","v":""},{"$f":"IF('LIVRET Compétences'!H283=$O$2,'LIVRET Compétences'!E283,\"\")","v":""},{"$f":"IF('LIVRET Compétences'!H283=$O$2,'LIVRET Compétences'!G283,\"\")","v":""},{"$f":"IF('LIVRET Compétences'!H283=$O$2,'LIVRET Compétences'!C283,\"\")","v":""},{"$f":"IF('LIVRET Compétences'!H283=$S$2,'LIVRET Compétences'!I283,\"\")","v":""},{"$f":"IF('LIVRET Compétences'!H283=$S$2,'LIVRET Compétences'!E283,\"\")","v":""},{"$f":"IF('LIVRET Compétences'!H283=$S$2,'LIVRET Compétences'!G283,\"\")","v":""},{"$f":"IF('LIVRET Compétences'!H283=$S$2,'LIVRET Compétences'!C283,\"\")","v":""},{"$f":"IF('LIVRET Compétences'!H283=$W$2,'LIVRET Compétences'!I283,\"\")","v":""},{"$f":"IF('LIVRET Compétences'!H283=$W$2,'LIVRET Compétences'!E283,\"\")","v":""},{"$f":"IF('LIVRET Compétences'!H283=$W$2,'LIVRET Compétences'!G283,\"\")","v":""},{"$f":"IF('LIVRET Compétences'!H283=$W$2,'LIVRET Compétences'!C283,\"\")","v":""}]
[null,null,null,null,null,null,null,null,null,null,null,null,null,null,{"$f":"IF('LIVRET Compétences'!H284=$O$2,'LIVRET Compétences'!I284,\"\")","v":""},{"$f":"IF('LIVRET Compétences'!H284=$O$2,'LIVRET Compétences'!E284,\"\")","v":""},{"$f":"IF('LIVRET Compétences'!H284=$O$2,'LIVRET Compétences'!G284,\"\")","v":""},{"$f":"IF('LIVRET Compétences'!H284=$O$2,'LIVRET Compétences'!C284,\"\")","v":""},{"$f":"IF('LIVRET Compétences'!H284=$S$2,'LIVRET Compétences'!I284,\"\")","v":""},{"$f":"IF('LIVRET Compétences'!H284=$S$2,'LIVRET Compétences'!E284,\"\")","v":""},{"$f":"IF('LIVRET Compétences'!H284=$S$2,'LIVRET Compétences'!G284,\"\")","v":""},{"$f":"IF('LIVRET Compétences'!H284=$S$2,'LIVRET Compétences'!C284,\"\")","v":""},{"$f":"IF('LIVRET Compétences'!H284=$W$2,'LIVRET Compétences'!I284,\"\")","v":""},{"$f":"IF('LIVRET Compétences'!H284=$W$2,'LIVRET Compétences'!E284,\"\")","v":""},{"$f":"IF('LIVRET Compétences'!H284=$W$2,'LIVRET Compétences'!G284,\"\")","v":""},{"$f":"IF('LIVRET Compétences'!H284=$W$2,'LIVRET Compétences'!C284,\"\")","v":""}]
[null,null,null,null,null,null,null,null,null,null,null,null,null,null,{"$f":"IF('LIVRET Compétences'!H285=$O$2,'LIVRET Compétences'!I285,\"\")","v":""},{"$f":"IF('LIVRET Compétences'!H285=$O$2,'LIVRET Compétences'!E285,\"\")","v":""},{"$f":"IF('LIVRET Compétences'!H285=$O$2,'LIVRET Compétences'!G285,\"\")","v":""},{"$f":"IF('LIVRET Compétences'!H285=$O$2,'LIVRET Compétences'!C285,\"\")","v":""},{"$f":"IF('LIVRET Compétences'!H285=$S$2,'LIVRET Compétences'!I285,\"\")","v":""},{"$f":"IF('LIVRET Compétences'!H285=$S$2,'LIVRET Compétences'!E285,\"\")","v":""},{"$f":"IF('LIVRET Compétences'!H285=$S$2,'LIVRET Compétences'!G285,\"\")","v":""},{"$f":"IF('LIVRET Compétences'!H285=$S$2,'LIVRET Compétences'!C285,\"\")","v":""},{"$f":"IF('LIVRET Compétences'!H285=$W$2,'LIVRET Compétences'!I285,\"\")","v":""},{"$f":"IF('LIVRET Compétences'!H285=$W$2,'LIVRET Compétences'!E285,\"\")","v":""},{"$f":"IF('LIVRET Compétences'!H285=$W$2,'LIVRET Compétences'!G285,\"\")","v":""},{"$f":"IF('LIVRET Compétences'!H285=$W$2,'LIVRET Compétences'!C285,\"\")","v":""}]
[null,null,null,null,null,null,null,null,null,null,null,null,null,null,{"$f":"IF('LIVRET Compétences'!H286=$O$2,'LIVRET Compétences'!I286,\"\")","v":""},{"$f":"IF('LIVRET Compétences'!H286=$O$2,'LIVRET Compétences'!E286,\"\")","v":""},{"$f":"IF('LIVRET Compétences'!H286=$O$2,'LIVRET Compétences'!G286,\"\")","v":""},{"$f":"IF('LIVRET Compétences'!H286=$O$2,'LIVRET Compétences'!C286,\"\")","v":""},{"$f":"IF('LIVRET Compétences'!H286=$S$2,'LIVRET Compétences'!I286,\"\")","v":""},{"$f":"IF('LIVRET Compétences'!H286=$S$2,'LIVRET Compétences'!E286,\"\")","v":""},{"$f":"IF('LIVRET Compétences'!H286=$S$2,'LIVRET Compétences'!G286,\"\")","v":""},{"$f":"IF('LIVRET Compétences'!H286=$S$2,'LIVRET Compétences'!C286,\"\")","v":""},{"$f":"IF('LIVRET Compétences'!H286=$W$2,'LIVRET Compétences'!I286,\"\")","v":""},{"$f":"IF('LIVRET Compétences'!H286=$W$2,'LIVRET Compétences'!E286,\"\")","v":""},{"$f":"IF('LIVRET Compétences'!H286=$W$2,'LIVRET Compétences'!G286,\"\")","v":""},{"$f":"IF('LIVRET Compétences'!H286=$W$2,'LIVRET Compétences'!C286,\"\")","v":""}]
[null,null,null,null,null,null,null,null,null,null,null,null,null,null,{"$f":"IF('LIVRET Compétences'!H287=$O$2,'LIVRET Compétences'!I287,\"\")","v":""},{"$f":"IF('LIVRET Compétences'!H287=$O$2,'LIVRET Compétences'!E287,\"\")","v":""},{"$f":"IF('LIVRET Compétences'!H287=$O$2,'LIVRET Compétences'!G287,\"\")","v":""},{"$f":"IF('LIVRET Compétences'!H287=$O$2,'LIVRET Compétences'!C287,\"\")","v":""},{"$f":"IF('LIVRET Compétences'!H287=$S$2,'LIVRET Compétences'!I287,\"\")","v":""},{"$f":"IF('LIVRET Compétences'!H287=$S$2,'LIVRET Compétences'!E287,\"\")","v":""},{"$f":"IF('LIVRET Compétences'!H287=$S$2,'LIVRET Compétences'!G287,\"\")","v":""},{"$f":"IF('LIVRET Compétences'!H287=$S$2,'LIVRET Compétences'!C287,\"\")","v":""},{"$f":"IF('LIVRET Compétences'!H287=$W$2,'LIVRET Compétences'!I287,\"\")","v":""},{"$f":"IF('LIVRET Compétences'!H287=$W$2,'LIVRET Compétences'!E287,\"\")","v":""},{"$f":"IF('LIVRET Compétences'!H287=$W$2,'LIVRET Compétences'!G287,\"\")","v":""},{"$f":"IF('LIVRET Compétences'!H287=$W$2,'LIVRET Compétences'!C287,\"\")","v":""}]
[null,null,null,null,null,null,null,null,null,null,null,null,null,null,{"$f":"IF('LIVRET Compétences'!H288=$O$2,'LIVRET Compétences'!I288,\"\")","v":""},{"$f":"IF('LIVRET Compétences'!H288=$O$2,'LIVRET Compétences'!E288,\"\")","v":""},{"$f":"IF('LIVRET Compétences'!H288=$O$2,'LIVRET Compétences'!G288,\"\")","v":""},{"$f":"IF('LIVRET Compétences'!H288=$O$2,'LIVRET Compétences'!C288,\"\")","v":""},{"$f":"IF('LIVRET Compétences'!H288=$S$2,'LIVRET Compétences'!I288,\"\")","v":""},{"$f":"IF('LIVRET Compétences'!H288=$S$2,'LIVRET Compétences'!E288,\"\")","v":""},{"$f":"IF('LIVRET Compétences'!H288=$S$2,'LIVRET Compétences'!G288,\"\")","v":""},{"$f":"IF('LIVRET Compétences'!H288=$S$2,'LIVRET Compétences'!C288,\"\")","v":""},{"$f":"IF('LIVRET Compétences'!H288=$W$2,'LIVRET Compétences'!I288,\"\")","v":""},{"$f":"IF('LIVRET Compétences'!H288=$W$2,'LIVRET Compétences'!E288,\"\")","v":""},{"$f":"IF('LIVRET Compétences'!H288=$W$2,'LIVRET Compétences'!G288,\"\")","v":""},{"$f":"IF('LIVRET Compétences'!H288=$W$2,'LIVRET Compétences'!C288,\"\")","v":""}]
[null,null,null,null,null,null,null,null,null,null,null,null,null,null,{"$f":"IF('LIVRET Compétences'!H289=$O$2,'LIVRET Compétences'!I289,\"\")","v":""},{"$f":"IF('LIVRET Compétences'!H289=$O$2,'LIVRET Compétences'!E289,\"\")","v":""},{"$f":"IF('LIVRET Compétences'!H289=$O$2,'LIVRET Compétences'!G289,\"\")","v":""},{"$f":"IF('LIVRET Compétences'!H289=$O$2,'LIVRET Compétences'!C289,\"\")","v":""},{"$f":"IF('LIVRET Compétences'!H289=$S$2,'LIVRET Compétences'!I289,\"\")","v":""},{"$f":"IF('LIVRET Compétences'!H289=$S$2,'LIVRET Compétences'!E289,\"\")","v":""},{"$f":"IF('LIVRET Compétences'!H289=$S$2,'LIVRET Compétences'!G289,\"\")","v":""},{"$f":"IF('LIVRET Compétences'!H289=$S$2,'LIVRET Compétences'!C289,\"\")","v":""},{"$f":"IF('LIVRET Compétences'!H289=$W$2,'LIVRET Compétences'!I289,\"\")","v":""},{"$f":"IF('LIVRET Compétences'!H289=$W$2,'LIVRET Compétences'!E289,\"\")","v":""},{"$f":"IF('LIVRET Compétences'!H289=$W$2,'LIVRET Compétences'!G289,\"\")","v":""},{"$f":"IF('LIVRET Compétences'!H289=$W$2,'LIVRET Compétences'!C289,\"\")","v":""}]
[null,null,null,null,null,null,null,null,null,null,null,null,null,null,{"$f":"IF('LIVRET Compétences'!H290=$O$2,'LIVRET Compétences'!I290,\"\")","v":""},{"$f":"IF('LIVRET Compétences'!H290=$O$2,'LIVRET Compétences'!E290,\"\")","v":""},{"$f":"IF('LIVRET Compétences'!H290=$O$2,'LIVRET Compétences'!G290,\"\")","v":""},{"$f":"IF('LIVRET Compétences'!H290=$O$2,'LIVRET Compétences'!C290,\"\")","v":""},{"$f":"IF('LIVRET Compétences'!H290=$S$2,'LIVRET Compétences'!I290,\"\")","v":""},{"$f":"IF('LIVRET Compétences'!H290=$S$2,'LIVRET Compétences'!E290,\"\")","v":""},{"$f":"IF('LIVRET Compétences'!H290=$S$2,'LIVRET Compétences'!G290,\"\")","v":""},{"$f":"IF('LIVRET Compétences'!H290=$S$2,'LIVRET Compétences'!C290,\"\")","v":""},{"$f":"IF('LIVRET Compétences'!H290=$W$2,'LIVRET Compétences'!I290,\"\")","v":""},{"$f":"IF('LIVRET Compétences'!H290=$W$2,'LIVRET Compétences'!E290,\"\")","v":""},{"$f":"IF('LIVRET Compétences'!H290=$W$2,'LIVRET Compétences'!G290,\"\")","v":""},{"$f":"IF('LIVRET Compétences'!H290=$W$2,'LIVRET Compétences'!C290,\"\")","v":""}]
[null,null,null,null,null,null,null,null,null,null,null,null,null,null,{"$f":"IF('LIVRET Compétences'!H291=$O$2,'LIVRET Compétences'!I291,\"\")","v":""},{"$f":"IF('LIVRET Compétences'!H291=$O$2,'LIVRET Compétences'!E291,\"\")","v":""},{"$f":"IF('LIVRET Compétences'!H291=$O$2,'LIVRET Compétences'!G291,\"\")","v":""},{"$f":"IF('LIVRET Compétences'!H291=$O$2,'LIVRET Compétences'!C291,\"\")","v":""},{"$f":"IF('LIVRET Compétences'!H291=$S$2,'LIVRET Compétences'!I291,\"\")","v":""},{"$f":"IF('LIVRET Compétences'!H291=$S$2,'LIVRET Compétences'!E291,\"\")","v":""},{"$f":"IF('LIVRET Compétences'!H291=$S$2,'LIVRET Compétences'!G291,\"\")","v":""},{"$f":"IF('LIVRET Compétences'!H291=$S$2,'LIVRET Compétences'!C291,\"\")","v":""},{"$f":"IF('LIVRET Compétences'!H291=$W$2,'LIVRET Compétences'!I291,\"\")","v":""},{"$f":"IF('LIVRET Compétences'!H291=$W$2,'LIVRET Compétences'!E291,\"\")","v":""},{"$f":"IF('LIVRET Compétences'!H291=$W$2,'LIVRET Compétences'!G291,\"\")","v":""},{"$f":"IF('LIVRET Compétences'!H291=$W$2,'LIVRET Compétences'!C291,\"\")","v":""}]
[null,null,null,null,null,null,null,null,null,null,null,null,null,null,{"$f":"IF('LIVRET Compétences'!H292=$O$2,'LIVRET Compétences'!I292,\"\")","v":""},{"$f":"IF('LIVRET Compétences'!H292=$O$2,'LIVRET Compétences'!E292,\"\")","v":""},{"$f":"IF('LIVRET Compétences'!H292=$O$2,'LIVRET Compétences'!G292,\"\")","v":""},{"$f":"IF('LIVRET Compétences'!H292=$O$2,'LIVRET Compétences'!C292,\"\")","v":""},{"$f":"IF('LIVRET Compétences'!H292=$S$2,'LIVRET Compétences'!I292,\"\")","v":""},{"$f":"IF('LIVRET Compétences'!H292=$S$2,'LIVRET Compétences'!E292,\"\")","v":""},{"$f":"IF('LIVRET Compétences'!H292=$S$2,'LIVRET Compétences'!G292,\"\")","v":""},{"$f":"IF('LIVRET Compétences'!H292=$S$2,'LIVRET Compétences'!C292,\"\")","v":""},{"$f":"IF('LIVRET Compétences'!H292=$W$2,'LIVRET Compétences'!I292,\"\")","v":""},{"$f":"IF('LIVRET Compétences'!H292=$W$2,'LIVRET Compétences'!E292,\"\")","v":""},{"$f":"IF('LIVRET Compétences'!H292=$W$2,'LIVRET Compétences'!G292,\"\")","v":""},{"$f":"IF('LIVRET Compétences'!H292=$W$2,'LIVRET Compétences'!C292,\"\")","v":""}]
[null,null,null,null,null,null,null,null,null,null,null,null,null,null,{"$f":"IF('LIVRET Compétences'!H293=$O$2,'LIVRET Compétences'!I293,\"\")","v":""},{"$f":"IF('LIVRET Compétences'!H293=$O$2,'LIVRET Compétences'!E293,\"\")","v":""},{"$f":"IF('LIVRET Compétences'!H293=$O$2,'LIVRET Compétences'!G293,\"\")","v":""},{"$f":"IF('LIVRET Compétences'!H293=$O$2,'LIVRET Compétences'!C293,\"\")","v":""},{"$f":"IF('LIVRET Compétences'!H293=$S$2,'LIVRET Compétences'!I293,\"\")","v":""},{"$f":"IF('LIVRET Compétences'!H293=$S$2,'LIVRET Compétences'!E293,\"\")","v":""},{"$f":"IF('LIVRET Compétences'!H293=$S$2,'LIVRET Compétences'!G293,\"\")","v":""},{"$f":"IF('LIVRET Compétences'!H293=$S$2,'LIVRET Compétences'!C293,\"\")","v":""},{"$f":"IF('LIVRET Compétences'!H293=$W$2,'LIVRET Compétences'!I293,\"\")","v":""},{"$f":"IF('LIVRET Compétences'!H293=$W$2,'LIVRET Compétences'!E293,\"\")","v":""},{"$f":"IF('LIVRET Compétences'!H293=$W$2,'LIVRET Compétences'!G293,\"\")","v":""},{"$f":"IF('LIVRET Compétences'!H293=$W$2,'LIVRET Compétences'!C293,\"\")","v":""}]
[null,null,null,null,null,null,null,null,null,null,null,null,null,null,{"$f":"IF('LIVRET Compétences'!H294=$O$2,'LIVRET Compétences'!I294,\"\")","v":""},{"$f":"IF('LIVRET Compétences'!H294=$O$2,'LIVRET Compétences'!E294,\"\")","v":""},{"$f":"IF('LIVRET Compétences'!H294=$O$2,'LIVRET Compétences'!G294,\"\")","v":""},{"$f":"IF('LIVRET Compétences'!H294=$O$2,'LIVRET Compétences'!C294,\"\")","v":""},{"$f":"IF('LIVRET Compétences'!H294=$S$2,'LIVRET Compétences'!I294,\"\")","v":""},{"$f":"IF('LIVRET Compétences'!H294=$S$2,'LIVRET Compétences'!E294,\"\")","v":""},{"$f":"IF('LIVRET Compétences'!H294=$S$2,'LIVRET Compétences'!G294,\"\")","v":""},{"$f":"IF('LIVRET Compétences'!H294=$S$2,'LIVRET Compétences'!C294,\"\")","v":""},{"$f":"IF('LIVRET Compétences'!H294=$W$2,'LIVRET Compétences'!I294,\"\")","v":""},{"$f":"IF('LIVRET Compétences'!H294=$W$2,'LIVRET Compétences'!E294,\"\")","v":""},{"$f":"IF('LIVRET Compétences'!H294=$W$2,'LIVRET Compétences'!G294,\"\")","v":""},{"$f":"IF('LIVRET Compétences'!H294=$W$2,'LIVRET Compétences'!C294,\"\")","v":""}]
[null,null,null,null,null,null,null,null,null,null,null,null,null,null,{"$f":"IF('LIVRET Compétences'!H295=$O$2,'LIVRET Compétences'!I295,\"\")","v":""},{"$f":"IF('LIVRET Compétences'!H295=$O$2,'LIVRET Compétences'!E295,\"\")","v":""},{"$f":"IF('LIVRET Compétences'!H295=$O$2,'LIVRET Compétences'!G295,\"\")","v":""},{"$f":"IF('LIVRET Compétences'!H295=$O$2,'LIVRET Compétences'!C295,\"\")","v":""},{"$f":"IF('LIVRET Compétences'!H295=$S$2,'LIVRET Compétences'!I295,\"\")","v":""},{"$f":"IF('LIVRET Compétences'!H295=$S$2,'LIVRET Compétences'!E295,\"\")","v":""},{"$f":"IF('LIVRET Compétences'!H295=$S$2,'LIVRET Compétences'!G295,\"\")","v":""},{"$f":"IF('LIVRET Compétences'!H295=$S$2,'LIVRET Compétences'!C295,\"\")","v":""},{"$f":"IF('LIVRET Compétences'!H295=$W$2,'LIVRET Compétences'!I295,\"\")","v":""},{"$f":"IF('LIVRET Compétences'!H295=$W$2,'LIVRET Compétences'!E295,\"\")","v":""},{"$f":"IF('LIVRET Compétences'!H295=$W$2,'LIVRET Compétences'!G295,\"\")","v":""},{"$f":"IF('LIVRET Compétences'!H295=$W$2,'LIVRET Compétences'!C295,\"\")","v":""}]
[null,null,null,null,null,null,null,null,null,null,null,null,null,null,{"$f":"IF('LIVRET Compétences'!H296=$O$2,'LIVRET Compétences'!I296,\"\")","v":""},{"$f":"IF('LIVRET Compétences'!H296=$O$2,'LIVRET Compétences'!E296,\"\")","v":""},{"$f":"IF('LIVRET Compétences'!H296=$O$2,'LIVRET Compétences'!G296,\"\")","v":""},{"$f":"IF('LIVRET Compétences'!H296=$O$2,'LIVRET Compétences'!C296,\"\")","v":""},{"$f":"IF('LIVRET Compétences'!H296=$S$2,'LIVRET Compétences'!I296,\"\")","v":""},{"$f":"IF('LIVRET Compétences'!H296=$S$2,'LIVRET Compétences'!E296,\"\")","v":""},{"$f":"IF('LIVRET Compétences'!H296=$S$2,'LIVRET Compétences'!G296,\"\")","v":""},{"$f":"IF('LIVRET Compétences'!H296=$S$2,'LIVRET Compétences'!C296,\"\")","v":""},{"$f":"IF('LIVRET Compétences'!H296=$W$2,'LIVRET Compétences'!I296,\"\")","v":""},{"$f":"IF('LIVRET Compétences'!H296=$W$2,'LIVRET Compétences'!E296,\"\")","v":""},{"$f":"IF('LIVRET Compétences'!H296=$W$2,'LIVRET Compétences'!G296,\"\")","v":""},{"$f":"IF('LIVRET Compétences'!H296=$W$2,'LIVRET Compétences'!C296,\"\")","v":""}]
[null,null,null,null,null,null,null,null,null,null,null,null,null,null,{"$f":"IF('LIVRET Compétences'!H297=$O$2,'LIVRET Compétences'!I297,\"\")","v":""},{"$f":"IF('LIVRET Compétences'!H297=$O$2,'LIVRET Compétences'!E297,\"\")","v":""},{"$f":"IF('LIVRET Compétences'!H297=$O$2,'LIVRET Compétences'!G297,\"\")","v":""},{"$f":"IF('LIVRET Compétences'!H297=$O$2,'LIVRET Compétences'!C297,\"\")","v":""},{"$f":"IF('LIVRET Compétences'!H297=$S$2,'LIVRET Compétences'!I297,\"\")","v":""},{"$f":"IF('LIVRET Compétences'!H297=$S$2,'LIVRET Compétences'!E297,\"\")","v":""},{"$f":"IF('LIVRET Compétences'!H297=$S$2,'LIVRET Compétences'!G297,\"\")","v":""},{"$f":"IF('LIVRET Compétences'!H297=$S$2,'LIVRET Compétences'!C297,\"\")","v":""},{"$f":"IF('LIVRET Compétences'!H297=$W$2,'LIVRET Compétences'!I297,\"\")","v":""},{"$f":"IF('LIVRET Compétences'!H297=$W$2,'LIVRET Compétences'!E297,\"\")","v":""},{"$f":"IF('LIVRET Compétences'!H297=$W$2,'LIVRET Compétences'!G297,\"\")","v":""},{"$f":"IF('LIVRET Compétences'!H297=$W$2,'LIVRET Compétences'!C297,\"\")","v":""}]
[null,null,null,null,null,null,null,null,null,null,null,null,null,null,{"$f":"IF('LIVRET Compétences'!H298=$O$2,'LIVRET Compétences'!I298,\"\")","v":""},{"$f":"IF('LIVRET Compétences'!H298=$O$2,'LIVRET Compétences'!E298,\"\")","v":""},{"$f":"IF('LIVRET Compétences'!H298=$O$2,'LIVRET Compétences'!G298,\"\")","v":""},{"$f":"IF('LIVRET Compétences'!H298=$O$2,'LIVRET Compétences'!C298,\"\")","v":""},{"$f":"IF('LIVRET Compétences'!H298=$S$2,'LIVRET Compétences'!I298,\"\")","v":""},{"$f":"IF('LIVRET Compétences'!H298=$S$2,'LIVRET Compétences'!E298,\"\")","v":""},{"$f":"IF('LIVRET Compétences'!H298=$S$2,'LIVRET Compétences'!G298,\"\")","v":""},{"$f":"IF('LIVRET Compétences'!H298=$S$2,'LIVRET Compétences'!C298,\"\")","v":""},{"$f":"IF('LIVRET Compétences'!H298=$W$2,'LIVRET Compétences'!I298,\"\")","v":""},{"$f":"IF('LIVRET Compétences'!H298=$W$2,'LIVRET Compétences'!E298,\"\")","v":""},{"$f":"IF('LIVRET Compétences'!H298=$W$2,'LIVRET Compétences'!G298,\"\")","v":""},{"$f":"IF('LIVRET Compétences'!H298=$W$2,'LIVRET Compétences'!C298,\"\")","v":""}]
[null,null,null,null,null,null,null,null,null,null,null,null,null,null,{"$f":"IF('LIVRET Compétences'!H299=$O$2,'LIVRET Compétences'!I299,\"\")","v":""},{"$f":"IF('LIVRET Compétences'!H299=$O$2,'LIVRET Compétences'!E299,\"\")","v":""},{"$f":"IF('LIVRET Compétences'!H299=$O$2,'LIVRET Compétences'!G299,\"\")","v":""},{"$f":"IF('LIVRET Compétences'!H299=$O$2,'LIVRET Compétences'!C299,\"\")","v":""},{"$f":"IF('LIVRET Compétences'!H299=$S$2,'LIVRET Compétences'!I299,\"\")","v":""},{"$f":"IF('LIVRET Compétences'!H299=$S$2,'LIVRET Compétences'!E299,\"\")","v":""},{"$f":"IF('LIVRET Compétences'!H299=$S$2,'LIVRET Compétences'!G299,\"\")","v":""},{"$f":"IF('LIVRET Compétences'!H299=$S$2,'LIVRET Compétences'!C299,\"\")","v":""},{"$f":"IF('LIVRET Compétences'!H299=$W$2,'LIVRET Compétences'!I299,\"\")","v":""},{"$f":"IF('LIVRET Compétences'!H299=$W$2,'LIVRET Compétences'!E299,\"\")","v":""},{"$f":"IF('LIVRET Compétences'!H299=$W$2,'LIVRET Compétences'!G299,\"\")","v":""},{"$f":"IF('LIVRET Compétences'!H299=$W$2,'LIVRET Compétences'!C299,\"\")","v":""}]
[null,null,null,null,null,null,null,null,null,null,null,null,null,null,{"$f":"IF('LIVRET Compétences'!H300=$O$2,'LIVRET Compétences'!I300,\"\")","v":""},{"$f":"IF('LIVRET Compétences'!H300=$O$2,'LIVRET Compétences'!E300,\"\")","v":""},{"$f":"IF('LIVRET Compétences'!H300=$O$2,'LIVRET Compétences'!G300,\"\")","v":""},{"$f":"IF('LIVRET Compétences'!H300=$O$2,'LIVRET Compétences'!C300,\"\")","v":""},{"$f":"IF('LIVRET Compétences'!H300=$S$2,'LIVRET Compétences'!I300,\"\")","v":""},{"$f":"IF('LIVRET Compétences'!H300=$S$2,'LIVRET Compétences'!E300,\"\")","v":""},{"$f":"IF('LIVRET Compétences'!H300=$S$2,'LIVRET Compétences'!G300,\"\")","v":""},{"$f":"IF('LIVRET Compétences'!H300=$S$2,'LIVRET Compétences'!C300,\"\")","v":""},{"$f":"IF('LIVRET Compétences'!H300=$W$2,'LIVRET Compétences'!I300,\"\")","v":""},{"$f":"IF('LIVRET Compétences'!H300=$W$2,'LIVRET Compétences'!E300,\"\")","v":""},{"$f":"IF('LIVRET Compétences'!H300=$W$2,'LIVRET Compétences'!G300,\"\")","v":""},{"$f":"IF('LIVRET Compétences'!H300=$W$2,'LIVRET Compétences'!C300,\"\")","v":""}]
[null,null,null,null,null,null,null,null,null,null,null,null,null,null,{"$f":"IF('LIVRET Compétences'!H301=$O$2,'LIVRET Compétences'!I301,\"\")","v":""},{"$f":"IF('LIVRET Compétences'!H301=$O$2,'LIVRET Compétences'!E301,\"\")","v":""},{"$f":"IF('LIVRET Compétences'!H301=$O$2,'LIVRET Compétences'!G301,\"\")","v":""},{"$f":"IF('LIVRET Compétences'!H301=$O$2,'LIVRET Compétences'!C301,\"\")","v":""},{"$f":"IF('LIVRET Compétences'!H301=$S$2,'LIVRET Compétences'!I301,\"\")","v":""},{"$f":"IF('LIVRET Compétences'!H301=$S$2,'LIVRET Compétences'!E301,\"\")","v":""},{"$f":"IF('LIVRET Compétences'!H301=$S$2,'LIVRET Compétences'!G301,\"\")","v":""},{"$f":"IF('LIVRET Compétences'!H301=$S$2,'LIVRET Compétences'!C301,\"\")","v":""},{"$f":"IF('LIVRET Compétences'!H301=$W$2,'LIVRET Compétences'!I301,\"\")","v":""},{"$f":"IF('LIVRET Compétences'!H301=$W$2,'LIVRET Compétences'!E301,\"\")","v":""},{"$f":"IF('LIVRET Compétences'!H301=$W$2,'LIVRET Compétences'!G301,\"\")","v":""},{"$f":"IF('LIVRET Compétences'!H301=$W$2,'LIVRET Compétences'!C301,\"\")","v":""}]
[null,null,null,null,null,null,null,null,null,null,null,null,null,null,{"$f":"IF('LIVRET Compétences'!H302=$O$2,'LIVRET Compétences'!I302,\"\")","v":""},{"$f":"IF('LIVRET Compétences'!H302=$O$2,'LIVRET Compétences'!E302,\"\")","v":""},{"$f":"IF('LIVRET Compétences'!H302=$O$2,'LIVRET Compétences'!G302,\"\")","v":""},{"$f":"IF('LIVRET Compétences'!H302=$O$2,'LIVRET Compétences'!C302,\"\")","v":""},{"$f":"IF('LIVRET Compétences'!H302=$S$2,'LIVRET Compétences'!I302,\"\")","v":""},{"$f":"IF('LIVRET Compétences'!H302=$S$2,'LIVRET Compétences'!E302,\"\")","v":""},{"$f":"IF('LIVRET Compétences'!H302=$S$2,'LIVRET Compétences'!G302,\"\")","v":""},{"$f":"IF('LIVRET Compétences'!H302=$S$2,'LIVRET Compétences'!C302,\"\")","v":""},{"$f":"IF('LIVRET Compétences'!H302=$W$2,'LIVRET Compétences'!I302,\"\")","v":""},{"$f":"IF('LIVRET Compétences'!H302=$W$2,'LIVRET Compétences'!E302,\"\")","v":""},{"$f":"IF('LIVRET Compétences'!H302=$W$2,'LIVRET Compétences'!G302,\"\")","v":""},{"$f":"IF('LIVRET Compétences'!H302=$W$2,'LIVRET Compétences'!C302,\"\")","v":""}]
[null,null,null,null,null,null,null,null,null,null,null,null,null,null,{"$f":"IF('LIVRET Compétences'!H303=$O$2,'LIVRET Compétences'!I303,\"\")","v":""},{"$f":"IF('LIVRET Compétences'!H303=$O$2,'LIVRET Compétences'!E303,\"\")","v":""},{"$f":"IF('LIVRET Compétences'!H303=$O$2,'LIVRET Compétences'!G303,\"\")","v":""},{"$f":"IF('LIVRET Compétences'!H303=$O$2,'LIVRET Compétences'!C303,\"\")","v":""},{"$f":"IF('LIVRET Compétences'!H303=$S$2,'LIVRET Compétences'!I303,\"\")","v":""},{"$f":"IF('LIVRET Compétences'!H303=$S$2,'LIVRET Compétences'!E303,\"\")","v":""},{"$f":"IF('LIVRET Compétences'!H303=$S$2,'LIVRET Compétences'!G303,\"\")","v":""},{"$f":"IF('LIVRET Compétences'!H303=$S$2,'LIVRET Compétences'!C303,\"\")","v":""},{"$f":"IF('LIVRET Compétences'!H303=$W$2,'LIVRET Compétences'!I303,\"\")","v":""},{"$f":"IF('LIVRET Compétences'!H303=$W$2,'LIVRET Compétences'!E303,\"\")","v":""},{"$f":"IF('LIVRET Compétences'!H303=$W$2,'LIVRET Compétences'!G303,\"\")","v":""},{"$f":"IF('LIVRET Compétences'!H303=$W$2,'LIVRET Compétences'!C303,\"\")","v":""}]
[null,null,null,null,null,null,null,null,null,null,null,null,null,null,{"$f":"IF('LIVRET Compétences'!H304=$O$2,'LIVRET Compétences'!I304,\"\")","v":""},{"$f":"IF('LIVRET Compétences'!H304=$O$2,'LIVRET Compétences'!E304,\"\")","v":""},{"$f":"IF('LIVRET Compétences'!H304=$O$2,'LIVRET Compétences'!G304,\"\")","v":""},{"$f":"IF('LIVRET Compétences'!H304=$O$2,'LIVRET Compétences'!C304,\"\")","v":""},{"$f":"IF('LIVRET Compétences'!H304=$S$2,'LIVRET Compétences'!I304,\"\")","v":""},{"$f":"IF('LIVRET Compétences'!H304=$S$2,'LIVRET Compétences'!E304,\"\")","v":""},{"$f":"IF('LIVRET Compétences'!H304=$S$2,'LIVRET Compétences'!G304,\"\")","v":""},{"$f":"IF('LIVRET Compétences'!H304=$S$2,'LIVRET Compétences'!C304,\"\")","v":""},{"$f":"IF('LIVRET Compétences'!H304=$W$2,'LIVRET Compétences'!I304,\"\")","v":""},{"$f":"IF('LIVRET Compétences'!H304=$W$2,'LIVRET Compétences'!E304,\"\")","v":""},{"$f":"IF('LIVRET Compétences'!H304=$W$2,'LIVRET Compétences'!G304,\"\")","v":""},{"$f":"IF('LIVRET Compétences'!H304=$W$2,'LIVRET Compétences'!C304,\"\")","v":""}]
[null,null,null,null,null,null,null,null,null,null,null,null,null,null,{"$f":"IF('LIVRET Compétences'!H305=$O$2,'LIVRET Compétences'!I305,\"\")","v":""},{"$f":"IF('LIVRET Compétences'!H305=$O$2,'LIVRET Compétences'!E305,\"\")","v":""},{"$f":"IF('LIVRET Compétences'!H305=$O$2,'LIVRET Compétences'!G305,\"\")","v":""},{"$f":"IF('LIVRET Compétences'!H305=$O$2,'LIVRET Compétences'!C305,\"\")","v":""},{"$f":"IF('LIVRET Compétences'!H305=$S$2,'LIVRET Compétences'!I305,\"\")","v":""},{"$f":"IF('LIVRET Compétences'!H305=$S$2,'LIVRET Compétences'!E305,\"\")","v":""},{"$f":"IF('LIVRET Compétences'!H305=$S$2,'LIVRET Compétences'!G305,\"\")","v":""},{"$f":"IF('LIVRET Compétences'!H305=$S$2,'LIVRET Compétences'!C305,\"\")","v":""},{"$f":"IF('LIVRET Compétences'!H305=$W$2,'LIVRET Compétences'!I305,\"\")","v":""},{"$f":"IF('LIVRET Compétences'!H305=$W$2,'LIVRET Compétences'!E305,\"\")","v":""},{"$f":"IF('LIVRET Compétences'!H305=$W$2,'LIVRET Compétences'!G305,\"\")","v":""},{"$f":"IF('LIVRET Compétences'!H305=$W$2,'LIVRET Compétences'!C305,\"\")","v":""}]
[null,null,null,null,null,null,null,null,null,null,null,null,null,null,{"$f":"IF('LIVRET Compétences'!H306=$O$2,'LIVRET Compétences'!I306,\"\")","v":""},{"$f":"IF('LIVRET Compétences'!H306=$O$2,'LIVRET Compétences'!E306,\"\")","v":""},{"$f":"IF('LIVRET Compétences'!H306=$O$2,'LIVRET Compétences'!G306,\"\")","v":""},{"$f":"IF('LIVRET Compétences'!H306=$O$2,'LIVRET Compétences'!C306,\"\")","v":""},{"$f":"IF('LIVRET Compétences'!H306=$S$2,'LIVRET Compétences'!I306,\"\")","v":""},{"$f":"IF('LIVRET Compétences'!H306=$S$2,'LIVRET Compétences'!E306,\"\")","v":""},{"$f":"IF('LIVRET Compétences'!H306=$S$2,'LIVRET Compétences'!G306,\"\")","v":""},{"$f":"IF('LIVRET Compétences'!H306=$S$2,'LIVRET Compétences'!C306,\"\")","v":""},{"$f":"IF('LIVRET Compétences'!H306=$W$2,'LIVRET Compétences'!I306,\"\")","v":""},{"$f":"IF('LIVRET Compétences'!H306=$W$2,'LIVRET Compétences'!E306,\"\")","v":""},{"$f":"IF('LIVRET Compétences'!H306=$W$2,'LIVRET Compétences'!G306,\"\")","v":""},{"$f":"IF('LIVRET Compétences'!H306=$W$2,'LIVRET Compétences'!C306,\"\")","v":""}]
[null,null,null,null,null,null,null,null,null,null,null,null,null,null,{"$f":"IF('LIVRET Compétences'!H307=$O$2,'LIVRET Compétences'!I307,\"\")","v":""},{"$f":"IF('LIVRET Compétences'!H307=$O$2,'LIVRET Compétences'!E307,\"\")","v":""},{"$f":"IF('LIVRET Compétences'!H307=$O$2,'LIVRET Compétences'!G307,\"\")","v":""},{"$f":"IF('LIVRET Compétences'!H307=$O$2,'LIVRET Compétences'!C307,\"\")","v":""},{"$f":"IF('LIVRET Compétences'!H307=$S$2,'LIVRET Compétences'!I307,\"\")","v":""},{"$f":"IF('LIVRET Compétences'!H307=$S$2,'LIVRET Compétences'!E307,\"\")","v":""},{"$f":"IF('LIVRET Compétences'!H307=$S$2,'LIVRET Compétences'!G307,\"\")","v":""},{"$f":"IF('LIVRET Compétences'!H307=$S$2,'LIVRET Compétences'!C307,\"\")","v":""},{"$f":"IF('LIVRET Compétences'!H307=$W$2,'LIVRET Compétences'!I307,\"\")","v":""},{"$f":"IF('LIVRET Compétences'!H307=$W$2,'LIVRET Compétences'!E307,\"\")","v":""},{"$f":"IF('LIVRET Compétences'!H307=$W$2,'LIVRET Compétences'!G307,\"\")","v":""},{"$f":"IF('LIVRET Compétences'!H307=$W$2,'LIVRET Compétences'!C307,\"\")","v":""}]
[null,null,null,null,null,null,null,null,null,null,null,null,null,null,{"$f":"IF('LIVRET Compétences'!H308=$O$2,'LIVRET Compétences'!I308,\"\")","v":""},{"$f":"IF('LIVRET Compétences'!H308=$O$2,'LIVRET Compétences'!E308,\"\")","v":""},{"$f":"IF('LIVRET Compétences'!H308=$O$2,'LIVRET Compétences'!G308,\"\")","v":""},{"$f":"IF('LIVRET Compétences'!H308=$O$2,'LIVRET Compétences'!C308,\"\")","v":""},{"$f":"IF('LIVRET Compétences'!H308=$S$2,'LIVRET Compétences'!I308,\"\")","v":""},{"$f":"IF('LIVRET Compétences'!H308=$S$2,'LIVRET Compétences'!E308,\"\")","v":""},{"$f":"IF('LIVRET Compétences'!H308=$S$2,'LIVRET Compétences'!G308,\"\")","v":""},{"$f":"IF('LIVRET Compétences'!H308=$S$2,'LIVRET Compétences'!C308,\"\")","v":""},{"$f":"IF('LIVRET Compétences'!H308=$W$2,'LIVRET Compétences'!I308,\"\")","v":""},{"$f":"IF('LIVRET Compétences'!H308=$W$2,'LIVRET Compétences'!E308,\"\")","v":""},{"$f":"IF('LIVRET Compétences'!H308=$W$2,'LIVRET Compétences'!G308,\"\")","v":""},{"$f":"IF('LIVRET Compétences'!H308=$W$2,'LIVRET Compétences'!C308,\"\")","v":""}]
[null,null,null,null,null,null,null,null,null,null,null,null,null,null,{"$f":"IF('LIVRET Compétences'!H309=$O$2,'LIVRET Compétences'!I309,\"\")","v":""},{"$f":"IF('LIVRET Compétences'!H309=$O$2,'LIVRET Compétences'!E309,\"\")","v":""},{"$f":"IF('LIVRET Compétences'!H309=$O$2,'LIVRET Compétences'!G309,\"\")","v":""},{"$f":"IF('LIVRET Compétences'!H309=$O$2,'LIVRET Compétences'!C309,\"\")","v":""},{"$f":"IF('LIVRET Compétences'!H309=$S$2,'LIVRET Compétences'!I309,\"\")","v":""},{"$f":"IF('LIVRET Compétences'!H309=$S$2,'LIVRET Compétences'!E309,\"\")","v":""},{"$f":"IF('LIVRET Compétences'!H309=$S$2,'LIVRET Compétences'!G309,\"\")","v":""},{"$f":"IF('LIVRET Compétences'!H309=$S$2,'LIVRET Compétences'!C309,\"\")","v":""},{"$f":"IF('LIVRET Compétences'!H309=$W$2,'LIVRET Compétences'!I309,\"\")","v":""},{"$f":"IF('LIVRET Compétences'!H309=$W$2,'LIVRET Compétences'!E309,\"\")","v":""},{"$f":"IF('LIVRET Compétences'!H309=$W$2,'LIVRET Compétences'!G309,\"\")","v":""},{"$f":"IF('LIVRET Compétences'!H309=$W$2,'LIVRET Compétences'!C309,\"\")","v":""}]
[null,null,null,null,null,null,null,null,null,null,null,null,null,null,{"$f":"IF('LIVRET Compétences'!H310=$O$2,'LIVRET Compétences'!I310,\"\")","v":""},{"$f":"IF('LIVRET Compétences'!H310=$O$2,'LIVRET Compétences'!E310,\"\")","v":""},{"$f":"IF('LIVRET Compétences'!H310=$O$2,'LIVRET Compétences'!G310,\"\")","v":""},{"$f":"IF('LIVRET Compétences'!H310=$O$2,'LIVRET Compétences'!C310,\"\")","v":""},{"$f":"IF('LIVRET Compétences'!H310=$S$2,'LIVRET Compétences'!I310,\"\")","v":""},{"$f":"IF('LIVRET Compétences'!H310=$S$2,'LIVRET Compétences'!E310,\"\")","v":""},{"$f":"IF('LIVRET Compétences'!H310=$S$2,'LIVRET Compétences'!G310,\"\")","v":""},{"$f":"IF('LIVRET Compétences'!H310=$S$2,'LIVRET Compétences'!C310,\"\")","v":""},{"$f":"IF('LIVRET Compétences'!H310=$W$2,'LIVRET Compétences'!I310,\"\")","v":""},{"$f":"IF('LIVRET Compétences'!H310=$W$2,'LIVRET Compétences'!E310,\"\")","v":""},{"$f":"IF('LIVRET Compétences'!H310=$W$2,'LIVRET Compétences'!G310,\"\")","v":""},{"$f":"IF('LIVRET Compétences'!H310=$W$2,'LIVRET Compétences'!C310,\"\")","v":""}]
[null,null,null,null,null,null,null,null,null,null,null,null,null,null,{"$f":"IF('LIVRET Compétences'!H311=$O$2,'LIVRET Compétences'!I311,\"\")","v":""},{"$f":"IF('LIVRET Compétences'!H311=$O$2,'LIVRET Compétences'!E311,\"\")","v":""},{"$f":"IF('LIVRET Compétences'!H311=$O$2,'LIVRET Compétences'!G311,\"\")","v":""},{"$f":"IF('LIVRET Compétences'!H311=$O$2,'LIVRET Compétences'!C311,\"\")","v":""},{"$f":"IF('LIVRET Compétences'!H311=$S$2,'LIVRET Compétences'!I311,\"\")","v":""},{"$f":"IF('LIVRET Compétences'!H311=$S$2,'LIVRET Compétences'!E311,\"\")","v":""},{"$f":"IF('LIVRET Compétences'!H311=$S$2,'LIVRET Compétences'!G311,\"\")","v":""},{"$f":"IF('LIVRET Compétences'!H311=$S$2,'LIVRET Compétences'!C311,\"\")","v":""},{"$f":"IF('LIVRET Compétences'!H311=$W$2,'LIVRET Compétences'!I311,\"\")","v":""},{"$f":"IF('LIVRET Compétences'!H311=$W$2,'LIVRET Compétences'!E311,\"\")","v":""},{"$f":"IF('LIVRET Compétences'!H311=$W$2,'LIVRET Compétences'!G311,\"\")","v":""},{"$f":"IF('LIVRET Compétences'!H311=$W$2,'LIVRET Compétences'!C311,\"\")","v":""}]
[null,null,null,null,null,null,null,null,null,null,null,null,null,null,{"$f":"IF('LIVRET Compétences'!H312=$O$2,'LIVRET Compétences'!I312,\"\")","v":""},{"$f":"IF('LIVRET Compétences'!H312=$O$2,'LIVRET Compétences'!E312,\"\")","v":""},{"$f":"IF('LIVRET Compétences'!H312=$O$2,'LIVRET Compétences'!G312,\"\")","v":""},{"$f":"IF('LIVRET Compétences'!H312=$O$2,'LIVRET Compétences'!C312,\"\")","v":""},{"$f":"IF('LIVRET Compétences'!H312=$S$2,'LIVRET Compétences'!I312,\"\")","v":""},{"$f":"IF('LIVRET Compétences'!H312=$S$2,'LIVRET Compétences'!E312,\"\")","v":""},{"$f":"IF('LIVRET Compétences'!H312=$S$2,'LIVRET Compétences'!G312,\"\")","v":""},{"$f":"IF('LIVRET Compétences'!H312=$S$2,'LIVRET Compétences'!C312,\"\")","v":""},{"$f":"IF('LIVRET Compétences'!H312=$W$2,'LIVRET Compétences'!I312,\"\")","v":""},{"$f":"IF('LIVRET Compétences'!H312=$W$2,'LIVRET Compétences'!E312,\"\")","v":""},{"$f":"IF('LIVRET Compétences'!H312=$W$2,'LIVRET Compétences'!G312,\"\")","v":""},{"$f":"IF('LIVRET Compétences'!H312=$W$2,'LIVRET Compétences'!C312,\"\")","v":""}]
[null,null,null,null,null,null,null,null,null,null,null,null,null,null,{"$f":"IF('LIVRET Compétences'!H313=$O$2,'LIVRET Compétences'!I313,\"\")","v":""},{"$f":"IF('LIVRET Compétences'!H313=$O$2,'LIVRET Compétences'!E313,\"\")","v":""},{"$f":"IF('LIVRET Compétences'!H313=$O$2,'LIVRET Compétences'!G313,\"\")","v":""},{"$f":"IF('LIVRET Compétences'!H313=$O$2,'LIVRET Compétences'!C313,\"\")","v":""},{"$f":"IF('LIVRET Compétences'!H313=$S$2,'LIVRET Compétences'!I313,\"\")","v":""},{"$f":"IF('LIVRET Compétences'!H313=$S$2,'LIVRET Compétences'!E313,\"\")","v":""},{"$f":"IF('LIVRET Compétences'!H313=$S$2,'LIVRET Compétences'!G313,\"\")","v":""},{"$f":"IF('LIVRET Compétences'!H313=$S$2,'LIVRET Compétences'!C313,\"\")","v":""},{"$f":"IF('LIVRET Compétences'!H313=$W$2,'LIVRET Compétences'!I313,\"\")","v":""},{"$f":"IF('LIVRET Compétences'!H313=$W$2,'LIVRET Compétences'!E313,\"\")","v":""},{"$f":"IF('LIVRET Compétences'!H313=$W$2,'LIVRET Compétences'!G313,\"\")","v":""},{"$f":"IF('LIVRET Compétences'!H313=$W$2,'LIVRET Compétences'!C313,\"\")","v":""}]
[null,null,null,null,null,null,null,null,null,null,null,null,null,null,{"$f":"IF('LIVRET Compétences'!H314=$O$2,'LIVRET Compétences'!I314,\"\")","v":""},{"$f":"IF('LIVRET Compétences'!H314=$O$2,'LIVRET Compétences'!E314,\"\")","v":""},{"$f":"IF('LIVRET Compétences'!H314=$O$2,'LIVRET Compétences'!G314,\"\")","v":""},{"$f":"IF('LIVRET Compétences'!H314=$O$2,'LIVRET Compétences'!C314,\"\")","v":""},{"$f":"IF('LIVRET Compétences'!H314=$S$2,'LIVRET Compétences'!I314,\"\")","v":""},{"$f":"IF('LIVRET Compétences'!H314=$S$2,'LIVRET Compétences'!E314,\"\")","v":""},{"$f":"IF('LIVRET Compétences'!H314=$S$2,'LIVRET Compétences'!G314,\"\")","v":""},{"$f":"IF('LIVRET Compétences'!H314=$S$2,'LIVRET Compétences'!C314,\"\")","v":""},{"$f":"IF('LIVRET Compétences'!H314=$W$2,'LIVRET Compétences'!I314,\"\")","v":""},{"$f":"IF('LIVRET Compétences'!H314=$W$2,'LIVRET Compétences'!E314,\"\")","v":""},{"$f":"IF('LIVRET Compétences'!H314=$W$2,'LIVRET Compétences'!G314,\"\")","v":""},{"$f":"IF('LIVRET Compétences'!H314=$W$2,'LIVRET Compétences'!C314,\"\")","v":""}]
[null,null,null,null,null,null,null,null,null,null,null,null,null,null,{"$f":"IF('LIVRET Compétences'!H315=$O$2,'LIVRET Compétences'!I315,\"\")","v":""},{"$f":"IF('LIVRET Compétences'!H315=$O$2,'LIVRET Compétences'!E315,\"\")","v":""},{"$f":"IF('LIVRET Compétences'!H315=$O$2,'LIVRET Compétences'!G315,\"\")","v":""},{"$f":"IF('LIVRET Compétences'!H315=$O$2,'LIVRET Compétences'!C315,\"\")","v":""},{"$f":"IF('LIVRET Compétences'!H315=$S$2,'LIVRET Compétences'!I315,\"\")","v":""},{"$f":"IF('LIVRET Compétences'!H315=$S$2,'LIVRET Compétences'!E315,\"\")","v":""},{"$f":"IF('LIVRET Compétences'!H315=$S$2,'LIVRET Compétences'!G315,\"\")","v":""},{"$f":"IF('LIVRET Compétences'!H315=$S$2,'LIVRET Compétences'!C315,\"\")","v":""},{"$f":"IF('LIVRET Compétences'!H315=$W$2,'LIVRET Compétences'!I315,\"\")","v":""},{"$f":"IF('LIVRET Compétences'!H315=$W$2,'LIVRET Compétences'!E315,\"\")","v":""},{"$f":"IF('LIVRET Compétences'!H315=$W$2,'LIVRET Compétences'!G315,\"\")","v":""},{"$f":"IF('LIVRET Compétences'!H315=$W$2,'LIVRET Compétences'!C315,\"\")","v":""}]
[null,null,null,null,null,null,null,null,null,null,null,null,null,null,{"$f":"IF('LIVRET Compétences'!H316=$O$2,'LIVRET Compétences'!I316,\"\")","v":""},{"$f":"IF('LIVRET Compétences'!H316=$O$2,'LIVRET Compétences'!E316,\"\")","v":""},{"$f":"IF('LIVRET Compétences'!H316=$O$2,'LIVRET Compétences'!G316,\"\")","v":""},{"$f":"IF('LIVRET Compétences'!H316=$O$2,'LIVRET Compétences'!C316,\"\")","v":""},{"$f":"IF('LIVRET Compétences'!H316=$S$2,'LIVRET Compétences'!I316,\"\")","v":""},{"$f":"IF('LIVRET Compétences'!H316=$S$2,'LIVRET Compétences'!E316,\"\")","v":""},{"$f":"IF('LIVRET Compétences'!H316=$S$2,'LIVRET Compétences'!G316,\"\")","v":""},{"$f":"IF('LIVRET Compétences'!H316=$S$2,'LIVRET Compétences'!C316,\"\")","v":""},{"$f":"IF('LIVRET Compétences'!H316=$W$2,'LIVRET Compétences'!I316,\"\")","v":""},{"$f":"IF('LIVRET Compétences'!H316=$W$2,'LIVRET Compétences'!E316,\"\")","v":""},{"$f":"IF('LIVRET Compétences'!H316=$W$2,'LIVRET Compétences'!G316,\"\")","v":""},{"$f":"IF('LIVRET Compétences'!H316=$W$2,'LIVRET Compétences'!C316,\"\")","v":""}]
[null,null,null,null,null,null,null,null,null,null,null,null,null,null,{"$f":"IF('LIVRET Compétences'!H317=$O$2,'LIVRET Compétences'!I317,\"\")","v":""},{"$f":"IF('LIVRET Compétences'!H317=$O$2,'LIVRET Compétences'!E317,\"\")","v":""},{"$f":"IF('LIVRET Compétences'!H317=$O$2,'LIVRET Compétences'!G317,\"\")","v":""},{"$f":"IF('LIVRET Compétences'!H317=$O$2,'LIVRET Compétences'!C317,\"\")","v":""},{"$f":"IF('LIVRET Compétences'!H317=$S$2,'LIVRET Compétences'!I317,\"\")","v":""},{"$f":"IF('LIVRET Compétences'!H317=$S$2,'LIVRET Compétences'!E317,\"\")","v":""},{"$f":"IF('LIVRET Compétences'!H317=$S$2,'LIVRET Compétences'!G317,\"\")","v":""},{"$f":"IF('LIVRET Compétences'!H317=$S$2,'LIVRET Compétences'!C317,\"\")","v":""},{"$f":"IF('LIVRET Compétences'!H317=$W$2,'LIVRET Compétences'!I317,\"\")","v":""},{"$f":"IF('LIVRET Compétences'!H317=$W$2,'LIVRET Compétences'!E317,\"\")","v":""},{"$f":"IF('LIVRET Compétences'!H317=$W$2,'LIVRET Compétences'!G317,\"\")","v":""},{"$f":"IF('LIVRET Compétences'!H317=$W$2,'LIVRET Compétences'!C317,\"\")","v":""}]
[null,null,null,null,null,null,null,null,null,null,null,null,null,null,{"$f":"IF('LIVRET Compétences'!H318=$O$2,'LIVRET Compétences'!I318,\"\")","v":""},{"$f":"IF('LIVRET Compétences'!H318=$O$2,'LIVRET Compétences'!E318,\"\")","v":""},{"$f":"IF('LIVRET Compétences'!H318=$O$2,'LIVRET Compétences'!G318,\"\")","v":""},{"$f":"IF('LIVRET Compétences'!H318=$O$2,'LIVRET Compétences'!C318,\"\")","v":""},{"$f":"IF('LIVRET Compétences'!H318=$S$2,'LIVRET Compétences'!I318,\"\")","v":""},{"$f":"IF('LIVRET Compétences'!H318=$S$2,'LIVRET Compétences'!E318,\"\")","v":""},{"$f":"IF('LIVRET Compétences'!H318=$S$2,'LIVRET Compétences'!G318,\"\")","v":""},{"$f":"IF('LIVRET Compétences'!H318=$S$2,'LIVRET Compétences'!C318,\"\")","v":""},{"$f":"IF('LIVRET Compétences'!H318=$W$2,'LIVRET Compétences'!I318,\"\")","v":""},{"$f":"IF('LIVRET Compétences'!H318=$W$2,'LIVRET Compétences'!E318,\"\")","v":""},{"$f":"IF('LIVRET Compétences'!H318=$W$2,'LIVRET Compétences'!G318,\"\")","v":""},{"$f":"IF('LIVRET Compétences'!H318=$W$2,'LIVRET Compétences'!C318,\"\")","v":""}]
[null,null,null,null,null,null,null,null,null,null,null,null,null,null,{"$f":"IF('LIVRET Compétences'!H319=$O$2,'LIVRET Compétences'!I319,\"\")","v":""},{"$f":"IF('LIVRET Compétences'!H319=$O$2,'LIVRET Compétences'!E319,\"\")","v":""},{"$f":"IF('LIVRET Compétences'!H319=$O$2,'LIVRET Compétences'!G319,\"\")","v":""},{"$f":"IF('LIVRET Compétences'!H319=$O$2,'LIVRET Compétences'!C319,\"\")","v":""},{"$f":"IF('LIVRET Compétences'!H319=$S$2,'LIVRET Compétences'!I319,\"\")","v":""},{"$f":"IF('LIVRET Compétences'!H319=$S$2,'LIVRET Compétences'!E319,\"\")","v":""},{"$f":"IF('LIVRET Compétences'!H319=$S$2,'LIVRET Compétences'!G319,\"\")","v":""},{"$f":"IF('LIVRET Compétences'!H319=$S$2,'LIVRET Compétences'!C319,\"\")","v":""},{"$f":"IF('LIVRET Compétences'!H319=$W$2,'LIVRET Compétences'!I319,\"\")","v":""},{"$f":"IF('LIVRET Compétences'!H319=$W$2,'LIVRET Compétences'!E319,\"\")","v":""},{"$f":"IF('LIVRET Compétences'!H319=$W$2,'LIVRET Compétences'!G319,\"\")","v":""},{"$f":"IF('LIVRET Compétences'!H319=$W$2,'LIVRET Compétences'!C319,\"\")","v":""}]
[null,null,null,null,null,null,null,null,null,null,null,null,null,null,{"$f":"IF('LIVRET Compétences'!H320=$O$2,'LIVRET Compétences'!I320,\"\")","v":""},{"$f":"IF('LIVRET Compétences'!H320=$O$2,'LIVRET Compétences'!E320,\"\")","v":""},{"$f":"IF('LIVRET Compétences'!H320=$O$2,'LIVRET Compétences'!G320,\"\")","v":""},{"$f":"IF('LIVRET Compétences'!H320=$O$2,'LIVRET Compétences'!C320,\"\")","v":""},{"$f":"IF('LIVRET Compétences'!H320=$S$2,'LIVRET Compétences'!I320,\"\")","v":""},{"$f":"IF('LIVRET Compétences'!H320=$S$2,'LIVRET Compétences'!E320,\"\")","v":""},{"$f":"IF('LIVRET Compétences'!H320=$S$2,'LIVRET Compétences'!G320,\"\")","v":""},{"$f":"IF('LIVRET Compétences'!H320=$S$2,'LIVRET Compétences'!C320,\"\")","v":""},{"$f":"IF('LIVRET Compétences'!H320=$W$2,'LIVRET Compétences'!I320,\"\")","v":""},{"$f":"IF('LIVRET Compétences'!H320=$W$2,'LIVRET Compétences'!E320,\"\")","v":""},{"$f":"IF('LIVRET Compétences'!H320=$W$2,'LIVRET Compétences'!G320,\"\")","v":""},{"$f":"IF('LIVRET Compétences'!H320=$W$2,'LIVRET Compétences'!C320,\"\")","v":""}]
[null,null,null,null,null,null,null,null,null,null,null,null,null,null,{"$f":"IF('LIVRET Compétences'!H321=$O$2,'LIVRET Compétences'!I321,\"\")","v":""},{"$f":"IF('LIVRET Compétences'!H321=$O$2,'LIVRET Compétences'!E321,\"\")","v":""},{"$f":"IF('LIVRET Compétences'!H321=$O$2,'LIVRET Compétences'!G321,\"\")","v":""},{"$f":"IF('LIVRET Compétences'!H321=$O$2,'LIVRET Compétences'!C321,\"\")","v":""},{"$f":"IF('LIVRET Compétences'!H321=$S$2,'LIVRET Compétences'!I321,\"\")","v":""},{"$f":"IF('LIVRET Compétences'!H321=$S$2,'LIVRET Compétences'!E321,\"\")","v":""},{"$f":"IF('LIVRET Compétences'!H321=$S$2,'LIVRET Compétences'!G321,\"\")","v":""},{"$f":"IF('LIVRET Compétences'!H321=$S$2,'LIVRET Compétences'!C321,\"\")","v":""},{"$f":"IF('LIVRET Compétences'!H321=$W$2,'LIVRET Compétences'!I321,\"\")","v":""},{"$f":"IF('LIVRET Compétences'!H321=$W$2,'LIVRET Compétences'!E321,\"\")","v":""},{"$f":"IF('LIVRET Compétences'!H321=$W$2,'LIVRET Compétences'!G321,\"\")","v":""},{"$f":"IF('LIVRET Compétences'!H321=$W$2,'LIVRET Compétences'!C321,\"\")","v":""}]
[null,null,null,null,null,null,null,null,null,null,null,null,null,null,{"$f":"IF('LIVRET Compétences'!H322=$O$2,'LIVRET Compétences'!I322,\"\")","v":""},{"$f":"IF('LIVRET Compétences'!H322=$O$2,'LIVRET Compétences'!E322,\"\")","v":""},{"$f":"IF('LIVRET Compétences'!H322=$O$2,'LIVRET Compétences'!G322,\"\")","v":""},{"$f":"IF('LIVRET Compétences'!H322=$O$2,'LIVRET Compétences'!C322,\"\")","v":""},{"$f":"IF('LIVRET Compétences'!H322=$S$2,'LIVRET Compétences'!I322,\"\")","v":""},{"$f":"IF('LIVRET Compétences'!H322=$S$2,'LIVRET Compétences'!E322,\"\")","v":""},{"$f":"IF('LIVRET Compétences'!H322=$S$2,'LIVRET Compétences'!G322,\"\")","v":""},{"$f":"IF('LIVRET Compétences'!H322=$S$2,'LIVRET Compétences'!C322,\"\")","v":""},{"$f":"IF('LIVRET Compétences'!H322=$W$2,'LIVRET Compétences'!I322,\"\")","v":""},{"$f":"IF('LIVRET Compétences'!H322=$W$2,'LIVRET Compétences'!E322,\"\")","v":""},{"$f":"IF('LIVRET Compétences'!H322=$W$2,'LIVRET Compétences'!G322,\"\")","v":""},{"$f":"IF('LIVRET Compétences'!H322=$W$2,'LIVRET Compétences'!C322,\"\")","v":""}]
[null,null,null,null,null,null,null,null,null,null,null,null,null,null,{"$f":"IF('LIVRET Compétences'!H323=$O$2,'LIVRET Compétences'!I323,\"\")","v":""},{"$f":"IF('LIVRET Compétences'!H323=$O$2,'LIVRET Compétences'!E323,\"\")","v":""},{"$f":"IF('LIVRET Compétences'!H323=$O$2,'LIVRET Compétences'!G323,\"\")","v":""},{"$f":"IF('LIVRET Compétences'!H323=$O$2,'LIVRET Compétences'!C323,\"\")","v":""},{"$f":"IF('LIVRET Compétences'!H323=$S$2,'LIVRET Compétences'!I323,\"\")","v":""},{"$f":"IF('LIVRET Compétences'!H323=$S$2,'LIVRET Compétences'!E323,\"\")","v":""},{"$f":"IF('LIVRET Compétences'!H323=$S$2,'LIVRET Compétences'!G323,\"\")","v":""},{"$f":"IF('LIVRET Compétences'!H323=$S$2,'LIVRET Compétences'!C323,\"\")","v":""},{"$f":"IF('LIVRET Compétences'!H323=$W$2,'LIVRET Compétences'!I323,\"\")","v":""},{"$f":"IF('LIVRET Compétences'!H323=$W$2,'LIVRET Compétences'!E323,\"\")","v":""},{"$f":"IF('LIVRET Compétences'!H323=$W$2,'LIVRET Compétences'!G323,\"\")","v":""},{"$f":"IF('LIVRET Compétences'!H323=$W$2,'LIVRET Compétences'!C323,\"\")","v":""}]
[null,null,null,null,null,null,null,null,null,null,null,null,null,null,{"$f":"IF('LIVRET Compétences'!H324=$O$2,'LIVRET Compétences'!I324,\"\")","v":""},{"$f":"IF('LIVRET Compétences'!H324=$O$2,'LIVRET Compétences'!E324,\"\")","v":""},{"$f":"IF('LIVRET Compétences'!H324=$O$2,'LIVRET Compétences'!G324,\"\")","v":""},{"$f":"IF('LIVRET Compétences'!H324=$O$2,'LIVRET Compétences'!C324,\"\")","v":""},{"$f":"IF('LIVRET Compétences'!H324=$S$2,'LIVRET Compétences'!I324,\"\")","v":""},{"$f":"IF('LIVRET Compétences'!H324=$S$2,'LIVRET Compétences'!E324,\"\")","v":""},{"$f":"IF('LIVRET Compétences'!H324=$S$2,'LIVRET Compétences'!G324,\"\")","v":""},{"$f":"IF('LIVRET Compétences'!H324=$S$2,'LIVRET Compétences'!C324,\"\")","v":""},{"$f":"IF('LIVRET Compétences'!H324=$W$2,'LIVRET Compétences'!I324,\"\")","v":""},{"$f":"IF('LIVRET Compétences'!H324=$W$2,'LIVRET Compétences'!E324,\"\")","v":""},{"$f":"IF('LIVRET Compétences'!H324=$W$2,'LIVRET Compétences'!G324,\"\")","v":""},{"$f":"IF('LIVRET Compétences'!H324=$W$2,'LIVRET Compétences'!C324,\"\")","v":""}]
[null,null,null,null,null,null,null,null,null,null,null,null,null,null,{"$f":"IF('LIVRET Compétences'!H325=$O$2,'LIVRET Compétences'!I325,\"\")","v":""},{"$f":"IF('LIVRET Compétences'!H325=$O$2,'LIVRET Compétences'!E325,\"\")","v":""},{"$f":"IF('LIVRET Compétences'!H325=$O$2,'LIVRET Compétences'!G325,\"\")","v":""},{"$f":"IF('LIVRET Compétences'!H325=$O$2,'LIVRET Compétences'!C325,\"\")","v":""},{"$f":"IF('LIVRET Compétences'!H325=$S$2,'LIVRET Compétences'!I325,\"\")","v":""},{"$f":"IF('LIVRET Compétences'!H325=$S$2,'LIVRET Compétences'!E325,\"\")","v":""},{"$f":"IF('LIVRET Compétences'!H325=$S$2,'LIVRET Compétences'!G325,\"\")","v":""},{"$f":"IF('LIVRET Compétences'!H325=$S$2,'LIVRET Compétences'!C325,\"\")","v":""},{"$f":"IF('LIVRET Compétences'!H325=$W$2,'LIVRET Compétences'!I325,\"\")","v":""},{"$f":"IF('LIVRET Compétences'!H325=$W$2,'LIVRET Compétences'!E325,\"\")","v":""},{"$f":"IF('LIVRET Compétences'!H325=$W$2,'LIVRET Compétences'!G325,\"\")","v":""},{"$f":"IF('LIVRET Compétences'!H325=$W$2,'LIVRET Compétences'!C325,\"\")","v":""}]
[null,null,null,null,null,null,null,null,null,null,null,null,null,null,{"$f":"IF('LIVRET Compétences'!H326=$O$2,'LIVRET Compétences'!I326,\"\")","v":""},{"$f":"IF('LIVRET Compétences'!H326=$O$2,'LIVRET Compétences'!E326,\"\")","v":""},{"$f":"IF('LIVRET Compétences'!H326=$O$2,'LIVRET Compétences'!G326,\"\")","v":""},{"$f":"IF('LIVRET Compétences'!H326=$O$2,'LIVRET Compétences'!C326,\"\")","v":""},{"$f":"IF('LIVRET Compétences'!H326=$S$2,'LIVRET Compétences'!I326,\"\")","v":""},{"$f":"IF('LIVRET Compétences'!H326=$S$2,'LIVRET Compétences'!E326,\"\")","v":""},{"$f":"IF('LIVRET Compétences'!H326=$S$2,'LIVRET Compétences'!G326,\"\")","v":""},{"$f":"IF('LIVRET Compétences'!H326=$S$2,'LIVRET Compétences'!C326,\"\")","v":""},{"$f":"IF('LIVRET Compétences'!H326=$W$2,'LIVRET Compétences'!I326,\"\")","v":""},{"$f":"IF('LIVRET Compétences'!H326=$W$2,'LIVRET Compétences'!E326,\"\")","v":""},{"$f":"IF('LIVRET Compétences'!H326=$W$2,'LIVRET Compétences'!G326,\"\")","v":""},{"$f":"IF('LIVRET Compétences'!H326=$W$2,'LIVRET Compétences'!C326,\"\")","v":""}]
[null,null,null,null,null,null,null,null,null,null,null,null,null,null,{"$f":"IF('LIVRET Compétences'!H327=$O$2,'LIVRET Compétences'!I327,\"\")","v":""},{"$f":"IF('LIVRET Compétences'!H327=$O$2,'LIVRET Compétences'!E327,\"\")","v":""},{"$f":"IF('LIVRET Compétences'!H327=$O$2,'LIVRET Compétences'!G327,\"\")","v":""},{"$f":"IF('LIVRET Compétences'!H327=$O$2,'LIVRET Compétences'!C327,\"\")","v":""},{"$f":"IF('LIVRET Compétences'!H327=$S$2,'LIVRET Compétences'!I327,\"\")","v":""},{"$f":"IF('LIVRET Compétences'!H327=$S$2,'LIVRET Compétences'!E327,\"\")","v":""},{"$f":"IF('LIVRET Compétences'!H327=$S$2,'LIVRET Compétences'!G327,\"\")","v":""},{"$f":"IF('LIVRET Compétences'!H327=$S$2,'LIVRET Compétences'!C327,\"\")","v":""},{"$f":"IF('LIVRET Compétences'!H327=$W$2,'LIVRET Compétences'!I327,\"\")","v":""},{"$f":"IF('LIVRET Compétences'!H327=$W$2,'LIVRET Compétences'!E327,\"\")","v":""},{"$f":"IF('LIVRET Compétences'!H327=$W$2,'LIVRET Compétences'!G327,\"\")","v":""},{"$f":"IF('LIVRET Compétences'!H327=$W$2,'LIVRET Compétences'!C327,\"\")","v":""}]
[null,null,null,null,null,null,null,null,null,null,null,null,null,null,{"$f":"IF('LIVRET Compétences'!H328=$O$2,'LIVRET Compétences'!I328,\"\")","v":""},{"$f":"IF('LIVRET Compétences'!H328=$O$2,'LIVRET Compétences'!E328,\"\")","v":""},{"$f":"IF('LIVRET Compétences'!H328=$O$2,'LIVRET Compétences'!G328,\"\")","v":""},{"$f":"IF('LIVRET Compétences'!H328=$O$2,'LIVRET Compétences'!C328,\"\")","v":""},{"$f":"IF('LIVRET Compétences'!H328=$S$2,'LIVRET Compétences'!I328,\"\")","v":""},{"$f":"IF('LIVRET Compétences'!H328=$S$2,'LIVRET Compétences'!E328,\"\")","v":""},{"$f":"IF('LIVRET Compétences'!H328=$S$2,'LIVRET Compétences'!G328,\"\")","v":""},{"$f":"IF('LIVRET Compétences'!H328=$S$2,'LIVRET Compétences'!C328,\"\")","v":""},{"$f":"IF('LIVRET Compétences'!H328=$W$2,'LIVRET Compétences'!I328,\"\")","v":""},{"$f":"IF('LIVRET Compétences'!H328=$W$2,'LIVRET Compétences'!E328,\"\")","v":""},{"$f":"IF('LIVRET Compétences'!H328=$W$2,'LIVRET Compétences'!G328,\"\")","v":""},{"$f":"IF('LIVRET Compétences'!H328=$W$2,'LIVRET Compétences'!C328,\"\")","v":""}]
[null,null,null,null,null,null,null,null,null,null,null,null,null,null,{"$f":"IF('LIVRET Compétences'!H329=$O$2,'LIVRET Compétences'!I329,\"\")","v":""},{"$f":"IF('LIVRET Compétences'!H329=$O$2,'LIVRET Compétences'!E329,\"\")","v":""},{"$f":"IF('LIVRET Compétences'!H329=$O$2,'LIVRET Compétences'!G329,\"\")","v":""},{"$f":"IF('LIVRET Compétences'!H329=$O$2,'LIVRET Compétences'!C329,\"\")","v":""},{"$f":"IF('LIVRET Compétences'!H329=$S$2,'LIVRET Compétences'!I329,\"\")","v":""},{"$f":"IF('LIVRET Compétences'!H329=$S$2,'LIVRET Compétences'!E329,\"\")","v":""},{"$f":"IF('LIVRET Compétences'!H329=$S$2,'LIVRET Compétences'!G329,\"\")","v":""},{"$f":"IF('LIVRET Compétences'!H329=$S$2,'LIVRET Compétences'!C329,\"\")","v":""},{"$f":"IF('LIVRET Compétences'!H329=$W$2,'LIVRET Compétences'!I329,\"\")","v":""},{"$f":"IF('LIVRET Compétences'!H329=$W$2,'LIVRET Compétences'!E329,\"\")","v":""},{"$f":"IF('LIVRET Compétences'!H329=$W$2,'LIVRET Compétences'!G329,\"\")","v":""},{"$f":"IF('LIVRET Compétences'!H329=$W$2,'LIVRET Compétences'!C329,\"\")","v":""}]
[null,null,null,null,null,null,null,null,null,null,null,null,null,null,{"$f":"IF('LIVRET Compétences'!H330=$O$2,'LIVRET Compétences'!I330,\"\")","v":""},{"$f":"IF('LIVRET Compétences'!H330=$O$2,'LIVRET Compétences'!E330,\"\")","v":""},{"$f":"IF('LIVRET Compétences'!H330=$O$2,'LIVRET Compétences'!G330,\"\")","v":""},{"$f":"IF('LIVRET Compétences'!H330=$O$2,'LIVRET Compétences'!C330,\"\")","v":""},{"$f":"IF('LIVRET Compétences'!H330=$S$2,'LIVRET Compétences'!I330,\"\")","v":""},{"$f":"IF('LIVRET Compétences'!H330=$S$2,'LIVRET Compétences'!E330,\"\")","v":""},{"$f":"IF('LIVRET Compétences'!H330=$S$2,'LIVRET Compétences'!G330,\"\")","v":""},{"$f":"IF('LIVRET Compétences'!H330=$S$2,'LIVRET Compétences'!C330,\"\")","v":""},{"$f":"IF('LIVRET Compétences'!H330=$W$2,'LIVRET Compétences'!I330,\"\")","v":""},{"$f":"IF('LIVRET Compétences'!H330=$W$2,'LIVRET Compétences'!E330,\"\")","v":""},{"$f":"IF('LIVRET Compétences'!H330=$W$2,'LIVRET Compétences'!G330,\"\")","v":""},{"$f":"IF('LIVRET Compétences'!H330=$W$2,'LIVRET Compétences'!C330,\"\")","v":""}]
[null,null,null,null,null,null,null,null,null,null,null,null,null,null,{"$f":"IF('LIVRET Compétences'!H331=$O$2,'LIVRET Compétences'!I331,\"\")","v":""},{"$f":"IF('LIVRET Compétences'!H331=$O$2,'LIVRET Compétences'!E331,\"\")","v":""},{"$f":"IF('LIVRET Compétences'!H331=$O$2,'LIVRET Compétences'!G331,\"\")","v":""},{"$f":"IF('LIVRET Compétences'!H331=$O$2,'LIVRET Compétences'!C331,\"\")","v":""},{"$f":"IF('LIVRET Compétences'!H331=$S$2,'LIVRET Compétences'!I331,\"\")","v":""},{"$f":"IF('LIVRET Compétences'!H331=$S$2,'LIVRET Compétences'!E331,\"\")","v":""},{"$f":"IF('LIVRET Compétences'!H331=$S$2,'LIVRET Compétences'!G331,\"\")","v":""},{"$f":"IF('LIVRET Compétences'!H331=$S$2,'LIVRET Compétences'!C331,\"\")","v":""},{"$f":"IF('LIVRET Compétences'!H331=$W$2,'LIVRET Compétences'!I331,\"\")","v":""},{"$f":"IF('LIVRET Compétences'!H331=$W$2,'LIVRET Compétences'!E331,\"\")","v":""},{"$f":"IF('LIVRET Compétences'!H331=$W$2,'LIVRET Compétences'!G331,\"\")","v":""},{"$f":"IF('LIVRET Compétences'!H331=$W$2,'LIVRET Compétences'!C331,\"\")","v":""}]
[null,null,null,null,null,null,null,null,null,null,null,null,null,null,{"$f":"IF('LIVRET Compétences'!H332=$O$2,'LIVRET Compétences'!I332,\"\")","v":""},{"$f":"IF('LIVRET Compétences'!H332=$O$2,'LIVRET Compétences'!E332,\"\")","v":""},{"$f":"IF('LIVRET Compétences'!H332=$O$2,'LIVRET Compétences'!G332,\"\")","v":""},{"$f":"IF('LIVRET Compétences'!H332=$O$2,'LIVRET Compétences'!C332,\"\")","v":""},{"$f":"IF('LIVRET Compétences'!H332=$S$2,'LIVRET Compétences'!I332,\"\")","v":""},{"$f":"IF('LIVRET Compétences'!H332=$S$2,'LIVRET Compétences'!E332,\"\")","v":""},{"$f":"IF('LIVRET Compétences'!H332=$S$2,'LIVRET Compétences'!G332,\"\")","v":""},{"$f":"IF('LIVRET Compétences'!H332=$S$2,'LIVRET Compétences'!C332,\"\")","v":""},{"$f":"IF('LIVRET Compétences'!H332=$W$2,'LIVRET Compétences'!I332,\"\")","v":""},{"$f":"IF('LIVRET Compétences'!H332=$W$2,'LIVRET Compétences'!E332,\"\")","v":""},{"$f":"IF('LIVRET Compétences'!H332=$W$2,'LIVRET Compétences'!G332,\"\")","v":""},{"$f":"IF('LIVRET Compétences'!H332=$W$2,'LIVRET Compétences'!C332,\"\")","v":""}]
[null,null,null,null,null,null,null,null,null,null,null,null,null,null,{"$f":"IF('LIVRET Compétences'!H333=$O$2,'LIVRET Compétences'!I333,\"\")","v":""},{"$f":"IF('LIVRET Compétences'!H333=$O$2,'LIVRET Compétences'!E333,\"\")","v":""},{"$f":"IF('LIVRET Compétences'!H333=$O$2,'LIVRET Compétences'!G333,\"\")","v":""},{"$f":"IF('LIVRET Compétences'!H333=$O$2,'LIVRET Compétences'!C333,\"\")","v":""},{"$f":"IF('LIVRET Compétences'!H333=$S$2,'LIVRET Compétences'!I333,\"\")","v":""},{"$f":"IF('LIVRET Compétences'!H333=$S$2,'LIVRET Compétences'!E333,\"\")","v":""},{"$f":"IF('LIVRET Compétences'!H333=$S$2,'LIVRET Compétences'!G333,\"\")","v":""},{"$f":"IF('LIVRET Compétences'!H333=$S$2,'LIVRET Compétences'!C333,\"\")","v":""},{"$f":"IF('LIVRET Compétences'!H333=$W$2,'LIVRET Compétences'!I333,\"\")","v":""},{"$f":"IF('LIVRET Compétences'!H333=$W$2,'LIVRET Compétences'!E333,\"\")","v":""},{"$f":"IF('LIVRET Compétences'!H333=$W$2,'LIVRET Compétences'!G333,\"\")","v":""},{"$f":"IF('LIVRET Compétences'!H333=$W$2,'LIVRET Compétences'!C333,\"\")","v":""}]
[null,null,null,null,null,null,null,null,null,null,null,null,null,null,{"$f":"IF('LIVRET Compétences'!H334=$O$2,'LIVRET Compétences'!I334,\"\")","v":""},{"$f":"IF('LIVRET Compétences'!H334=$O$2,'LIVRET Compétences'!E334,\"\")","v":""},{"$f":"IF('LIVRET Compétences'!H334=$O$2,'LIVRET Compétences'!G334,\"\")","v":""},{"$f":"IF('LIVRET Compétences'!H334=$O$2,'LIVRET Compétences'!C334,\"\")","v":""},{"$f":"IF('LIVRET Compétences'!H334=$S$2,'LIVRET Compétences'!I334,\"\")","v":""},{"$f":"IF('LIVRET Compétences'!H334=$S$2,'LIVRET Compétences'!E334,\"\")","v":""},{"$f":"IF('LIVRET Compétences'!H334=$S$2,'LIVRET Compétences'!G334,\"\")","v":""},{"$f":"IF('LIVRET Compétences'!H334=$S$2,'LIVRET Compétences'!C334,\"\")","v":""},{"$f":"IF('LIVRET Compétences'!H334=$W$2,'LIVRET Compétences'!I334,\"\")","v":""},{"$f":"IF('LIVRET Compétences'!H334=$W$2,'LIVRET Compétences'!E334,\"\")","v":""},{"$f":"IF('LIVRET Compétences'!H334=$W$2,'LIVRET Compétences'!G334,\"\")","v":""},{"$f":"IF('LIVRET Compétences'!H334=$W$2,'LIVRET Compétences'!C334,\"\")","v":""}]
[null,null,null,null,null,null,null,null,null,null,null,null,null,null,{"$f":"IF('LIVRET Compétences'!H335=$O$2,'LIVRET Compétences'!I335,\"\")","v":""},{"$f":"IF('LIVRET Compétences'!H335=$O$2,'LIVRET Compétences'!E335,\"\")","v":""},{"$f":"IF('LIVRET Compétences'!H335=$O$2,'LIVRET Compétences'!G335,\"\")","v":""},{"$f":"IF('LIVRET Compétences'!H335=$O$2,'LIVRET Compétences'!C335,\"\")","v":""},{"$f":"IF('LIVRET Compétences'!H335=$S$2,'LIVRET Compétences'!I335,\"\")","v":""},{"$f":"IF('LIVRET Compétences'!H335=$S$2,'LIVRET Compétences'!E335,\"\")","v":""},{"$f":"IF('LIVRET Compétences'!H335=$S$2,'LIVRET Compétences'!G335,\"\")","v":""},{"$f":"IF('LIVRET Compétences'!H335=$S$2,'LIVRET Compétences'!C335,\"\")","v":""},{"$f":"IF('LIVRET Compétences'!H335=$W$2,'LIVRET Compétences'!I335,\"\")","v":""},{"$f":"IF('LIVRET Compétences'!H335=$W$2,'LIVRET Compétences'!E335,\"\")","v":""},{"$f":"IF('LIVRET Compétences'!H335=$W$2,'LIVRET Compétences'!G335,\"\")","v":""},{"$f":"IF('LIVRET Compétences'!H335=$W$2,'LIVRET Compétences'!C335,\"\")","v":""}]
[null,null,null,null,null,null,null,null,null,null,null,null,null,null,{"$f":"IF('LIVRET Compétences'!H336=$O$2,'LIVRET Compétences'!I336,\"\")","v":""},{"$f":"IF('LIVRET Compétences'!H336=$O$2,'LIVRET Compétences'!E336,\"\")","v":""},{"$f":"IF('LIVRET Compétences'!H336=$O$2,'LIVRET Compétences'!G336,\"\")","v":""},{"$f":"IF('LIVRET Compétences'!H336=$O$2,'LIVRET Compétences'!C336,\"\")","v":""},{"$f":"IF('LIVRET Compétences'!H336=$S$2,'LIVRET Compétences'!I336,\"\")","v":""},{"$f":"IF('LIVRET Compétences'!H336=$S$2,'LIVRET Compétences'!E336,\"\")","v":""},{"$f":"IF('LIVRET Compétences'!H336=$S$2,'LIVRET Compétences'!G336,\"\")","v":""},{"$f":"IF('LIVRET Compétences'!H336=$S$2,'LIVRET Compétences'!C336,\"\")","v":""},{"$f":"IF('LIVRET Compétences'!H336=$W$2,'LIVRET Compétences'!I336,\"\")","v":""},{"$f":"IF('LIVRET Compétences'!H336=$W$2,'LIVRET Compétences'!E336,\"\")","v":""},{"$f":"IF('LIVRET Compétences'!H336=$W$2,'LIVRET Compétences'!G336,\"\")","v":""},{"$f":"IF('LIVRET Compétences'!H336=$W$2,'LIVRET Compétences'!C336,\"\")","v":""}]
[null,null,null,null,null,null,null,null,null,null,null,null,null,null,{"$f":"IF('LIVRET Compétences'!H337=$O$2,'LIVRET Compétences'!I337,\"\")","v":""},{"$f":"IF('LIVRET Compétences'!H337=$O$2,'LIVRET Compétences'!E337,\"\")","v":""},{"$f":"IF('LIVRET Compétences'!H337=$O$2,'LIVRET Compétences'!G337,\"\")","v":""},{"$f":"IF('LIVRET Compétences'!H337=$O$2,'LIVRET Compétences'!C337,\"\")","v":""},{"$f":"IF('LIVRET Compétences'!H337=$S$2,'LIVRET Compétences'!I337,\"\")","v":""},{"$f":"IF('LIVRET Compétences'!H337=$S$2,'LIVRET Compétences'!E337,\"\")","v":""},{"$f":"IF('LIVRET Compétences'!H337=$S$2,'LIVRET Compétences'!G337,\"\")","v":""},{"$f":"IF('LIVRET Compétences'!H337=$S$2,'LIVRET Compétences'!C337,\"\")","v":""},{"$f":"IF('LIVRET Compétences'!H337=$W$2,'LIVRET Compétences'!I337,\"\")","v":""},{"$f":"IF('LIVRET Compétences'!H337=$W$2,'LIVRET Compétences'!E337,\"\")","v":""},{"$f":"IF('LIVRET Compétences'!H337=$W$2,'LIVRET Compétences'!G337,\"\")","v":""},{"$f":"IF('LIVRET Compétences'!H337=$W$2,'LIVRET Compétences'!C337,\"\")","v":""}]
[null,null,null,null,null,null,null,null,null,null,null,null,null,null,{"$f":"IF('LIVRET Compétences'!H338=$O$2,'LIVRET Compétences'!I338,\"\")","v":""},{"$f":"IF('LIVRET Compétences'!H338=$O$2,'LIVRET Compétences'!E338,\"\")","v":""},{"$f":"IF('LIVRET Compétences'!H338=$O$2,'LIVRET Compétences'!G338,\"\")","v":""},{"$f":"IF('LIVRET Compétences'!H338=$O$2,'LIVRET Compétences'!C338,\"\")","v":""},{"$f":"IF('LIVRET Compétences'!H338=$S$2,'LIVRET Compétences'!I338,\"\")","v":""},{"$f":"IF('LIVRET Compétences'!H338=$S$2,'LIVRET Compétences'!E338,\"\")","v":""},{"$f":"IF('LIVRET Compétences'!H338=$S$2,'LIVRET Compétences'!G338,\"\")","v":""},{"$f":"IF('LIVRET Compétences'!H338=$S$2,'LIVRET Compétences'!C338,\"\")","v":""},{"$f":"IF('LIVRET Compétences'!H338=$W$2,'LIVRET Compétences'!I338,\"\")","v":""},{"$f":"IF('LIVRET Compétences'!H338=$W$2,'LIVRET Compétences'!E338,\"\")","v":""},{"$f":"IF('LIVRET Compétences'!H338=$W$2,'LIVRET Compétences'!G338,\"\")","v":""},{"$f":"IF('LIVRET Compétences'!H338=$W$2,'LIVRET Compétences'!C338,\"\")","v":""}]
[null,null,null,null,null,null,null,null,null,null,null,null,null,null,{"$f":"IF('LIVRET Compétences'!H339=$O$2,'LIVRET Compétences'!I339,\"\")","v":""},{"$f":"IF('LIVRET Compétences'!H339=$O$2,'LIVRET Compétences'!E339,\"\")","v":""},{"$f":"IF('LIVRET Compétences'!H339=$O$2,'LIVRET Compétences'!G339,\"\")","v":""},{"$f":"IF('LIVRET Compétences'!H339=$O$2,'LIVRET Compétences'!C339,\"\")","v":""},{"$f":"IF('LIVRET Compétences'!H339=$S$2,'LIVRET Compétences'!I339,\"\")","v":""},{"$f":"IF('LIVRET Compétences'!H339=$S$2,'LIVRET Compétences'!E339,\"\")","v":""},{"$f":"IF('LIVRET Compétences'!H339=$S$2,'LIVRET Compétences'!G339,\"\")","v":""},{"$f":"IF('LIVRET Compétences'!H339=$S$2,'LIVRET Compétences'!C339,\"\")","v":""},{"$f":"IF('LIVRET Compétences'!H339=$W$2,'LIVRET Compétences'!I339,\"\")","v":""},{"$f":"IF('LIVRET Compétences'!H339=$W$2,'LIVRET Compétences'!E339,\"\")","v":""},{"$f":"IF('LIVRET Compétences'!H339=$W$2,'LIVRET Compétences'!G339,\"\")","v":""},{"$f":"IF('LIVRET Compétences'!H339=$W$2,'LIVRET Compétences'!C339,\"\")","v":""}]
[null,null,null,null,null,null,null,null,null,null,null,null,null,null,{"$f":"IF('LIVRET Compétences'!H340=$O$2,'LIVRET Compétences'!I340,\"\")","v":""},{"$f":"IF('LIVRET Compétences'!H340=$O$2,'LIVRET Compétences'!E340,\"\")","v":""},{"$f":"IF('LIVRET Compétences'!H340=$O$2,'LIVRET Compétences'!G340,\"\")","v":""},{"$f":"IF('LIVRET Compétences'!H340=$O$2,'LIVRET Compétences'!C340,\"\")","v":""},{"$f":"IF('LIVRET Compétences'!H340=$S$2,'LIVRET Compétences'!I340,\"\")","v":""},{"$f":"IF('LIVRET Compétences'!H340=$S$2,'LIVRET Compétences'!E340,\"\")","v":""},{"$f":"IF('LIVRET Compétences'!H340=$S$2,'LIVRET Compétences'!G340,\"\")","v":""},{"$f":"IF('LIVRET Compétences'!H340=$S$2,'LIVRET Compétences'!C340,\"\")","v":""},{"$f":"IF('LIVRET Compétences'!H340=$W$2,'LIVRET Compétences'!I340,\"\")","v":""},{"$f":"IF('LIVRET Compétences'!H340=$W$2,'LIVRET Compétences'!E340,\"\")","v":""},{"$f":"IF('LIVRET Compétences'!H340=$W$2,'LIVRET Compétences'!G340,\"\")","v":""},{"$f":"IF('LIVRET Compétences'!H340=$W$2,'LIVRET Compétences'!C340,\"\")","v":""}]
[null,null,null,null,null,null,null,null,null,null,null,null,null,null,{"$f":"IF('LIVRET Compétences'!H341=$O$2,'LIVRET Compétences'!I341,\"\")","v":""},{"$f":"IF('LIVRET Compétences'!H341=$O$2,'LIVRET Compétences'!E341,\"\")","v":""},{"$f":"IF('LIVRET Compétences'!H341=$O$2,'LIVRET Compétences'!G341,\"\")","v":""},{"$f":"IF('LIVRET Compétences'!H341=$O$2,'LIVRET Compétences'!C341,\"\")","v":""},{"$f":"IF('LIVRET Compétences'!H341=$S$2,'LIVRET Compétences'!I341,\"\")","v":""},{"$f":"IF('LIVRET Compétences'!H341=$S$2,'LIVRET Compétences'!E341,\"\")","v":""},{"$f":"IF('LIVRET Compétences'!H341=$S$2,'LIVRET Compétences'!G341,\"\")","v":""},{"$f":"IF('LIVRET Compétences'!H341=$S$2,'LIVRET Compétences'!C341,\"\")","v":""},{"$f":"IF('LIVRET Compétences'!H341=$W$2,'LIVRET Compétences'!I341,\"\")","v":""},{"$f":"IF('LIVRET Compétences'!H341=$W$2,'LIVRET Compétences'!E341,\"\")","v":""},{"$f":"IF('LIVRET Compétences'!H341=$W$2,'LIVRET Compétences'!G341,\"\")","v":""},{"$f":"IF('LIVRET Compétences'!H341=$W$2,'LIVRET Compétences'!C341,\"\")","v":""}]
[null,null,null,null,null,null,null,null,null,null,null,null,null,null,{"$f":"IF('LIVRET Compétences'!H342=$O$2,'LIVRET Compétences'!I342,\"\")","v":""},{"$f":"IF('LIVRET Compétences'!H342=$O$2,'LIVRET Compétences'!E342,\"\")","v":""},{"$f":"IF('LIVRET Compétences'!H342=$O$2,'LIVRET Compétences'!G342,\"\")","v":""},{"$f":"IF('LIVRET Compétences'!H342=$O$2,'LIVRET Compétences'!C342,\"\")","v":""},{"$f":"IF('LIVRET Compétences'!H342=$S$2,'LIVRET Compétences'!I342,\"\")","v":""},{"$f":"IF('LIVRET Compétences'!H342=$S$2,'LIVRET Compétences'!E342,\"\")","v":""},{"$f":"IF('LIVRET Compétences'!H342=$S$2,'LIVRET Compétences'!G342,\"\")","v":""},{"$f":"IF('LIVRET Compétences'!H342=$S$2,'LIVRET Compétences'!C342,\"\")","v":""},{"$f":"IF('LIVRET Compétences'!H342=$W$2,'LIVRET Compétences'!I342,\"\")","v":""},{"$f":"IF('LIVRET Compétences'!H342=$W$2,'LIVRET Compétences'!E342,\"\")","v":""},{"$f":"IF('LIVRET Compétences'!H342=$W$2,'LIVRET Compétences'!G342,\"\")","v":""},{"$f":"IF('LIVRET Compétences'!H342=$W$2,'LIVRET Compétences'!C342,\"\")","v":""}]
[null,null,null,null,null,null,null,null,null,null,null,null,null,null,{"$f":"IF('LIVRET Compétences'!H343=$O$2,'LIVRET Compétences'!I343,\"\")","v":""},{"$f":"IF('LIVRET Compétences'!H343=$O$2,'LIVRET Compétences'!E343,\"\")","v":""},{"$f":"IF('LIVRET Compétences'!H343=$O$2,'LIVRET Compétences'!G343,\"\")","v":""},{"$f":"IF('LIVRET Compétences'!H343=$O$2,'LIVRET Compétences'!C343,\"\")","v":""},{"$f":"IF('LIVRET Compétences'!H343=$S$2,'LIVRET Compétences'!I343,\"\")","v":""},{"$f":"IF('LIVRET Compétences'!H343=$S$2,'LIVRET Compétences'!E343,\"\")","v":""},{"$f":"IF('LIVRET Compétences'!H343=$S$2,'LIVRET Compétences'!G343,\"\")","v":""},{"$f":"IF('LIVRET Compétences'!H343=$S$2,'LIVRET Compétences'!C343,\"\")","v":""},{"$f":"IF('LIVRET Compétences'!H343=$W$2,'LIVRET Compétences'!I343,\"\")","v":""},{"$f":"IF('LIVRET Compétences'!H343=$W$2,'LIVRET Compétences'!E343,\"\")","v":""},{"$f":"IF('LIVRET Compétences'!H343=$W$2,'LIVRET Compétences'!G343,\"\")","v":""},{"$f":"IF('LIVRET Compétences'!H343=$W$2,'LIVRET Compétences'!C343,\"\")","v":""}]
[null,null,null,null,null,null,null,null,null,null,null,null,null,null,{"$f":"IF('LIVRET Compétences'!H344=$O$2,'LIVRET Compétences'!I344,\"\")","v":""},{"$f":"IF('LIVRET Compétences'!H344=$O$2,'LIVRET Compétences'!E344,\"\")","v":""},{"$f":"IF('LIVRET Compétences'!H344=$O$2,'LIVRET Compétences'!G344,\"\")","v":""},{"$f":"IF('LIVRET Compétences'!H344=$O$2,'LIVRET Compétences'!C344,\"\")","v":""},{"$f":"IF('LIVRET Compétences'!H344=$S$2,'LIVRET Compétences'!I344,\"\")","v":""},{"$f":"IF('LIVRET Compétences'!H344=$S$2,'LIVRET Compétences'!E344,\"\")","v":""},{"$f":"IF('LIVRET Compétences'!H344=$S$2,'LIVRET Compétences'!G344,\"\")","v":""},{"$f":"IF('LIVRET Compétences'!H344=$S$2,'LIVRET Compétences'!C344,\"\")","v":""},{"$f":"IF('LIVRET Compétences'!H344=$W$2,'LIVRET Compétences'!I344,\"\")","v":""},{"$f":"IF('LIVRET Compétences'!H344=$W$2,'LIVRET Compétences'!E344,\"\")","v":""},{"$f":"IF('LIVRET Compétences'!H344=$W$2,'LIVRET Compétences'!G344,\"\")","v":""},{"$f":"IF('LIVRET Compétences'!H344=$W$2,'LIVRET Compétences'!C344,\"\")","v":""}]
[null,null,null,null,null,null,null,null,null,null,null,null,null,null,{"$f":"IF('LIVRET Compétences'!H345=$O$2,'LIVRET Compétences'!I345,\"\")","v":""},{"$f":"IF('LIVRET Compétences'!H345=$O$2,'LIVRET Compétences'!E345,\"\")","v":""},{"$f":"IF('LIVRET Compétences'!H345=$O$2,'LIVRET Compétences'!G345,\"\")","v":""},{"$f":"IF('LIVRET Compétences'!H345=$O$2,'LIVRET Compétences'!C345,\"\")","v":""},{"$f":"IF('LIVRET Compétences'!H345=$S$2,'LIVRET Compétences'!I345,\"\")","v":""},{"$f":"IF('LIVRET Compétences'!H345=$S$2,'LIVRET Compétences'!E345,\"\")","v":""},{"$f":"IF('LIVRET Compétences'!H345=$S$2,'LIVRET Compétences'!G345,\"\")","v":""},{"$f":"IF('LIVRET Compétences'!H345=$S$2,'LIVRET Compétences'!C345,\"\")","v":""},{"$f":"IF('LIVRET Compétences'!H345=$W$2,'LIVRET Compétences'!I345,\"\")","v":""},{"$f":"IF('LIVRET Compétences'!H345=$W$2,'LIVRET Compétences'!E345,\"\")","v":""},{"$f":"IF('LIVRET Compétences'!H345=$W$2,'LIVRET Compétences'!G345,\"\")","v":""},{"$f":"IF('LIVRET Compétences'!H345=$W$2,'LIVRET Compétences'!C345,\"\")","v":""}]
[null,null,null,null,null,null,null,null,null,null,null,null,null,null,{"$f":"IF('LIVRET Compétences'!H346=$O$2,'LIVRET Compétences'!I346,\"\")","v":""},{"$f":"IF('LIVRET Compétences'!H346=$O$2,'LIVRET Compétences'!E346,\"\")","v":""},{"$f":"IF('LIVRET Compétences'!H346=$O$2,'LIVRET Compétences'!G346,\"\")","v":""},{"$f":"IF('LIVRET Compétences'!H346=$O$2,'LIVRET Compétences'!C346,\"\")","v":""},{"$f":"IF('LIVRET Compétences'!H346=$S$2,'LIVRET Compétences'!I346,\"\")","v":""},{"$f":"IF('LIVRET Compétences'!H346=$S$2,'LIVRET Compétences'!E346,\"\")","v":""},{"$f":"IF('LIVRET Compétences'!H346=$S$2,'LIVRET Compétences'!G346,\"\")","v":""},{"$f":"IF('LIVRET Compétences'!H346=$S$2,'LIVRET Compétences'!C346,\"\")","v":""},{"$f":"IF('LIVRET Compétences'!H346=$W$2,'LIVRET Compétences'!I346,\"\")","v":""},{"$f":"IF('LIVRET Compétences'!H346=$W$2,'LIVRET Compétences'!E346,\"\")","v":""},{"$f":"IF('LIVRET Compétences'!H346=$W$2,'LIVRET Compétences'!G346,\"\")","v":""},{"$f":"IF('LIVRET Compétences'!H346=$W$2,'LIVRET Compétences'!C346,\"\")","v":""}]
[null,null,null,null,null,null,null,null,null,null,null,null,null,null,{"$f":"IF('LIVRET Compétences'!H347=$O$2,'LIVRET Compétences'!I347,\"\")","v":""},{"$f":"IF('LIVRET Compétences'!H347=$O$2,'LIVRET Compétences'!E347,\"\")","v":""},{"$f":"IF('LIVRET Compétences'!H347=$O$2,'LIVRET Compétences'!G347,\"\")","v":""},{"$f":"IF('LIVRET Compétences'!H347=$O$2,'LIVRET Compétences'!C347,\"\")","v":""},{"$f":"IF('LIVRET Compétences'!H347=$S$2,'LIVRET Compétences'!I347,\"\")","v":""},{"$f":"IF('LIVRET Compétences'!H347=$S$2,'LIVRET Compétences'!E347,\"\")","v":""},{"$f":"IF('LIVRET Compétences'!H347=$S$2,'LIVRET Compétences'!G347,\"\")","v":""},{"$f":"IF('LIVRET Compétences'!H347=$S$2,'LIVRET Compétences'!C347,\"\")","v":""},{"$f":"IF('LIVRET Compétences'!H347=$W$2,'LIVRET Compétences'!I347,\"\")","v":""},{"$f":"IF('LIVRET Compétences'!H347=$W$2,'LIVRET Compétences'!E347,\"\")","v":""},{"$f":"IF('LIVRET Compétences'!H347=$W$2,'LIVRET Compétences'!G347,\"\")","v":""},{"$f":"IF('LIVRET Compétences'!H347=$W$2,'LIVRET Compétences'!C347,\"\")","v":""}]
[null,null,null,null,null,null,null,null,null,null,null,null,null,null,{"$f":"IF('LIVRET Compétences'!H348=$O$2,'LIVRET Compétences'!I348,\"\")","v":""},{"$f":"IF('LIVRET Compétences'!H348=$O$2,'LIVRET Compétences'!E348,\"\")","v":""},{"$f":"IF('LIVRET Compétences'!H348=$O$2,'LIVRET Compétences'!G348,\"\")","v":""},{"$f":"IF('LIVRET Compétences'!H348=$O$2,'LIVRET Compétences'!C348,\"\")","v":""},{"$f":"IF('LIVRET Compétences'!H348=$S$2,'LIVRET Compétences'!I348,\"\")","v":""},{"$f":"IF('LIVRET Compétences'!H348=$S$2,'LIVRET Compétences'!E348,\"\")","v":""},{"$f":"IF('LIVRET Compétences'!H348=$S$2,'LIVRET Compétences'!G348,\"\")","v":""},{"$f":"IF('LIVRET Compétences'!H348=$S$2,'LIVRET Compétences'!C348,\"\")","v":""},{"$f":"IF('LIVRET Compétences'!H348=$W$2,'LIVRET Compétences'!I348,\"\")","v":""},{"$f":"IF('LIVRET Compétences'!H348=$W$2,'LIVRET Compétences'!E348,\"\")","v":""},{"$f":"IF('LIVRET Compétences'!H348=$W$2,'LIVRET Compétences'!G348,\"\")","v":""},{"$f":"IF('LIVRET Compétences'!H348=$W$2,'LIVRET Compétences'!C348,\"\")","v":""}]
[null,null,null,null,null,null,null,null,null,null,null,null,null,null,{"$f":"IF('LIVRET Compétences'!H349=$O$2,'LIVRET Compétences'!I349,\"\")","v":""},{"$f":"IF('LIVRET Compétences'!H349=$O$2,'LIVRET Compétences'!E349,\"\")","v":""},{"$f":"IF('LIVRET Compétences'!H349=$O$2,'LIVRET Compétences'!G349,\"\")","v":""},{"$f":"IF('LIVRET Compétences'!H349=$O$2,'LIVRET Compétences'!C349,\"\")","v":""},{"$f":"IF('LIVRET Compétences'!H349=$S$2,'LIVRET Compétences'!I349,\"\")","v":""},{"$f":"IF('LIVRET Compétences'!H349=$S$2,'LIVRET Compétences'!E349,\"\")","v":""},{"$f":"IF('LIVRET Compétences'!H349=$S$2,'LIVRET Compétences'!G349,\"\")","v":""},{"$f":"IF('LIVRET Compétences'!H349=$S$2,'LIVRET Compétences'!C349,\"\")","v":""},{"$f":"IF('LIVRET Compétences'!H349=$W$2,'LIVRET Compétences'!I349,\"\")","v":""},{"$f":"IF('LIVRET Compétences'!H349=$W$2,'LIVRET Compétences'!E349,\"\")","v":""},{"$f":"IF('LIVRET Compétences'!H349=$W$2,'LIVRET Compétences'!G349,\"\")","v":""},{"$f":"IF('LIVRET Compétences'!H349=$W$2,'LIVRET Compétences'!C349,\"\")","v":""}]
[null,null,null,null,null,null,null,null,null,null,null,null,null,null,{"$f":"IF('LIVRET Compétences'!H350=$O$2,'LIVRET Compétences'!I350,\"\")","v":""},{"$f":"IF('LIVRET Compétences'!H350=$O$2,'LIVRET Compétences'!E350,\"\")","v":""},{"$f":"IF('LIVRET Compétences'!H350=$O$2,'LIVRET Compétences'!G350,\"\")","v":""},{"$f":"IF('LIVRET Compétences'!H350=$O$2,'LIVRET Compétences'!C350,\"\")","v":""},{"$f":"IF('LIVRET Compétences'!H350=$S$2,'LIVRET Compétences'!I350,\"\")","v":""},{"$f":"IF('LIVRET Compétences'!H350=$S$2,'LIVRET Compétences'!E350,\"\")","v":""},{"$f":"IF('LIVRET Compétences'!H350=$S$2,'LIVRET Compétences'!G350,\"\")","v":""},{"$f":"IF('LIVRET Compétences'!H350=$S$2,'LIVRET Compétences'!C350,\"\")","v":""},{"$f":"IF('LIVRET Compétences'!H350=$W$2,'LIVRET Compétences'!I350,\"\")","v":""},{"$f":"IF('LIVRET Compétences'!H350=$W$2,'LIVRET Compétences'!E350,\"\")","v":""},{"$f":"IF('LIVRET Compétences'!H350=$W$2,'LIVRET Compétences'!G350,\"\")","v":""},{"$f":"IF('LIVRET Compétences'!H350=$W$2,'LIVRET Compétences'!C350,\"\")","v":""}]
[null,null,null,null,null,null,null,null,null,null,null,null,null,null,{"$f":"IF('LIVRET Compétences'!H351=$O$2,'LIVRET Compétences'!I351,\"\")","v":""},{"$f":"IF('LIVRET Compétences'!H351=$O$2,'LIVRET Compétences'!E351,\"\")","v":""},{"$f":"IF('LIVRET Compétences'!H351=$O$2,'LIVRET Compétences'!G351,\"\")","v":""},{"$f":"IF('LIVRET Compétences'!H351=$O$2,'LIVRET Compétences'!C351,\"\")","v":""},{"$f":"IF('LIVRET Compétences'!H351=$S$2,'LIVRET Compétences'!I351,\"\")","v":""},{"$f":"IF('LIVRET Compétences'!H351=$S$2,'LIVRET Compétences'!E351,\"\")","v":""},{"$f":"IF('LIVRET Compétences'!H351=$S$2,'LIVRET Compétences'!G351,\"\")","v":""},{"$f":"IF('LIVRET Compétences'!H351=$S$2,'LIVRET Compétences'!C351,\"\")","v":""},{"$f":"IF('LIVRET Compétences'!H351=$W$2,'LIVRET Compétences'!I351,\"\")","v":""},{"$f":"IF('LIVRET Compétences'!H351=$W$2,'LIVRET Compétences'!E351,\"\")","v":""},{"$f":"IF('LIVRET Compétences'!H351=$W$2,'LIVRET Compétences'!G351,\"\")","v":""},{"$f":"IF('LIVRET Compétences'!H351=$W$2,'LIVRET Compétences'!C351,\"\")","v":""}]
[null,null,null,null,null,null,null,null,null,null,null,null,null,null,{"$f":"IF('LIVRET Compétences'!H352=$O$2,'LIVRET Compétences'!I352,\"\")","v":""},{"$f":"IF('LIVRET Compétences'!H352=$O$2,'LIVRET Compétences'!E352,\"\")","v":""},{"$f":"IF('LIVRET Compétences'!H352=$O$2,'LIVRET Compétences'!G352,\"\")","v":""},{"$f":"IF('LIVRET Compétences'!H352=$O$2,'LIVRET Compétences'!C352,\"\")","v":""},{"$f":"IF('LIVRET Compétences'!H352=$S$2,'LIVRET Compétences'!I352,\"\")","v":""},{"$f":"IF('LIVRET Compétences'!H352=$S$2,'LIVRET Compétences'!E352,\"\")","v":""},{"$f":"IF('LIVRET Compétences'!H352=$S$2,'LIVRET Compétences'!G352,\"\")","v":""},{"$f":"IF('LIVRET Compétences'!H352=$S$2,'LIVRET Compétences'!C352,\"\")","v":""},{"$f":"IF('LIVRET Compétences'!H352=$W$2,'LIVRET Compétences'!I352,\"\")","v":""},{"$f":"IF('LIVRET Compétences'!H352=$W$2,'LIVRET Compétences'!E352,\"\")","v":""},{"$f":"IF('LIVRET Compétences'!H352=$W$2,'LIVRET Compétences'!G352,\"\")","v":""},{"$f":"IF('LIVRET Compétences'!H352=$W$2,'LIVRET Compétences'!C352,\"\")","v":""}]
[null,null,null,null,null,null,null,null,null,null,null,null,null,null,{"$f":"IF('LIVRET Compétences'!H353=$O$2,'LIVRET Compétences'!I353,\"\")","v":""},{"$f":"IF('LIVRET Compétences'!H353=$O$2,'LIVRET Compétences'!E353,\"\")","v":""},{"$f":"IF('LIVRET Compétences'!H353=$O$2,'LIVRET Compétences'!G353,\"\")","v":""},{"$f":"IF('LIVRET Compétences'!H353=$O$2,'LIVRET Compétences'!C353,\"\")","v":""},{"$f":"IF('LIVRET Compétences'!H353=$S$2,'LIVRET Compétences'!I353,\"\")","v":""},{"$f":"IF('LIVRET Compétences'!H353=$S$2,'LIVRET Compétences'!E353,\"\")","v":""},{"$f":"IF('LIVRET Compétences'!H353=$S$2,'LIVRET Compétences'!G353,\"\")","v":""},{"$f":"IF('LIVRET Compétences'!H353=$S$2,'LIVRET Compétences'!C353,\"\")","v":""},{"$f":"IF('LIVRET Compétences'!H353=$W$2,'LIVRET Compétences'!I353,\"\")","v":""},{"$f":"IF('LIVRET Compétences'!H353=$W$2,'LIVRET Compétences'!E353,\"\")","v":""},{"$f":"IF('LIVRET Compétences'!H353=$W$2,'LIVRET Compétences'!G353,\"\")","v":""},{"$f":"IF('LIVRET Compétences'!H353=$W$2,'LIVRET Compétences'!C353,\"\")","v":""}]
[null,null,null,null,null,null,null,null,null,null,null,null,null,null,{"$f":"IF('LIVRET Compétences'!H354=$O$2,'LIVRET Compétences'!I354,\"\")","v":""},{"$f":"IF('LIVRET Compétences'!H354=$O$2,'LIVRET Compétences'!E354,\"\")","v":""},{"$f":"IF('LIVRET Compétences'!H354=$O$2,'LIVRET Compétences'!G354,\"\")","v":""},{"$f":"IF('LIVRET Compétences'!H354=$O$2,'LIVRET Compétences'!C354,\"\")","v":""},{"$f":"IF('LIVRET Compétences'!H354=$S$2,'LIVRET Compétences'!I354,\"\")","v":""},{"$f":"IF('LIVRET Compétences'!H354=$S$2,'LIVRET Compétences'!E354,\"\")","v":""},{"$f":"IF('LIVRET Compétences'!H354=$S$2,'LIVRET Compétences'!G354,\"\")","v":""},{"$f":"IF('LIVRET Compétences'!H354=$S$2,'LIVRET Compétences'!C354,\"\")","v":""},{"$f":"IF('LIVRET Compétences'!H354=$W$2,'LIVRET Compétences'!I354,\"\")","v":""},{"$f":"IF('LIVRET Compétences'!H354=$W$2,'LIVRET Compétences'!E354,\"\")","v":""},{"$f":"IF('LIVRET Compétences'!H354=$W$2,'LIVRET Compétences'!G354,\"\")","v":""},{"$f":"IF('LIVRET Compétences'!H354=$W$2,'LIVRET Compétences'!C354,\"\")","v":""}]
[null,null,null,null,null,null,null,null,null,null,null,null,null,null,{"$f":"IF('LIVRET Compétences'!H355=$O$2,'LIVRET Compétences'!I355,\"\")","v":""},{"$f":"IF('LIVRET Compétences'!H355=$O$2,'LIVRET Compétences'!E355,\"\")","v":""},{"$f":"IF('LIVRET Compétences'!H355=$O$2,'LIVRET Compétences'!G355,\"\")","v":""},{"$f":"IF('LIVRET Compétences'!H355=$O$2,'LIVRET Compétences'!C355,\"\")","v":""},{"$f":"IF('LIVRET Compétences'!H355=$S$2,'LIVRET Compétences'!I355,\"\")","v":""},{"$f":"IF('LIVRET Compétences'!H355=$S$2,'LIVRET Compétences'!E355,\"\")","v":""},{"$f":"IF('LIVRET Compétences'!H355=$S$2,'LIVRET Compétences'!G355,\"\")","v":""},{"$f":"IF('LIVRET Compétences'!H355=$S$2,'LIVRET Compétences'!C355,\"\")","v":""},{"$f":"IF('LIVRET Compétences'!H355=$W$2,'LIVRET Compétences'!I355,\"\")","v":""},{"$f":"IF('LIVRET Compétences'!H355=$W$2,'LIVRET Compétences'!E355,\"\")","v":""},{"$f":"IF('LIVRET Compétences'!H355=$W$2,'LIVRET Compétences'!G355,\"\")","v":""},{"$f":"IF('LIVRET Compétences'!H355=$W$2,'LIVRET Compétences'!C355,\"\")","v":""}]
[null,null,null,null,null,null,null,null,null,null,null,null,null,null,{"$f":"IF('LIVRET Compétences'!H356=$O$2,'LIVRET Compétences'!I356,\"\")","v":""},{"$f":"IF('LIVRET Compétences'!H356=$O$2,'LIVRET Compétences'!E356,\"\")","v":""},{"$f":"IF('LIVRET Compétences'!H356=$O$2,'LIVRET Compétences'!G356,\"\")","v":""},{"$f":"IF('LIVRET Compétences'!H356=$O$2,'LIVRET Compétences'!C356,\"\")","v":""},{"$f":"IF('LIVRET Compétences'!H356=$S$2,'LIVRET Compétences'!I356,\"\")","v":""},{"$f":"IF('LIVRET Compétences'!H356=$S$2,'LIVRET Compétences'!E356,\"\")","v":""},{"$f":"IF('LIVRET Compétences'!H356=$S$2,'LIVRET Compétences'!G356,\"\")","v":""},{"$f":"IF('LIVRET Compétences'!H356=$S$2,'LIVRET Compétences'!C356,\"\")","v":""},{"$f":"IF('LIVRET Compétences'!H356=$W$2,'LIVRET Compétences'!I356,\"\")","v":""},{"$f":"IF('LIVRET Compétences'!H356=$W$2,'LIVRET Compétences'!E356,\"\")","v":""},{"$f":"IF('LIVRET Compétences'!H356=$W$2,'LIVRET Compétences'!G356,\"\")","v":""},{"$f":"IF('LIVRET Compétences'!H356=$W$2,'LIVRET Compétences'!C356,\"\")","v":""}]
[null,null,null,null,null,null,null,null,null,null,null,null,null,null,{"$f":"IF('LIVRET Compétences'!H357=$O$2,'LIVRET Compétences'!I357,\"\")","v":""},{"$f":"IF('LIVRET Compétences'!H357=$O$2,'LIVRET Compétences'!E357,\"\")","v":""},{"$f":"IF('LIVRET Compétences'!H357=$O$2,'LIVRET Compétences'!G357,\"\")","v":""},{"$f":"IF('LIVRET Compétences'!H357=$O$2,'LIVRET Compétences'!C357,\"\")","v":""},{"$f":"IF('LIVRET Compétences'!H357=$S$2,'LIVRET Compétences'!I357,\"\")","v":""},{"$f":"IF('LIVRET Compétences'!H357=$S$2,'LIVRET Compétences'!E357,\"\")","v":""},{"$f":"IF('LIVRET Compétences'!H357=$S$2,'LIVRET Compétences'!G357,\"\")","v":""},{"$f":"IF('LIVRET Compétences'!H357=$S$2,'LIVRET Compétences'!C357,\"\")","v":""},{"$f":"IF('LIVRET Compétences'!H357=$W$2,'LIVRET Compétences'!I357,\"\")","v":""},{"$f":"IF('LIVRET Compétences'!H357=$W$2,'LIVRET Compétences'!E357,\"\")","v":""},{"$f":"IF('LIVRET Compétences'!H357=$W$2,'LIVRET Compétences'!G357,\"\")","v":""},{"$f":"IF('LIVRET Compétences'!H357=$W$2,'LIVRET Compétences'!C357,\"\")","v":""}]
[null,null,null,null,null,null,null,null,null,null,null,null,null,null,{"$f":"IF('LIVRET Compétences'!H358=$O$2,'LIVRET Compétences'!I358,\"\")","v":""},{"$f":"IF('LIVRET Compétences'!H358=$O$2,'LIVRET Compétences'!E358,\"\")","v":""},{"$f":"IF('LIVRET Compétences'!H358=$O$2,'LIVRET Compétences'!G358,\"\")","v":""},{"$f":"IF('LIVRET Compétences'!H358=$O$2,'LIVRET Compétences'!C358,\"\")","v":""},{"$f":"IF('LIVRET Compétences'!H358=$S$2,'LIVRET Compétences'!I358,\"\")","v":""},{"$f":"IF('LIVRET Compétences'!H358=$S$2,'LIVRET Compétences'!E358,\"\")","v":""},{"$f":"IF('LIVRET Compétences'!H358=$S$2,'LIVRET Compétences'!G358,\"\")","v":""},{"$f":"IF('LIVRET Compétences'!H358=$S$2,'LIVRET Compétences'!C358,\"\")","v":""},{"$f":"IF('LIVRET Compétences'!H358=$W$2,'LIVRET Compétences'!I358,\"\")","v":""},{"$f":"IF('LIVRET Compétences'!H358=$W$2,'LIVRET Compétences'!E358,\"\")","v":""},{"$f":"IF('LIVRET Compétences'!H358=$W$2,'LIVRET Compétences'!G358,\"\")","v":""},{"$f":"IF('LIVRET Compétences'!H358=$W$2,'LIVRET Compétences'!C358,\"\")","v":""}]
[null,null,null,null,null,null,null,null,null,null,null,null,null,null,{"$f":"IF('LIVRET Compétences'!H359=$O$2,'LIVRET Compétences'!I359,\"\")","v":""},{"$f":"IF('LIVRET Compétences'!H359=$O$2,'LIVRET Compétences'!E359,\"\")","v":""},{"$f":"IF('LIVRET Compétences'!H359=$O$2,'LIVRET Compétences'!G359,\"\")","v":""},{"$f":"IF('LIVRET Compétences'!H359=$O$2,'LIVRET Compétences'!C359,\"\")","v":""},{"$f":"IF('LIVRET Compétences'!H359=$S$2,'LIVRET Compétences'!I359,\"\")","v":""},{"$f":"IF('LIVRET Compétences'!H359=$S$2,'LIVRET Compétences'!E359,\"\")","v":""},{"$f":"IF('LIVRET Compétences'!H359=$S$2,'LIVRET Compétences'!G359,\"\")","v":""},{"$f":"IF('LIVRET Compétences'!H359=$S$2,'LIVRET Compétences'!C359,\"\")","v":""},{"$f":"IF('LIVRET Compétences'!H359=$W$2,'LIVRET Compétences'!I359,\"\")","v":""},{"$f":"IF('LIVRET Compétences'!H359=$W$2,'LIVRET Compétences'!E359,\"\")","v":""},{"$f":"IF('LIVRET Compétences'!H359=$W$2,'LIVRET Compétences'!G359,\"\")","v":""},{"$f":"IF('LIVRET Compétences'!H359=$W$2,'LIVRET Compétences'!C359,\"\")","v":""}]
[null,null,null,null,null,null,null,null,null,null,null,null,null,null,{"$f":"IF('LIVRET Compétences'!H360=$O$2,'LIVRET Compétences'!I360,\"\")","v":""},{"$f":"IF('LIVRET Compétences'!H360=$O$2,'LIVRET Compétences'!E360,\"\")","v":""},{"$f":"IF('LIVRET Compétences'!H360=$O$2,'LIVRET Compétences'!G360,\"\")","v":""},{"$f":"IF('LIVRET Compétences'!H360=$O$2,'LIVRET Compétences'!C360,\"\")","v":""},{"$f":"IF('LIVRET Compétences'!H360=$S$2,'LIVRET Compétences'!I360,\"\")","v":""},{"$f":"IF('LIVRET Compétences'!H360=$S$2,'LIVRET Compétences'!E360,\"\")","v":""},{"$f":"IF('LIVRET Compétences'!H360=$S$2,'LIVRET Compétences'!G360,\"\")","v":""},{"$f":"IF('LIVRET Compétences'!H360=$S$2,'LIVRET Compétences'!C360,\"\")","v":""},{"$f":"IF('LIVRET Compétences'!H360=$W$2,'LIVRET Compétences'!I360,\"\")","v":""},{"$f":"IF('LIVRET Compétences'!H360=$W$2,'LIVRET Compétences'!E360,\"\")","v":""},{"$f":"IF('LIVRET Compétences'!H360=$W$2,'LIVRET Compétences'!G360,\"\")","v":""},{"$f":"IF('LIVRET Compétences'!H360=$W$2,'LIVRET Compétences'!C360,\"\")","v":""}]
[null,null,null,null,null,null,null,null,null,null,null,null,null,null,{"$f":"IF('LIVRET Compétences'!H361=$O$2,'LIVRET Compétences'!I361,\"\")","v":""},{"$f":"IF('LIVRET Compétences'!H361=$O$2,'LIVRET Compétences'!E361,\"\")","v":""},{"$f":"IF('LIVRET Compétences'!H361=$O$2,'LIVRET Compétences'!G361,\"\")","v":""},{"$f":"IF('LIVRET Compétences'!H361=$O$2,'LIVRET Compétences'!C361,\"\")","v":""},{"$f":"IF('LIVRET Compétences'!H361=$S$2,'LIVRET Compétences'!I361,\"\")","v":""},{"$f":"IF('LIVRET Compétences'!H361=$S$2,'LIVRET Compétences'!E361,\"\")","v":""},{"$f":"IF('LIVRET Compétences'!H361=$S$2,'LIVRET Compétences'!G361,\"\")","v":""},{"$f":"IF('LIVRET Compétences'!H361=$S$2,'LIVRET Compétences'!C361,\"\")","v":""},{"$f":"IF('LIVRET Compétences'!H361=$W$2,'LIVRET Compétences'!I361,\"\")","v":""},{"$f":"IF('LIVRET Compétences'!H361=$W$2,'LIVRET Compétences'!E361,\"\")","v":""},{"$f":"IF('LIVRET Compétences'!H361=$W$2,'LIVRET Compétences'!G361,\"\")","v":""},{"$f":"IF('LIVRET Compétences'!H361=$W$2,'LIVRET Compétences'!C361,\"\")","v":""}]
[null,null,null,null,null,null,null,null,null,null,null,null,null,null,{"$f":"IF('LIVRET Compétences'!H362=$O$2,'LIVRET Compétences'!I362,\"\")","v":""},{"$f":"IF('LIVRET Compétences'!H362=$O$2,'LIVRET Compétences'!E362,\"\")","v":""},{"$f":"IF('LIVRET Compétences'!H362=$O$2,'LIVRET Compétences'!G362,\"\")","v":""},{"$f":"IF('LIVRET Compétences'!H362=$O$2,'LIVRET Compétences'!C362,\"\")","v":""},{"$f":"IF('LIVRET Compétences'!H362=$S$2,'LIVRET Compétences'!I362,\"\")","v":""},{"$f":"IF('LIVRET Compétences'!H362=$S$2,'LIVRET Compétences'!E362,\"\")","v":""},{"$f":"IF('LIVRET Compétences'!H362=$S$2,'LIVRET Compétences'!G362,\"\")","v":""},{"$f":"IF('LIVRET Compétences'!H362=$S$2,'LIVRET Compétences'!C362,\"\")","v":""},{"$f":"IF('LIVRET Compétences'!H362=$W$2,'LIVRET Compétences'!I362,\"\")","v":""},{"$f":"IF('LIVRET Compétences'!H362=$W$2,'LIVRET Compétences'!E362,\"\")","v":""},{"$f":"IF('LIVRET Compétences'!H362=$W$2,'LIVRET Compétences'!G362,\"\")","v":""},{"$f":"IF('LIVRET Compétences'!H362=$W$2,'LIVRET Compétences'!C362,\"\")","v":""}]
[null,null,null,null,null,null,null,null,null,null,null,null,null,null,{"$f":"IF('LIVRET Compétences'!H363=$O$2,'LIVRET Compétences'!I363,\"\")","v":""},{"$f":"IF('LIVRET Compétences'!H363=$O$2,'LIVRET Compétences'!E363,\"\")","v":""},{"$f":"IF('LIVRET Compétences'!H363=$O$2,'LIVRET Compétences'!G363,\"\")","v":""},{"$f":"IF('LIVRET Compétences'!H363=$O$2,'LIVRET Compétences'!C363,\"\")","v":""},{"$f":"IF('LIVRET Compétences'!H363=$S$2,'LIVRET Compétences'!I363,\"\")","v":""},{"$f":"IF('LIVRET Compétences'!H363=$S$2,'LIVRET Compétences'!E363,\"\")","v":""},{"$f":"IF('LIVRET Compétences'!H363=$S$2,'LIVRET Compétences'!G363,\"\")","v":""},{"$f":"IF('LIVRET Compétences'!H363=$S$2,'LIVRET Compétences'!C363,\"\")","v":""},{"$f":"IF('LIVRET Compétences'!H363=$W$2,'LIVRET Compétences'!I363,\"\")","v":""},{"$f":"IF('LIVRET Compétences'!H363=$W$2,'LIVRET Compétences'!E363,\"\")","v":""},{"$f":"IF('LIVRET Compétences'!H363=$W$2,'LIVRET Compétences'!G363,\"\")","v":""},{"$f":"IF('LIVRET Compétences'!H363=$W$2,'LIVRET Compétences'!C363,\"\")","v":""}]
[null,null,null,null,null,null,null,null,null,null,null,null,null,null,{"$f":"IF('LIVRET Compétences'!H364=$O$2,'LIVRET Compétences'!I364,\"\")","v":""},{"$f":"IF('LIVRET Compétences'!H364=$O$2,'LIVRET Compétences'!E364,\"\")","v":""},{"$f":"IF('LIVRET Compétences'!H364=$O$2,'LIVRET Compétences'!G364,\"\")","v":""},{"$f":"IF('LIVRET Compétences'!H364=$O$2,'LIVRET Compétences'!C364,\"\")","v":""},{"$f":"IF('LIVRET Compétences'!H364=$S$2,'LIVRET Compétences'!I364,\"\")","v":""},{"$f":"IF('LIVRET Compétences'!H364=$S$2,'LIVRET Compétences'!E364,\"\")","v":""},{"$f":"IF('LIVRET Compétences'!H364=$S$2,'LIVRET Compétences'!G364,\"\")","v":""},{"$f":"IF('LIVRET Compétences'!H364=$S$2,'LIVRET Compétences'!C364,\"\")","v":""},{"$f":"IF('LIVRET Compétences'!H364=$W$2,'LIVRET Compétences'!I364,\"\")","v":""},{"$f":"IF('LIVRET Compétences'!H364=$W$2,'LIVRET Compétences'!E364,\"\")","v":""},{"$f":"IF('LIVRET Compétences'!H364=$W$2,'LIVRET Compétences'!G364,\"\")","v":""},{"$f":"IF('LIVRET Compétences'!H364=$W$2,'LIVRET Compétences'!C364,\"\")","v":""}]
[null,null,null,null,null,null,null,null,null,null,null,null,null,null,{"$f":"IF('LIVRET Compétences'!H365=$O$2,'LIVRET Compétences'!I365,\"\")","v":""},{"$f":"IF('LIVRET Compétences'!H365=$O$2,'LIVRET Compétences'!E365,\"\")","v":""},{"$f":"IF('LIVRET Compétences'!H365=$O$2,'LIVRET Compétences'!G365,\"\")","v":""},{"$f":"IF('LIVRET Compétences'!H365=$O$2,'LIVRET Compétences'!C365,\"\")","v":""},{"$f":"IF('LIVRET Compétences'!H365=$S$2,'LIVRET Compétences'!I365,\"\")","v":""},{"$f":"IF('LIVRET Compétences'!H365=$S$2,'LIVRET Compétences'!E365,\"\")","v":""},{"$f":"IF('LIVRET Compétences'!H365=$S$2,'LIVRET Compétences'!G365,\"\")","v":""},{"$f":"IF('LIVRET Compétences'!H365=$S$2,'LIVRET Compétences'!C365,\"\")","v":""},{"$f":"IF('LIVRET Compétences'!H365=$W$2,'LIVRET Compétences'!I365,\"\")","v":""},{"$f":"IF('LIVRET Compétences'!H365=$W$2,'LIVRET Compétences'!E365,\"\")","v":""},{"$f":"IF('LIVRET Compétences'!H365=$W$2,'LIVRET Compétences'!G365,\"\")","v":""},{"$f":"IF('LIVRET Compétences'!H365=$W$2,'LIVRET Compétences'!C365,\"\")","v":""}]
[null,null,null,null,null,null,null,null,null,null,null,null,null,null,{"$f":"IF('LIVRET Compétences'!H366=$O$2,'LIVRET Compétences'!I366,\"\")","v":""},{"$f":"IF('LIVRET Compétences'!H366=$O$2,'LIVRET Compétences'!E366,\"\")","v":""},{"$f":"IF('LIVRET Compétences'!H366=$O$2,'LIVRET Compétences'!G366,\"\")","v":""},{"$f":"IF('LIVRET Compétences'!H366=$O$2,'LIVRET Compétences'!C366,\"\")","v":""},{"$f":"IF('LIVRET Compétences'!H366=$S$2,'LIVRET Compétences'!I366,\"\")","v":""},{"$f":"IF('LIVRET Compétences'!H366=$S$2,'LIVRET Compétences'!E366,\"\")","v":""},{"$f":"IF('LIVRET Compétences'!H366=$S$2,'LIVRET Compétences'!G366,\"\")","v":""},{"$f":"IF('LIVRET Compétences'!H366=$S$2,'LIVRET Compétences'!C366,\"\")","v":""},{"$f":"IF('LIVRET Compétences'!H366=$W$2,'LIVRET Compétences'!I366,\"\")","v":""},{"$f":"IF('LIVRET Compétences'!H366=$W$2,'LIVRET Compétences'!E366,\"\")","v":""},{"$f":"IF('LIVRET Compétences'!H366=$W$2,'LIVRET Compétences'!G366,\"\")","v":""},{"$f":"IF('LIVRET Compétences'!H366=$W$2,'LIVRET Compétences'!C366,\"\")","v":""}]
[null,null,null,null,null,null,null,null,null,null,null,null,null,null,{"$f":"IF('LIVRET Compétences'!H367=$O$2,'LIVRET Compétences'!I367,\"\")","v":""},{"$f":"IF('LIVRET Compétences'!H367=$O$2,'LIVRET Compétences'!E367,\"\")","v":""},{"$f":"IF('LIVRET Compétences'!H367=$O$2,'LIVRET Compétences'!G367,\"\")","v":""},{"$f":"IF('LIVRET Compétences'!H367=$O$2,'LIVRET Compétences'!C367,\"\")","v":""},{"$f":"IF('LIVRET Compétences'!H367=$S$2,'LIVRET Compétences'!I367,\"\")","v":""},{"$f":"IF('LIVRET Compétences'!H367=$S$2,'LIVRET Compétences'!E367,\"\")","v":""},{"$f":"IF('LIVRET Compétences'!H367=$S$2,'LIVRET Compétences'!G367,\"\")","v":""},{"$f":"IF('LIVRET Compétences'!H367=$S$2,'LIVRET Compétences'!C367,\"\")","v":""},{"$f":"IF('LIVRET Compétences'!H367=$W$2,'LIVRET Compétences'!I367,\"\")","v":""},{"$f":"IF('LIVRET Compétences'!H367=$W$2,'LIVRET Compétences'!E367,\"\")","v":""},{"$f":"IF('LIVRET Compétences'!H367=$W$2,'LIVRET Compétences'!G367,\"\")","v":""},{"$f":"IF('LIVRET Compétences'!H367=$W$2,'LIVRET Compétences'!C367,\"\")","v":""}]
[null,null,null,null,null,null,null,null,null,null,null,null,null,null,{"$f":"IF('LIVRET Compétences'!H368=$O$2,'LIVRET Compétences'!I368,\"\")","v":""},{"$f":"IF('LIVRET Compétences'!H368=$O$2,'LIVRET Compétences'!E368,\"\")","v":""},{"$f":"IF('LIVRET Compétences'!H368=$O$2,'LIVRET Compétences'!G368,\"\")","v":""},{"$f":"IF('LIVRET Compétences'!H368=$O$2,'LIVRET Compétences'!C368,\"\")","v":""},{"$f":"IF('LIVRET Compétences'!H368=$S$2,'LIVRET Compétences'!I368,\"\")","v":""},{"$f":"IF('LIVRET Compétences'!H368=$S$2,'LIVRET Compétences'!E368,\"\")","v":""},{"$f":"IF('LIVRET Compétences'!H368=$S$2,'LIVRET Compétences'!G368,\"\")","v":""},{"$f":"IF('LIVRET Compétences'!H368=$S$2,'LIVRET Compétences'!C368,\"\")","v":""},{"$f":"IF('LIVRET Compétences'!H368=$W$2,'LIVRET Compétences'!I368,\"\")","v":""},{"$f":"IF('LIVRET Compétences'!H368=$W$2,'LIVRET Compétences'!E368,\"\")","v":""},{"$f":"IF('LIVRET Compétences'!H368=$W$2,'LIVRET Compétences'!G368,\"\")","v":""},{"$f":"IF('LIVRET Compétences'!H368=$W$2,'LIVRET Compétences'!C368,\"\")","v":""}]
[null,null,null,null,null,null,null,null,null,null,null,null,null,null,{"$f":"IF('LIVRET Compétences'!H369=$O$2,'LIVRET Compétences'!I369,\"\")","v":""},{"$f":"IF('LIVRET Compétences'!H369=$O$2,'LIVRET Compétences'!E369,\"\")","v":""},{"$f":"IF('LIVRET Compétences'!H369=$O$2,'LIVRET Compétences'!G369,\"\")","v":""},{"$f":"IF('LIVRET Compétences'!H369=$O$2,'LIVRET Compétences'!C369,\"\")","v":""},{"$f":"IF('LIVRET Compétences'!H369=$S$2,'LIVRET Compétences'!I369,\"\")","v":""},{"$f":"IF('LIVRET Compétences'!H369=$S$2,'LIVRET Compétences'!E369,\"\")","v":""},{"$f":"IF('LIVRET Compétences'!H369=$S$2,'LIVRET Compétences'!G369,\"\")","v":""},{"$f":"IF('LIVRET Compétences'!H369=$S$2,'LIVRET Compétences'!C369,\"\")","v":""},{"$f":"IF('LIVRET Compétences'!H369=$W$2,'LIVRET Compétences'!I369,\"\")","v":""},{"$f":"IF('LIVRET Compétences'!H369=$W$2,'LIVRET Compétences'!E369,\"\")","v":""},{"$f":"IF('LIVRET Compétences'!H369=$W$2,'LIVRET Compétences'!G369,\"\")","v":""},{"$f":"IF('LIVRET Compétences'!H369=$W$2,'LIVRET Compétences'!C369,\"\")","v":""}]
[null,null,null,null,null,null,null,null,null,null,null,null,null,null,{"$f":"IF('LIVRET Compétences'!H370=$O$2,'LIVRET Compétences'!I370,\"\")","v":""},{"$f":"IF('LIVRET Compétences'!H370=$O$2,'LIVRET Compétences'!E370,\"\")","v":""},{"$f":"IF('LIVRET Compétences'!H370=$O$2,'LIVRET Compétences'!G370,\"\")","v":""},{"$f":"IF('LIVRET Compétences'!H370=$O$2,'LIVRET Compétences'!C370,\"\")","v":""},{"$f":"IF('LIVRET Compétences'!H370=$S$2,'LIVRET Compétences'!I370,\"\")","v":""},{"$f":"IF('LIVRET Compétences'!H370=$S$2,'LIVRET Compétences'!E370,\"\")","v":""},{"$f":"IF('LIVRET Compétences'!H370=$S$2,'LIVRET Compétences'!G370,\"\")","v":""},{"$f":"IF('LIVRET Compétences'!H370=$S$2,'LIVRET Compétences'!C370,\"\")","v":""},{"$f":"IF('LIVRET Compétences'!H370=$W$2,'LIVRET Compétences'!I370,\"\")","v":""},{"$f":"IF('LIVRET Compétences'!H370=$W$2,'LIVRET Compétences'!E370,\"\")","v":""},{"$f":"IF('LIVRET Compétences'!H370=$W$2,'LIVRET Compétences'!G370,\"\")","v":""},{"$f":"IF('LIVRET Compétences'!H370=$W$2,'LIVRET Compétences'!C370,\"\")","v":""}]
[null,null,null,null,null,null,null,null,null,null,null,null,null,null,{"$f":"IF('LIVRET Compétences'!H371=$O$2,'LIVRET Compétences'!I371,\"\")","v":""},{"$f":"IF('LIVRET Compétences'!H371=$O$2,'LIVRET Compétences'!E371,\"\")","v":""},{"$f":"IF('LIVRET Compétences'!H371=$O$2,'LIVRET Compétences'!G371,\"\")","v":""},{"$f":"IF('LIVRET Compétences'!H371=$O$2,'LIVRET Compétences'!C371,\"\")","v":""},{"$f":"IF('LIVRET Compétences'!H371=$S$2,'LIVRET Compétences'!I371,\"\")","v":""},{"$f":"IF('LIVRET Compétences'!H371=$S$2,'LIVRET Compétences'!E371,\"\")","v":""},{"$f":"IF('LIVRET Compétences'!H371=$S$2,'LIVRET Compétences'!G371,\"\")","v":""},{"$f":"IF('LIVRET Compétences'!H371=$S$2,'LIVRET Compétences'!C371,\"\")","v":""},{"$f":"IF('LIVRET Compétences'!H371=$W$2,'LIVRET Compétences'!I371,\"\")","v":""},{"$f":"IF('LIVRET Compétences'!H371=$W$2,'LIVRET Compétences'!E371,\"\")","v":""},{"$f":"IF('LIVRET Compétences'!H371=$W$2,'LIVRET Compétences'!G371,\"\")","v":""},{"$f":"IF('LIVRET Compétences'!H371=$W$2,'LIVRET Compétences'!C371,\"\")","v":""}]
[null,null,null,null,null,null,null,null,null,null,null,null,null,null,{"$f":"IF('LIVRET Compétences'!H372=$O$2,'LIVRET Compétences'!I372,\"\")","v":""},{"$f":"IF('LIVRET Compétences'!H372=$O$2,'LIVRET Compétences'!E372,\"\")","v":""},{"$f":"IF('LIVRET Compétences'!H372=$O$2,'LIVRET Compétences'!G372,\"\")","v":""},{"$f":"IF('LIVRET Compétences'!H372=$O$2,'LIVRET Compétences'!C372,\"\")","v":""},{"$f":"IF('LIVRET Compétences'!H372=$S$2,'LIVRET Compétences'!I372,\"\")","v":""},{"$f":"IF('LIVRET Compétences'!H372=$S$2,'LIVRET Compétences'!E372,\"\")","v":""},{"$f":"IF('LIVRET Compétences'!H372=$S$2,'LIVRET Compétences'!G372,\"\")","v":""},{"$f":"IF('LIVRET Compétences'!H372=$S$2,'LIVRET Compétences'!C372,\"\")","v":""},{"$f":"IF('LIVRET Compétences'!H372=$W$2,'LIVRET Compétences'!I372,\"\")","v":""},{"$f":"IF('LIVRET Compétences'!H372=$W$2,'LIVRET Compétences'!E372,\"\")","v":""},{"$f":"IF('LIVRET Compétences'!H372=$W$2,'LIVRET Compétences'!G372,\"\")","v":""},{"$f":"IF('LIVRET Compétences'!H372=$W$2,'LIVRET Compétences'!C372,\"\")","v":""}]
[null,null,null,null,null,null,null,null,null,null,null,null,null,null,{"$f":"IF('LIVRET Compétences'!H373=$O$2,'LIVRET Compétences'!I373,\"\")","v":""},{"$f":"IF('LIVRET Compétences'!H373=$O$2,'LIVRET Compétences'!E373,\"\")","v":""},{"$f":"IF('LIVRET Compétences'!H373=$O$2,'LIVRET Compétences'!G373,\"\")","v":""},{"$f":"IF('LIVRET Compétences'!H373=$O$2,'LIVRET Compétences'!C373,\"\")","v":""},{"$f":"IF('LIVRET Compétences'!H373=$S$2,'LIVRET Compétences'!I373,\"\")","v":""},{"$f":"IF('LIVRET Compétences'!H373=$S$2,'LIVRET Compétences'!E373,\"\")","v":""},{"$f":"IF('LIVRET Compétences'!H373=$S$2,'LIVRET Compétences'!G373,\"\")","v":""},{"$f":"IF('LIVRET Compétences'!H373=$S$2,'LIVRET Compétences'!C373,\"\")","v":""},{"$f":"IF('LIVRET Compétences'!H373=$W$2,'LIVRET Compétences'!I373,\"\")","v":""},{"$f":"IF('LIVRET Compétences'!H373=$W$2,'LIVRET Compétences'!E373,\"\")","v":""},{"$f":"IF('LIVRET Compétences'!H373=$W$2,'LIVRET Compétences'!G373,\"\")","v":""},{"$f":"IF('LIVRET Compétences'!H373=$W$2,'LIVRET Compétences'!C373,\"\")","v":""}]
[null,null,null,null,null,null,null,null,null,null,null,null,null,null,{"$f":"IF('LIVRET Compétences'!H374=$O$2,'LIVRET Compétences'!I374,\"\")","v":""},{"$f":"IF('LIVRET Compétences'!H374=$O$2,'LIVRET Compétences'!E374,\"\")","v":""},{"$f":"IF('LIVRET Compétences'!H374=$O$2,'LIVRET Compétences'!G374,\"\")","v":""},{"$f":"IF('LIVRET Compétences'!H374=$O$2,'LIVRET Compétences'!C374,\"\")","v":""},{"$f":"IF('LIVRET Compétences'!H374=$S$2,'LIVRET Compétences'!I374,\"\")","v":""},{"$f":"IF('LIVRET Compétences'!H374=$S$2,'LIVRET Compétences'!E374,\"\")","v":""},{"$f":"IF('LIVRET Compétences'!H374=$S$2,'LIVRET Compétences'!G374,\"\")","v":""},{"$f":"IF('LIVRET Compétences'!H374=$S$2,'LIVRET Compétences'!C374,\"\")","v":""},{"$f":"IF('LIVRET Compétences'!H374=$W$2,'LIVRET Compétences'!I374,\"\")","v":""},{"$f":"IF('LIVRET Compétences'!H374=$W$2,'LIVRET Compétences'!E374,\"\")","v":""},{"$f":"IF('LIVRET Compétences'!H374=$W$2,'LIVRET Compétences'!G374,\"\")","v":""},{"$f":"IF('LIVRET Compétences'!H374=$W$2,'LIVRET Compétences'!C374,\"\")","v":""}]
[null,null,null,null,null,null,null,null,null,null,null,null,null,null,{"$f":"IF('LIVRET Compétences'!H375=$O$2,'LIVRET Compétences'!I375,\"\")","v":""},{"$f":"IF('LIVRET Compétences'!H375=$O$2,'LIVRET Compétences'!E375,\"\")","v":""},{"$f":"IF('LIVRET Compétences'!H375=$O$2,'LIVRET Compétences'!G375,\"\")","v":""},{"$f":"IF('LIVRET Compétences'!H375=$O$2,'LIVRET Compétences'!C375,\"\")","v":""},{"$f":"IF('LIVRET Compétences'!H375=$S$2,'LIVRET Compétences'!I375,\"\")","v":""},{"$f":"IF('LIVRET Compétences'!H375=$S$2,'LIVRET Compétences'!E375,\"\")","v":""},{"$f":"IF('LIVRET Compétences'!H375=$S$2,'LIVRET Compétences'!G375,\"\")","v":""},{"$f":"IF('LIVRET Compétences'!H375=$S$2,'LIVRET Compétences'!C375,\"\")","v":""},{"$f":"IF('LIVRET Compétences'!H375=$W$2,'LIVRET Compétences'!I375,\"\")","v":""},{"$f":"IF('LIVRET Compétences'!H375=$W$2,'LIVRET Compétences'!E375,\"\")","v":""},{"$f":"IF('LIVRET Compétences'!H375=$W$2,'LIVRET Compétences'!G375,\"\")","v":""},{"$f":"IF('LIVRET Compétences'!H375=$W$2,'LIVRET Compétences'!C375,\"\")","v":""}]
[null,null,null,null,null,null,null,null,null,null,null,null,null,null,{"$f":"IF('LIVRET Compétences'!H376=$O$2,'LIVRET Compétences'!I376,\"\")","v":""},{"$f":"IF('LIVRET Compétences'!H376=$O$2,'LIVRET Compétences'!E376,\"\")","v":""},{"$f":"IF('LIVRET Compétences'!H376=$O$2,'LIVRET Compétences'!G376,\"\")","v":""},{"$f":"IF('LIVRET Compétences'!H376=$O$2,'LIVRET Compétences'!C376,\"\")","v":""},{"$f":"IF('LIVRET Compétences'!H376=$S$2,'LIVRET Compétences'!I376,\"\")","v":""},{"$f":"IF('LIVRET Compétences'!H376=$S$2,'LIVRET Compétences'!E376,\"\")","v":""},{"$f":"IF('LIVRET Compétences'!H376=$S$2,'LIVRET Compétences'!G376,\"\")","v":""},{"$f":"IF('LIVRET Compétences'!H376=$S$2,'LIVRET Compétences'!C376,\"\")","v":""},{"$f":"IF('LIVRET Compétences'!H376=$W$2,'LIVRET Compétences'!I376,\"\")","v":""},{"$f":"IF('LIVRET Compétences'!H376=$W$2,'LIVRET Compétences'!E376,\"\")","v":""},{"$f":"IF('LIVRET Compétences'!H376=$W$2,'LIVRET Compétences'!G376,\"\")","v":""},{"$f":"IF('LIVRET Compétences'!H376=$W$2,'LIVRET Compétences'!C376,\"\")","v":""}]
[null,null,null,null,null,null,null,null,null,null,null,null,null,null,{"$f":"IF('LIVRET Compétences'!H377=$O$2,'LIVRET Compétences'!I377,\"\")","v":""},{"$f":"IF('LIVRET Compétences'!H377=$O$2,'LIVRET Compétences'!E377,\"\")","v":""},{"$f":"IF('LIVRET Compétences'!H377=$O$2,'LIVRET Compétences'!G377,\"\")","v":""},{"$f":"IF('LIVRET Compétences'!H377=$O$2,'LIVRET Compétences'!C377,\"\")","v":""},{"$f":"IF('LIVRET Compétences'!H377=$S$2,'LIVRET Compétences'!I377,\"\")","v":""},{"$f":"IF('LIVRET Compétences'!H377=$S$2,'LIVRET Compétences'!E377,\"\")","v":""},{"$f":"IF('LIVRET Compétences'!H377=$S$2,'LIVRET Compétences'!G377,\"\")","v":""},{"$f":"IF('LIVRET Compétences'!H377=$S$2,'LIVRET Compétences'!C377,\"\")","v":""},{"$f":"IF('LIVRET Compétences'!H377=$W$2,'LIVRET Compétences'!I377,\"\")","v":""},{"$f":"IF('LIVRET Compétences'!H377=$W$2,'LIVRET Compétences'!E377,\"\")","v":""},{"$f":"IF('LIVRET Compétences'!H377=$W$2,'LIVRET Compétences'!G377,\"\")","v":""},{"$f":"IF('LIVRET Compétences'!H377=$W$2,'LIVRET Compétences'!C377,\"\")","v":""}]
[null,null,null,null,null,null,null,null,null,null,null,null,null,null,{"$f":"IF('LIVRET Compétences'!H378=$O$2,'LIVRET Compétences'!I378,\"\")","v":""},{"$f":"IF('LIVRET Compétences'!H378=$O$2,'LIVRET Compétences'!E378,\"\")","v":""},{"$f":"IF('LIVRET Compétences'!H378=$O$2,'LIVRET Compétences'!G378,\"\")","v":""},{"$f":"IF('LIVRET Compétences'!H378=$O$2,'LIVRET Compétences'!C378,\"\")","v":""},{"$f":"IF('LIVRET Compétences'!H378=$S$2,'LIVRET Compétences'!I378,\"\")","v":""},{"$f":"IF('LIVRET Compétences'!H378=$S$2,'LIVRET Compétences'!E378,\"\")","v":""},{"$f":"IF('LIVRET Compétences'!H378=$S$2,'LIVRET Compétences'!G378,\"\")","v":""},{"$f":"IF('LIVRET Compétences'!H378=$S$2,'LIVRET Compétences'!C378,\"\")","v":""},{"$f":"IF('LIVRET Compétences'!H378=$W$2,'LIVRET Compétences'!I378,\"\")","v":""},{"$f":"IF('LIVRET Compétences'!H378=$W$2,'LIVRET Compétences'!E378,\"\")","v":""},{"$f":"IF('LIVRET Compétences'!H378=$W$2,'LIVRET Compétences'!G378,\"\")","v":""},{"$f":"IF('LIVRET Compétences'!H378=$W$2,'LIVRET Compétences'!C378,\"\")","v":""}]
[null,null,null,null,null,null,null,null,null,null,null,null,null,null,{"$f":"IF('LIVRET Compétences'!H379=$O$2,'LIVRET Compétences'!I379,\"\")","v":""},{"$f":"IF('LIVRET Compétences'!H379=$O$2,'LIVRET Compétences'!E379,\"\")","v":""},{"$f":"IF('LIVRET Compétences'!H379=$O$2,'LIVRET Compétences'!G379,\"\")","v":""},{"$f":"IF('LIVRET Compétences'!H379=$O$2,'LIVRET Compétences'!C379,\"\")","v":""},{"$f":"IF('LIVRET Compétences'!H379=$S$2,'LIVRET Compétences'!I379,\"\")","v":""},{"$f":"IF('LIVRET Compétences'!H379=$S$2,'LIVRET Compétences'!E379,\"\")","v":""},{"$f":"IF('LIVRET Compétences'!H379=$S$2,'LIVRET Compétences'!G379,\"\")","v":""},{"$f":"IF('LIVRET Compétences'!H379=$S$2,'LIVRET Compétences'!C379,\"\")","v":""},{"$f":"IF('LIVRET Compétences'!H379=$W$2,'LIVRET Compétences'!I379,\"\")","v":""},{"$f":"IF('LIVRET Compétences'!H379=$W$2,'LIVRET Compétences'!E379,\"\")","v":""},{"$f":"IF('LIVRET Compétences'!H379=$W$2,'LIVRET Compétences'!G379,\"\")","v":""},{"$f":"IF('LIVRET Compétences'!H379=$W$2,'LIVRET Compétences'!C379,\"\")","v":""}]
[null,null,null,null,null,null,null,null,null,null,null,null,null,null,{"$f":"IF('LIVRET Compétences'!H380=$O$2,'LIVRET Compétences'!I380,\"\")","v":""},{"$f":"IF('LIVRET Compétences'!H380=$O$2,'LIVRET Compétences'!E380,\"\")","v":""},{"$f":"IF('LIVRET Compétences'!H380=$O$2,'LIVRET Compétences'!G380,\"\")","v":""},{"$f":"IF('LIVRET Compétences'!H380=$O$2,'LIVRET Compétences'!C380,\"\")","v":""},{"$f":"IF('LIVRET Compétences'!H380=$S$2,'LIVRET Compétences'!I380,\"\")","v":""},{"$f":"IF('LIVRET Compétences'!H380=$S$2,'LIVRET Compétences'!E380,\"\")","v":""},{"$f":"IF('LIVRET Compétences'!H380=$S$2,'LIVRET Compétences'!G380,\"\")","v":""},{"$f":"IF('LIVRET Compétences'!H380=$S$2,'LIVRET Compétences'!C380,\"\")","v":""},{"$f":"IF('LIVRET Compétences'!H380=$W$2,'LIVRET Compétences'!I380,\"\")","v":""},{"$f":"IF('LIVRET Compétences'!H380=$W$2,'LIVRET Compétences'!E380,\"\")","v":""},{"$f":"IF('LIVRET Compétences'!H380=$W$2,'LIVRET Compétences'!G380,\"\")","v":""},{"$f":"IF('LIVRET Compétences'!H380=$W$2,'LIVRET Compétences'!C380,\"\")","v":""}]
[null,null,null,null,null,null,null,null,null,null,null,null,null,null,{"$f":"IF('LIVRET Compétences'!H381=$O$2,'LIVRET Compétences'!I381,\"\")","v":""},{"$f":"IF('LIVRET Compétences'!H381=$O$2,'LIVRET Compétences'!E381,\"\")","v":""},{"$f":"IF('LIVRET Compétences'!H381=$O$2,'LIVRET Compétences'!G381,\"\")","v":""},{"$f":"IF('LIVRET Compétences'!H381=$O$2,'LIVRET Compétences'!C381,\"\")","v":""},{"$f":"IF('LIVRET Compétences'!H381=$S$2,'LIVRET Compétences'!I381,\"\")","v":""},{"$f":"IF('LIVRET Compétences'!H381=$S$2,'LIVRET Compétences'!E381,\"\")","v":""},{"$f":"IF('LIVRET Compétences'!H381=$S$2,'LIVRET Compétences'!G381,\"\")","v":""},{"$f":"IF('LIVRET Compétences'!H381=$S$2,'LIVRET Compétences'!C381,\"\")","v":""},{"$f":"IF('LIVRET Compétences'!H381=$W$2,'LIVRET Compétences'!I381,\"\")","v":""},{"$f":"IF('LIVRET Compétences'!H381=$W$2,'LIVRET Compétences'!E381,\"\")","v":""},{"$f":"IF('LIVRET Compétences'!H381=$W$2,'LIVRET Compétences'!G381,\"\")","v":""},{"$f":"IF('LIVRET Compétences'!H381=$W$2,'LIVRET Compétences'!C381,\"\")","v":""}]
[null,null,null,null,null,null,null,null,null,null,null,null,null,null,{"$f":"IF('LIVRET Compétences'!H382=$O$2,'LIVRET Compétences'!I382,\"\")","v":""},{"$f":"IF('LIVRET Compétences'!H382=$O$2,'LIVRET Compétences'!E382,\"\")","v":""},{"$f":"IF('LIVRET Compétences'!H382=$O$2,'LIVRET Compétences'!G382,\"\")","v":""},{"$f":"IF('LIVRET Compétences'!H382=$O$2,'LIVRET Compétences'!C382,\"\")","v":""},{"$f":"IF('LIVRET Compétences'!H382=$S$2,'LIVRET Compétences'!I382,\"\")","v":""},{"$f":"IF('LIVRET Compétences'!H382=$S$2,'LIVRET Compétences'!E382,\"\")","v":""},{"$f":"IF('LIVRET Compétences'!H382=$S$2,'LIVRET Compétences'!G382,\"\")","v":""},{"$f":"IF('LIVRET Compétences'!H382=$S$2,'LIVRET Compétences'!C382,\"\")","v":""},{"$f":"IF('LIVRET Compétences'!H382=$W$2,'LIVRET Compétences'!I382,\"\")","v":""},{"$f":"IF('LIVRET Compétences'!H382=$W$2,'LIVRET Compétences'!E382,\"\")","v":""},{"$f":"IF('LIVRET Compétences'!H382=$W$2,'LIVRET Compétences'!G382,\"\")","v":""},{"$f":"IF('LIVRET Compétences'!H382=$W$2,'LIVRET Compétences'!C382,\"\")","v":""}]
[null,null,null,null,null,null,null,null,null,null,null,null,null,null,{"$f":"IF('LIVRET Compétences'!H383=$O$2,'LIVRET Compétences'!I383,\"\")","v":""},{"$f":"IF('LIVRET Compétences'!H383=$O$2,'LIVRET Compétences'!E383,\"\")","v":""},{"$f":"IF('LIVRET Compétences'!H383=$O$2,'LIVRET Compétences'!G383,\"\")","v":""},{"$f":"IF('LIVRET Compétences'!H383=$O$2,'LIVRET Compétences'!C383,\"\")","v":""},{"$f":"IF('LIVRET Compétences'!H383=$S$2,'LIVRET Compétences'!I383,\"\")","v":""},{"$f":"IF('LIVRET Compétences'!H383=$S$2,'LIVRET Compétences'!E383,\"\")","v":""},{"$f":"IF('LIVRET Compétences'!H383=$S$2,'LIVRET Compétences'!G383,\"\")","v":""},{"$f":"IF('LIVRET Compétences'!H383=$S$2,'LIVRET Compétences'!C383,\"\")","v":""},{"$f":"IF('LIVRET Compétences'!H383=$W$2,'LIVRET Compétences'!I383,\"\")","v":""},{"$f":"IF('LIVRET Compétences'!H383=$W$2,'LIVRET Compétences'!E383,\"\")","v":""},{"$f":"IF('LIVRET Compétences'!H383=$W$2,'LIVRET Compétences'!G383,\"\")","v":""},{"$f":"IF('LIVRET Compétences'!H383=$W$2,'LIVRET Compétences'!C383,\"\")","v":""}]
[null,null,null,null,null,null,null,null,null,null,null,null,null,null,{"$f":"IF('LIVRET Compétences'!H384=$O$2,'LIVRET Compétences'!I384,\"\")","v":""},{"$f":"IF('LIVRET Compétences'!H384=$O$2,'LIVRET Compétences'!E384,\"\")","v":""},{"$f":"IF('LIVRET Compétences'!H384=$O$2,'LIVRET Compétences'!G384,\"\")","v":""},{"$f":"IF('LIVRET Compétences'!H384=$O$2,'LIVRET Compétences'!C384,\"\")","v":""},{"$f":"IF('LIVRET Compétences'!H384=$S$2,'LIVRET Compétences'!I384,\"\")","v":""},{"$f":"IF('LIVRET Compétences'!H384=$S$2,'LIVRET Compétences'!E384,\"\")","v":""},{"$f":"IF('LIVRET Compétences'!H384=$S$2,'LIVRET Compétences'!G384,\"\")","v":""},{"$f":"IF('LIVRET Compétences'!H384=$S$2,'LIVRET Compétences'!C384,\"\")","v":""},{"$f":"IF('LIVRET Compétences'!H384=$W$2,'LIVRET Compétences'!I384,\"\")","v":""},{"$f":"IF('LIVRET Compétences'!H384=$W$2,'LIVRET Compétences'!E384,\"\")","v":""},{"$f":"IF('LIVRET Compétences'!H384=$W$2,'LIVRET Compétences'!G384,\"\")","v":""},{"$f":"IF('LIVRET Compétences'!H384=$W$2,'LIVRET Compétences'!C384,\"\")","v":""}]
[null,null,null,null,null,null,null,null,null,null,null,null,null,null,{"$f":"IF('LIVRET Compétences'!H385=$O$2,'LIVRET Compétences'!I385,\"\")","v":""},{"$f":"IF('LIVRET Compétences'!H385=$O$2,'LIVRET Compétences'!E385,\"\")","v":""},{"$f":"IF('LIVRET Compétences'!H385=$O$2,'LIVRET Compétences'!G385,\"\")","v":""},{"$f":"IF('LIVRET Compétences'!H385=$O$2,'LIVRET Compétences'!C385,\"\")","v":""},{"$f":"IF('LIVRET Compétences'!H385=$S$2,'LIVRET Compétences'!I385,\"\")","v":""},{"$f":"IF('LIVRET Compétences'!H385=$S$2,'LIVRET Compétences'!E385,\"\")","v":""},{"$f":"IF('LIVRET Compétences'!H385=$S$2,'LIVRET Compétences'!G385,\"\")","v":""},{"$f":"IF('LIVRET Compétences'!H385=$S$2,'LIVRET Compétences'!C385,\"\")","v":""},{"$f":"IF('LIVRET Compétences'!H385=$W$2,'LIVRET Compétences'!I385,\"\")","v":""},{"$f":"IF('LIVRET Compétences'!H385=$W$2,'LIVRET Compétences'!E385,\"\")","v":""},{"$f":"IF('LIVRET Compétences'!H385=$W$2,'LIVRET Compétences'!G385,\"\")","v":""},{"$f":"IF('LIVRET Compétences'!H385=$W$2,'LIVRET Compétences'!C385,\"\")","v":""}]
[null,null,null,null,null,null,null,null,null,null,null,null,null,null,{"$f":"IF('LIVRET Compétences'!H386=$O$2,'LIVRET Compétences'!I386,\"\")","v":""},{"$f":"IF('LIVRET Compétences'!H386=$O$2,'LIVRET Compétences'!E386,\"\")","v":""},{"$f":"IF('LIVRET Compétences'!H386=$O$2,'LIVRET Compétences'!G386,\"\")","v":""},{"$f":"IF('LIVRET Compétences'!H386=$O$2,'LIVRET Compétences'!C386,\"\")","v":""},{"$f":"IF('LIVRET Compétences'!H386=$S$2,'LIVRET Compétences'!I386,\"\")","v":""},{"$f":"IF('LIVRET Compétences'!H386=$S$2,'LIVRET Compétences'!E386,\"\")","v":""},{"$f":"IF('LIVRET Compétences'!H386=$S$2,'LIVRET Compétences'!G386,\"\")","v":""},{"$f":"IF('LIVRET Compétences'!H386=$S$2,'LIVRET Compétences'!C386,\"\")","v":""},{"$f":"IF('LIVRET Compétences'!H386=$W$2,'LIVRET Compétences'!I386,\"\")","v":""},{"$f":"IF('LIVRET Compétences'!H386=$W$2,'LIVRET Compétences'!E386,\"\")","v":""},{"$f":"IF('LIVRET Compétences'!H386=$W$2,'LIVRET Compétences'!G386,\"\")","v":""},{"$f":"IF('LIVRET Compétences'!H386=$W$2,'LIVRET Compétences'!C386,\"\")","v":""}]
[null,null,null,null,null,null,null,null,null,null,null,null,null,null,{"$f":"IF('LIVRET Compétences'!H387=$O$2,'LIVRET Compétences'!I387,\"\")","v":""},{"$f":"IF('LIVRET Compétences'!H387=$O$2,'LIVRET Compétences'!E387,\"\")","v":""},{"$f":"IF('LIVRET Compétences'!H387=$O$2,'LIVRET Compétences'!G387,\"\")","v":""},{"$f":"IF('LIVRET Compétences'!H387=$O$2,'LIVRET Compétences'!C387,\"\")","v":""},{"$f":"IF('LIVRET Compétences'!H387=$S$2,'LIVRET Compétences'!I387,\"\")","v":""},{"$f":"IF('LIVRET Compétences'!H387=$S$2,'LIVRET Compétences'!E387,\"\")","v":""},{"$f":"IF('LIVRET Compétences'!H387=$S$2,'LIVRET Compétences'!G387,\"\")","v":""},{"$f":"IF('LIVRET Compétences'!H387=$S$2,'LIVRET Compétences'!C387,\"\")","v":""},{"$f":"IF('LIVRET Compétences'!H387=$W$2,'LIVRET Compétences'!I387,\"\")","v":""},{"$f":"IF('LIVRET Compétences'!H387=$W$2,'LIVRET Compétences'!E387,\"\")","v":""},{"$f":"IF('LIVRET Compétences'!H387=$W$2,'LIVRET Compétences'!G387,\"\")","v":""},{"$f":"IF('LIVRET Compétences'!H387=$W$2,'LIVRET Compétences'!C387,\"\")","v":""}]
[null,null,null,null,null,null,null,null,null,null,null,null,null,null,{"$f":"IF('LIVRET Compétences'!H388=$O$2,'LIVRET Compétences'!I388,\"\")","v":""},{"$f":"IF('LIVRET Compétences'!H388=$O$2,'LIVRET Compétences'!E388,\"\")","v":""},{"$f":"IF('LIVRET Compétences'!H388=$O$2,'LIVRET Compétences'!G388,\"\")","v":""},{"$f":"IF('LIVRET Compétences'!H388=$O$2,'LIVRET Compétences'!C388,\"\")","v":""},{"$f":"IF('LIVRET Compétences'!H388=$S$2,'LIVRET Compétences'!I388,\"\")","v":""},{"$f":"IF('LIVRET Compétences'!H388=$S$2,'LIVRET Compétences'!E388,\"\")","v":""},{"$f":"IF('LIVRET Compétences'!H388=$S$2,'LIVRET Compétences'!G388,\"\")","v":""},{"$f":"IF('LIVRET Compétences'!H388=$S$2,'LIVRET Compétences'!C388,\"\")","v":""},{"$f":"IF('LIVRET Compétences'!H388=$W$2,'LIVRET Compétences'!I388,\"\")","v":""},{"$f":"IF('LIVRET Compétences'!H388=$W$2,'LIVRET Compétences'!E388,\"\")","v":""},{"$f":"IF('LIVRET Compétences'!H388=$W$2,'LIVRET Compétences'!G388,\"\")","v":""},{"$f":"IF('LIVRET Compétences'!H388=$W$2,'LIVRET Compétences'!C388,\"\")","v":""}]
[null,null,null,null,null,null,null,null,null,null,null,null,null,null,{"$f":"IF('LIVRET Compétences'!H389=$O$2,'LIVRET Compétences'!I389,\"\")","v":""},{"$f":"IF('LIVRET Compétences'!H389=$O$2,'LIVRET Compétences'!E389,\"\")","v":""},{"$f":"IF('LIVRET Compétences'!H389=$O$2,'LIVRET Compétences'!G389,\"\")","v":""},{"$f":"IF('LIVRET Compétences'!H389=$O$2,'LIVRET Compétences'!C389,\"\")","v":""},{"$f":"IF('LIVRET Compétences'!H389=$S$2,'LIVRET Compétences'!I389,\"\")","v":""},{"$f":"IF('LIVRET Compétences'!H389=$S$2,'LIVRET Compétences'!E389,\"\")","v":""},{"$f":"IF('LIVRET Compétences'!H389=$S$2,'LIVRET Compétences'!G389,\"\")","v":""},{"$f":"IF('LIVRET Compétences'!H389=$S$2,'LIVRET Compétences'!C389,\"\")","v":""},{"$f":"IF('LIVRET Compétences'!H389=$W$2,'LIVRET Compétences'!I389,\"\")","v":""},{"$f":"IF('LIVRET Compétences'!H389=$W$2,'LIVRET Compétences'!E389,\"\")","v":""},{"$f":"IF('LIVRET Compétences'!H389=$W$2,'LIVRET Compétences'!G389,\"\")","v":""},{"$f":"IF('LIVRET Compétences'!H389=$W$2,'LIVRET Compétences'!C389,\"\")","v":""}]
[null,null,null,null,null,null,null,null,null,null,null,null,null,null,{"$f":"IF('LIVRET Compétences'!H390=$O$2,'LIVRET Compétences'!I390,\"\")","v":""},{"$f":"IF('LIVRET Compétences'!H390=$O$2,'LIVRET Compétences'!E390,\"\")","v":""},{"$f":"IF('LIVRET Compétences'!H390=$O$2,'LIVRET Compétences'!G390,\"\")","v":""},{"$f":"IF('LIVRET Compétences'!H390=$O$2,'LIVRET Compétences'!C390,\"\")","v":""},{"$f":"IF('LIVRET Compétences'!H390=$S$2,'LIVRET Compétences'!I390,\"\")","v":""},{"$f":"IF('LIVRET Compétences'!H390=$S$2,'LIVRET Compétences'!E390,\"\")","v":""},{"$f":"IF('LIVRET Compétences'!H390=$S$2,'LIVRET Compétences'!G390,\"\")","v":""},{"$f":"IF('LIVRET Compétences'!H390=$S$2,'LIVRET Compétences'!C390,\"\")","v":""},{"$f":"IF('LIVRET Compétences'!H390=$W$2,'LIVRET Compétences'!I390,\"\")","v":""},{"$f":"IF('LIVRET Compétences'!H390=$W$2,'LIVRET Compétences'!E390,\"\")","v":""},{"$f":"IF('LIVRET Compétences'!H390=$W$2,'LIVRET Compétences'!G390,\"\")","v":""},{"$f":"IF('LIVRET Compétences'!H390=$W$2,'LIVRET Compétences'!C390,\"\")","v":""}]
[null,null,null,null,null,null,null,null,null,null,null,null,null,null,{"$f":"IF('LIVRET Compétences'!H391=$O$2,'LIVRET Compétences'!I391,\"\")","v":""},{"$f":"IF('LIVRET Compétences'!H391=$O$2,'LIVRET Compétences'!E391,\"\")","v":""},{"$f":"IF('LIVRET Compétences'!H391=$O$2,'LIVRET Compétences'!G391,\"\")","v":""},{"$f":"IF('LIVRET Compétences'!H391=$O$2,'LIVRET Compétences'!C391,\"\")","v":""},{"$f":"IF('LIVRET Compétences'!H391=$S$2,'LIVRET Compétences'!I391,\"\")","v":""},{"$f":"IF('LIVRET Compétences'!H391=$S$2,'LIVRET Compétences'!E391,\"\")","v":""},{"$f":"IF('LIVRET Compétences'!H391=$S$2,'LIVRET Compétences'!G391,\"\")","v":""},{"$f":"IF('LIVRET Compétences'!H391=$S$2,'LIVRET Compétences'!C391,\"\")","v":""},{"$f":"IF('LIVRET Compétences'!H391=$W$2,'LIVRET Compétences'!I391,\"\")","v":""},{"$f":"IF('LIVRET Compétences'!H391=$W$2,'LIVRET Compétences'!E391,\"\")","v":""},{"$f":"IF('LIVRET Compétences'!H391=$W$2,'LIVRET Compétences'!G391,\"\")","v":""},{"$f":"IF('LIVRET Compétences'!H391=$W$2,'LIVRET Compétences'!C391,\"\")","v":""}]
[null,null,null,null,null,null,null,null,null,null,null,null,null,null,{"$f":"IF('LIVRET Compétences'!H392=$O$2,'LIVRET Compétences'!I392,\"\")","v":""},{"$f":"IF('LIVRET Compétences'!H392=$O$2,'LIVRET Compétences'!E392,\"\")","v":""},{"$f":"IF('LIVRET Compétences'!H392=$O$2,'LIVRET Compétences'!G392,\"\")","v":""},{"$f":"IF('LIVRET Compétences'!H392=$O$2,'LIVRET Compétences'!C392,\"\")","v":""},{"$f":"IF('LIVRET Compétences'!H392=$S$2,'LIVRET Compétences'!I392,\"\")","v":""},{"$f":"IF('LIVRET Compétences'!H392=$S$2,'LIVRET Compétences'!E392,\"\")","v":""},{"$f":"IF('LIVRET Compétences'!H392=$S$2,'LIVRET Compétences'!G392,\"\")","v":""},{"$f":"IF('LIVRET Compétences'!H392=$S$2,'LIVRET Compétences'!C392,\"\")","v":""},{"$f":"IF('LIVRET Compétences'!H392=$W$2,'LIVRET Compétences'!I392,\"\")","v":""},{"$f":"IF('LIVRET Compétences'!H392=$W$2,'LIVRET Compétences'!E392,\"\")","v":""},{"$f":"IF('LIVRET Compétences'!H392=$W$2,'LIVRET Compétences'!G392,\"\")","v":""},{"$f":"IF('LIVRET Compétences'!H392=$W$2,'LIVRET Compétences'!C392,\"\")","v":""}]

{"sheet":"Programmation","index":4,"n_rows":44,"n_cols":9,"rows_kept":44,"cut":false,"hidden":false,"merged":[[1,2,1,8],[12,2,12,8],[13,0,25,1],[13,2,14,3],[15,2,15,3],[16,2,20,2],[21,2,25,2],[2,2,2,8],[3,0,11,1],[3,2,4,3],[5,2,5,3],[6,2,6,3],[7,2,11,2],[27,0,43,1],[27,2,28,3],[29,2,33,2],[34,2,38,2],[39,2,43,2]]}
[]
[null,null,"3 organisations possibles"]
[]
["POSSIBILITE n°1",null,"Classique",null,"CA 1","CA 2","CA 3","CA 4","CA 5"]
[null,null,null,null,"« Réaliser une performance motrice maximale mesurable à une échéance donnée »","« Adapter son déplacement à des environnements variés et incertains »","« Réaliser une prestation corporelle destinée à être vue et appréciée »","« Conduire et maîtriser un affrontement collectif ou interindividuel pour gagner »","« Réaliser une activité physique pour développer ses ressources et s’entretenir »"]
[null,null,"Secondes"]
[null,null,"Premières"]
[null,null,"Terminales","Menu 1"]
[null,null,null,"Menu 2"]
[null,null,null,"Menu 3"]
[null,null,null,"Menu 4"]
[null,null,null,"Menu 5"]
[]
["POSSIBILITE n°2",null,"Avec menus en 1ère",null,"CA 1","CA 2","CA 3","CA 4","CA 5"]
[null,null,null,null,"« Réaliser une performance motrice maximale mesurable à une échéance donnée »","« Adapter son déplacement à des environnements variés et incertains »","« Réaliser une prestation corporelle destinée à être vue et appréciée »","« Conduire et maîtriser un affrontement collectif ou interindividuel pour gagner »","« Réaliser une activité physique pour développer ses ressources et s’entretenir »"]
[null,null,"Secondes"]
[null,null,"Premières","Menu 1"]
[null,null,null,"Menu 2"]
[null,null,null,"Menu 3"]
[null,null,null,"Menu 4"]
[null,null,null,"Menu 5"]
[null,null,"Terminales","Menu 1"]
[null,null,null,"Menu 2"]
[null,null,null,"Menu 3"]
[null,null,null,"Menu 4"]
[null,null,null,"Menu 5"]
[]
["POSSIBILITE n°3",null,"Avec menus en 2nde et 1ère ",null,"CA 1","CA 2","CA 3","CA 4","CA 5"]
[null,null,null,null,"« Réaliser une performance motrice maximale mesurable à une échéance donnée »","« Adapter son déplacement à des environnements variés et incertains »","« Réaliser une prestation corporelle destinée à être vue et appréciée »","« Conduire et maîtriser un affrontement collectif ou interindividuel pour gagner »","« Réaliser une activité physique pour développer ses ressources et s’entretenir »"]
[null,null,"Secondes","Menu 1","enrn erne enr ener "]
[null,null,null,"Menu 2"]
[null,null,null,"Menu 3"]
[null,null,null,"Menu 4"]
[null,null,null,"Menu 5"]
[null,null,"Premières","Menu 1"]
[null,null,null,"Menu 2"]
[null,null,null,"Menu 3"]
[null,null,null,"Menu 4"]
[null,null,null,"Menu 5"]
[null,null,"Terminales","Menu 1"]
[null,null,null,"Menu 2"]
[null,null,null,"Menu 3"]
[null,null,null,"Menu 4"]
[null,null,null,"Menu 5"]

{"sheet":"Liste APSA","index":5,"n_rows":13,"n_cols":10,"rows_kept":13,"cut":false,"hidden":false,"merged":[[1,3,1,9]]}
[]
[null,null,null,"LISTE DES APSA PAR CHAMPS D'APPRENTISSAGE"]
[]
[null,"CA1",null,"CA2",null,"CA3",null,"CA4",null,"CA5"]
[null,"Courses",null,"Escalade",null,"Danse",null,"Badminton",null,"Course de durée"]
[null,"Sauts",null,"Course d'orientation",null,"Arts du cirque",null,"Tennis de table",null,"Musculation"]
[null,"Lancers",null,"sauvetage aquatique",null,"Gymnastique",null,"Boxe Française",null,"Natation de durée"]
[null,"Natation vitesse",null,"VTT",null,"Acrosport",null,"Judo",null,"Step"]
[null,null,null,"Ski de piste",null,null,null,"Basket-ball",null,"Yoga"]
[null,null,null,null,null,null,null,"Football"]
[null,null,null,null,null,null,null,"Handball"]
[null,null,null,null,null,null,null,"Rugby"]
[null,null,null,null,null,null,null,"Volley-ball"]

{"sheet":"Listes","index":6,"n_rows":16,"n_cols":54,"rows_kept":16,"cut":false,"hidden":false,"merged":[[1,45,1,53],[1,42,1,43],[3,4,3,6],[3,1,3,2],[1,1,1,6],[3,33,3,35],[3,30,3,31],[3,26,3,28],[3,23,3,24],[3,19,3,21],[3,16,3,17],[3,11,3,13],[1,30,1,35],[1,23,1,28],[1,16,1,21],[1,8,1,13]]}
[]
[null,"CHAMPS D'APPRENTISSAGE 1",null,null,null,null,null,null,"CHAMPS D'APPRENTISSAGE 2",null,null,null,null,null,null,null,"CHAMPS D'APPRENTISSAGE 3",null,null,null,null,null,null,"CHAMPS D'APPRENTISSAGE 4",null,null,null,null,null,null,"CHAMPS D'APPRENTISSAGE 5",null,null,null,null,null,null,"NIVEAUX",null,"CHAMPS ","intitulé exact",null,"Objectifs Généraux ",null,null,"Invariants des Objectifs généraux"]
[null,null,null,null,null,null,null,null,null,null,null,null,null,null,null,null,null,null,null,null,null,null,null,null,null,null,null,null,null,null,null,null,null,null,null,null,null,"2nde",null,"CA1","Réaliser une performance motrice maximale mesurable a une échéance donnée"]
[null,"AFL",null,null,"Eléments prio",null,null,null,null,"AFL",null,"Eléments prio",null,null,null,null,"AFL",null,null,"Eléments prio",null,null,null,"AFL",null,null,"Eléments prio",null,null,null,"AFL",null,null,"Eléments prio",null,null,null,"1ère",null,"CA2","Adapter son déplacement à des environnements variés ou incertains"]
[null,null,null,null,null,null,null,null,null,null,null,null,null,null,null,null,null,null,null,null,null,null,null,null,null,null,null,null,null,null,null,null,null,null,null,null,null,"Term",null,"CA3","Réaliser une prestation corporelle destinée à être vue et appréciée"]
[null,"ca1aflnum","CA1_AFL",null,"ca1epnum","ca1_ep",null,null,"ca2aflnum","CA2_AFL",null,"ca2epnum","ca2_ep",null,null,null,"ca3aflnum","CA3_AFL",null,"ca3epnum","ca3_ep",null,null,"ca4aflnum","CA4_AFL",null,"ca4epnum","ca4_ep",null,null,"ca5aflnum","CA5_AFL",null,"ca5epnum","ca5_ep",null,null,null,null,"CA4","Conduire et maîtriser un affrontement collectif ou interindividuel pour gagner",null,"numog","OG",null,"Obj.1",null,"Obj.2",null,"Obj.3",null,"Obj.4",null,"Obj.5"]
[null,"AFL1","AFL1 : S’engager pour produire une performance maximale à l’aide de techniques efficaces, en gérant les efforts musculaires et respiratoires nécessaires et en faisant le meilleur compromis entre l’accroissement de vitesse d’exécution et de précision",null,"EP1","Accroître son efficience motrice par l’acquisition de techniques efficaces et la coordination des actions",null,null,"AFL1","AFL1 : S’engager à l’aide d’une motricité spécifique pour réaliser en sécurité et à son meilleur niveau, un itinéraire dans un contexte incertain",null,"EP1","Comprendre et mettre en oeuvre, seul et/ou à plusieurs, les principes et procédures d’une pratique qui garantit la sécurité de tous",null,null,null,"AFL1.1","AFL1.1 : S’engager pour composer et réaliser un enchaînement à visée esthétique ou acrobatique destiné à être jugé, en combinant des formes corporelles codifiées",null,"EP1","Développer et enrichir une motricité expressive à l’aide de divers paramètres (espace, temps, énergie) pour provoquer une émotion",null,null,"AFL1","AFL1 : S’engager pour gagner une rencontre en faisant des choix techniques et tactiques pertinents au regard de l’analyse du rapport de force",null,"EP1","Réaliser des actions techniques d’attaque et de défense en relation avec son projet et ses choix tactiques",null,null,"AFL1","AFL1 : S'engager pour obtenir les effets recherchés selon son projet personnel, en faisant des choix de paramètres d'entraînement cohérents avec le thème retenu",null,"EP1","Développer une motricité spécifique pour réaliser une séquence de travail dans le respect de son intégrité physique",null,null,null,null,"CA5","Réaliser une activité physique pour développer ses ressources et s’entretenir",null,"Obj.1","Développer sa motricité",null,"APSA diversifiées",null,"Se connaître",null,"Juge arbitre",null,"Construire une image positive de soi (progrès réalisé)",null,"Se situer en tant que pratiquant"]
[null,"AFL2","AFL2 : S’entraîner, individuellement et collectivement, pour réaliser une performance",null,"EP2","Identifier et utiliser des principes mécaniques et ses ressentis (musculaires, respiratoires, émotionnels, psychologiques...) pour transformer efficacement sa motricité",null,null,"AFL2","AFL2 : S’entraîner individuellement et collectivement, pour se déplacer de manière efficiente et en toute sécurité",null,"EP2","Développer des appuis adaptés à l’itinéraire choisi et utiliser les principes mécaniques d’une motricité efficace",null,null,null,"AFL1.2","AFL1.2 : S’engager pour composer et interpréter une chorégraphie collective selon un projet artistique en mobilisant une motricité expressive et des procédés de composition",null,"EP2","Explorer et choisir des procédés de composition au service de la relation avec ses partenaires",null,null,"AFL2","AFL2 : Se préparer et s’entraîner, individuellement ou collectivement, pour conduire et maîtriser un affrontement collectif ou interindividuel",null,"EP2","Identifier les forces et faiblesses de son adversaire pour définir, mettre en oeuvre et réguler un projet tactique",null,null,"AFL2","AFL2 : S’entraîner, individuellement ou collectivement, pour développer ses ressources et s’entretenir en fonction des effets recherchés",null,"EP2","S'appuyer sur les connaissances relatives au corps humain et à l'effort physique pour définir un projet d'entraînement",null,null,null,null,null,null,null,"Obj.2","Savoir se préparer et s'entraîner",null,"APSA approfondies",null,"Faire des choix",null,"Observateur, conseil, aide",null,"Assurer sa sécurité ou celle des autres",null,"Se situer en tant que spectateur/critique"]
[null,"AFL3","AFL3 : Choisir et assumer les rôles qui permettent un fonctionnement collectif solidaire",null,"EP3","Reconnaître et interpréter des sensations corporelles, les relier avec des repères externes pour réguler son effort",null,null,"AFL3","AFL3 : Coopérer pour réaliser un projet de déplacement, en toute sécurité",null,"EP3","Gérer ses efforts en fonction des contraintes du milieu et de ses ressentis (musculaires, respiratoires, émotionnels, psychologiques…) pour réaliser les déplacements",null,null,null,"AFL2","AFL2 : Se préparer et s’engager, individuellement et collectivement, pour s’exprimer devant un public et susciter des émotions",null,"EP3","Assurer différents rôles (interprète, chorégraphe, spectateur, juge, voltigeur, pareur, porteur, meneur…)",null,null,"AFL3","AFL3 : Choisir et assumer les rôles qui permettent un fonctionnement collectif solidaire",null,"EP3","Identifier l’évolution des caractéristiques du rapport de force pour adapter ses actions",null,null,"AFL3","AFL3 : Coopérer pour faire progresser",null,"EP3","Connaître et moduler différents paramètres d’entraînement (intensité, durée, répétition, complexité, charges, récupération...) pour produire et identifier des effets immédiats en lien avec un projet personnel et un thème d’entraînement retenu",null,null,null,null,null,null,null,"Obj.3","Exercer sa responsabilité individuelle au sein d'un collectif",null,null,null,"Se preparer",null,"Partenaire, adversaire",null,"Prendre du plaisir"]
[null,null,null,null,"EP4","Se préparer à un effort spécifique, récupérer",null,null,null,null,null,"EP4","Maintenir un engagement physique tout en restant lucide dans ses choix",null,null,null,"AFL3","AFL3 : Choisir et assumer des rôles au service de la prestation collective",null,"EP4","Gérer la prise de risque dans le choix de ses actions",null,null,null,null,null,"EP4","Adapter son engagement en fonction du rapport de force et de ses ressentis",null,null,null,null,null,"EP4","Choisir quelques paramètres et utiliser ses ressentis (musculaires, respiratoires, émotionnels, psychologiques…) pour personnaliser et réguler une séquence de travail",null,null,null,null,null,null,null,"Obj.4","Construire durablement sa santé",null,null,null,"Conduire et réguler ses efforts"]
[null,null,null,null,"EP5","Répéter et persévérer pour améliorer l’efficacité de ses actions",null,null,null,null,null,"EP5","Se préparer à un effort spécifique, récupérer",null,null,null,null,null,null,"EP5","Choisir, mettre en oeuvre et réguler, seul et à plusieurs, un projet de composition ou d’enchaînement",null,null,null,null,null,"EP5","Répéter et persévérer pour améliorer l’efficacité de ses actions",null,null,null,null,null,"EP5","Se mettre en condition pour s’engager dans l’effort choisi et récupérer de celui-ci",null,null,null,null,null,null,null,"Obj.5","Accéder au patrimoine culturel"]
[null,null,null,null,"EP6","Utiliser différents supports d’observation et d’analyse pour apprécier des prestations",null,null,null,null,null,"EP6","Choisir, mettre en oeuvre et réguler un projet de déplacement",null,null,null,null,null,null,"EP6","Utiliser différents supports d’observation et d’analyse pour apprécier des prestations et définir des pistes d’amélioration",null,null,null,null,null,"EP6","Utiliser différents supports d’observation et d’analyse pour apprécier des prestations et l’état du rapport de force entre deux équipes ou deux adversaires",null,null,null,null,null,"EP6","Choisir, réaliser et réguler un projet d’entraînement définissant les ressources à mobiliser, en lien avec les effets recherchés"]
[null,null,null,null,"EP7","Choisir, mettre en oeuvre et réguler un projet individuel et/ou collectif de performance",null,null,null,null,null,"EP7","Utiliser différents supports d’observation et d’analyse pour apprécier des prestations",null,null,null,null,null,null,"EP7","Se préparer, se concentrer pour se produire devant un public",null,null,null,null,null,"EP7","Accepter la défaite, gagner avec humilité",null,null,null,null,null,"EP7","Répéter et persévérer pour améliorer l’efficacité de ses actions"]
[null,null,null,null,"EP8","Assumer des rôles d’organisateur, de coach et d’entraîneur pour performer collectivement",null,null,null,null,null,"EP8","Répéter et persévérer pour améliorer l’efficacité de ses actions",null,null,null,null,null,null,"EP8","Maîtriser la réalisation individuelle de sa prestation pour la mettre au service de la production collective",null,null,null,null,null,"EP8","Etre solidaire de ses partenaires",null,null,null,null,null,"EP8","Assumer différents rôles sociaux (aide, parade, coach, observateur) liés à la pratique"]
[null,null,null,null,null,null,null,null,null,null,null,"EP9","S’entraider pour donner confiance",null,null,null,null,null,null,"EP9","Répéter et persévérer pour améliorer l’efficacité de ses actions",null,null,null,null,null,"EP9","Assurer différents rôles (partenaire, adversaire, arbitre, coach, observateur)",null,null,null,null,null,"EP9","Utiliser un carnet d’entraînement afin de suivre et réguler son plan de travail"]
[null,null,null,null,null,null,null,null,null,null,null,"EP10","Sélectionner et prendre en compte les informations utiles pour définir son itinéraire",null,null,null,null,null,null,null,null,null,null,null,null,null,"EP10","Connaître, respecter et faire respecter les règles"]